Back to Multiple platform build/check report for BioC 3.20:   simplified   long
AB[C]DEFGHIJKLMNOPQRSTUVWXYZ

This page was generated on 2025-01-30 12:11 -0500 (Thu, 30 Jan 2025).

HostnameOSArch (*)R versionInstalled pkgs
nebbiolo2Linux (Ubuntu 24.04.1 LTS)x86_644.4.2 (2024-10-31) -- "Pile of Leaves" 4746
palomino8Windows Server 2022 Datacenterx644.4.2 (2024-10-31 ucrt) -- "Pile of Leaves" 4494
merida1macOS 12.7.5 Montereyx86_644.4.2 (2024-10-31) -- "Pile of Leaves" 4517
kjohnson1macOS 13.6.6 Venturaarm644.4.2 (2024-10-31) -- "Pile of Leaves" 4469
taishanLinux (openEuler 24.03 LTS)aarch644.4.2 (2024-10-31) -- "Pile of Leaves" 4400
Click on any hostname to see more info about the system (e.g. compilers)      (*) as reported by 'uname -p', except on Windows and Mac OS X

Package 266/2289HostnameOS / ArchINSTALLBUILDCHECKBUILD BIN
CAGEr 2.12.0  (landing page)
Charles Plessy
Snapshot Date: 2025-01-27 13:00 -0500 (Mon, 27 Jan 2025)
git_url: https://git.bioconductor.org/packages/CAGEr
git_branch: RELEASE_3_20
git_last_commit: 492797d
git_last_commit_date: 2024-10-29 09:44:43 -0500 (Tue, 29 Oct 2024)
nebbiolo2Linux (Ubuntu 24.04.1 LTS) / x86_64  OK    OK    OK  UNNEEDED, same version is already published
palomino8Windows Server 2022 Datacenter / x64  OK    OK    OK    OK  UNNEEDED, same version is already published
merida1macOS 12.7.5 Monterey / x86_64  OK    OK    OK    OK  UNNEEDED, same version is already published
kjohnson1macOS 13.6.6 Ventura / arm64  OK    OK    OK    OK  UNNEEDED, same version is already published
taishanLinux (openEuler 24.03 LTS) / aarch64  OK    OK    OK  


CHECK results for CAGEr on taishan

To the developers/maintainers of the CAGEr package:
- Allow up to 24 hours (and sometimes 48 hours) for your latest push to git@git.bioconductor.org:packages/CAGEr.git to reflect on this report. See Troubleshooting Build Report for more information.
- Use the following Renviron settings to reproduce errors and warnings.
- If 'R CMD check' started to fail recently on the Linux builder(s) over a missing dependency, add the missing dependency to 'Suggests:' in your DESCRIPTION file. See Renviron.bioc for more information.
- See Martin Grigorov's blog post for how to debug Linux ARM64 related issues on a x86_64 host.

raw results


Summary

Package: CAGEr
Version: 2.12.0
Command: /home/biocbuild/R/R/bin/R CMD check --install=check:CAGEr.install-out.txt --library=/home/biocbuild/R/R/site-library --no-vignettes --timings CAGEr_2.12.0.tar.gz
StartedAt: 2025-01-28 05:26:45 -0000 (Tue, 28 Jan 2025)
EndedAt: 2025-01-28 05:39:33 -0000 (Tue, 28 Jan 2025)
EllapsedTime: 767.5 seconds
RetCode: 0
Status:   OK  
CheckDir: CAGEr.Rcheck
Warnings: 0

Command output

##############################################################################
##############################################################################
###
### Running command:
###
###   /home/biocbuild/R/R/bin/R CMD check --install=check:CAGEr.install-out.txt --library=/home/biocbuild/R/R/site-library --no-vignettes --timings CAGEr_2.12.0.tar.gz
###
##############################################################################
##############################################################################


* using log directory ‘/home/biocbuild/bbs-3.20-bioc/meat/CAGEr.Rcheck’
* using R version 4.4.2 (2024-10-31)
* using platform: aarch64-unknown-linux-gnu
* R was compiled by
    aarch64-unknown-linux-gnu-gcc (GCC) 14.2.0
    GNU Fortran (GCC) 12.3.1 (openEuler 12.3.1-36.oe2403)
* running under: openEuler 24.03 (LTS)
* using session charset: UTF-8
* using option ‘--no-vignettes’
* checking for file ‘CAGEr/DESCRIPTION’ ... OK
* this is package ‘CAGEr’ version ‘2.12.0’
* package encoding: UTF-8
* checking package namespace information ... OK
* checking package dependencies ... OK
* checking if this is a source package ... OK
* checking if there is a namespace ... OK
* checking for hidden files and directories ... OK
* checking for portable file names ... OK
* checking for sufficient/correct file permissions ... OK
* checking whether package ‘CAGEr’ can be installed ... OK
* checking installed package size ... OK
* checking package directory ... OK
* checking ‘build’ directory ... OK
* checking DESCRIPTION meta-information ... OK
* checking top-level files ... OK
* checking for left-over files ... OK
* checking index information ... OK
* checking package subdirectories ... OK
* checking code files for non-ASCII characters ... OK
* checking R files for syntax errors ... OK
* checking whether the package can be loaded ... OK
* checking whether the package can be loaded with stated dependencies ... OK
* checking whether the package can be unloaded cleanly ... OK
* checking whether the namespace can be loaded with stated dependencies ... OK
* checking whether the namespace can be unloaded cleanly ... OK
* checking loading without being on the library search path ... OK
* checking dependencies in R code ... OK
* checking S3 generic/method consistency ... OK
* checking replacement functions ... OK
* checking foreign function calls ... OK
* checking R code for possible problems ... OK
* checking Rd files ... OK
* checking Rd metadata ... OK
* checking Rd cross-references ... OK
* checking for missing documentation entries ... OK
* checking for code/documentation mismatches ... OK
* checking Rd \usage sections ... OK
* checking Rd contents ... OK
* checking for unstated dependencies in examples ... OK
* checking contents of ‘data’ directory ... OK
* checking data for non-ASCII characters ... OK
* checking LazyData ... OK
* checking data for ASCII and uncompressed saves ... OK
* checking files in ‘vignettes’ ... OK
* checking examples ... OK
Examples with CPU (user + system) or elapsed time > 5s
                             user system elapsed
paraclu                    71.411  0.279  71.894
exportToTrack              56.179  0.175  56.512
aggregateTagClusters       30.215  0.064  30.366
scoreShift                 25.878  0.244  26.191
quantilePositions          19.963  0.024  20.042
annotateCTSS               18.624  0.056  18.730
distclu                    14.687  0.088  14.819
plotExpressionProfiles     11.916  0.175  12.125
getExpressionProfiles       7.775  0.048   7.847
CustomConsensusClusters     7.530  0.000   7.555
cumulativeCTSSdistribution  5.317  0.052   5.386
* checking for unstated dependencies in vignettes ... OK
* checking package vignettes ... OK
* checking running R code from vignettes ... SKIPPED
* checking re-building of vignette outputs ... SKIPPED
* checking PDF version of manual ... OK
* DONE

Status: OK


Installation output

CAGEr.Rcheck/00install.out

##############################################################################
##############################################################################
###
### Running command:
###
###   /home/biocbuild/R/R/bin/R CMD INSTALL CAGEr
###
##############################################################################
##############################################################################


* installing to library ‘/home/biocbuild/R/R-4.4.2/site-library’
* installing *source* package ‘CAGEr’ ...
** using staged installation
** R
** data
*** moving datasets to lazyload DB
** inst
** byte-compile and prepare package for lazy loading
** help
*** installing help indices
** building package indices
** installing vignettes
** testing if installed package can be loaded from temporary location
** testing if installed package can be loaded from final location
** testing if installed package keeps a record of temporary installation path
* DONE (CAGEr)

Tests output


Example timings

CAGEr.Rcheck/CAGEr-Ex.timings

nameusersystemelapsed
CAGEexp-class3.5280.0403.608
CAGEr_Multicore3.1460.0003.154
CTSS-class0.3690.0000.371
CTSScoordinates0.1170.0000.117
CTSSnormalizedTpm1.0330.0521.088
CTSStagCount0.9330.0801.016
CTSStoGenes0.5310.0230.557
CustomConsensusClusters7.5300.0007.555
GeneExpDESeq20.6840.0000.686
GeneExpSE0.0060.0000.006
QuantileWidthFunctions0.2130.0000.214
TSSlogo3.7020.0313.766
aggregateTagClusters30.215 0.06430.366
annotateCTSS18.624 0.05618.730
byCtss0.0190.0000.020
consensusClusters0.2150.0000.215
consensusClustersDESeq23.2370.0043.250
consensusClustersTpm0.0070.0000.007
cumulativeCTSSdistribution5.3170.0525.386
distclu14.687 0.08814.819
dot-ctss_summary_for_clusters1.3340.0041.342
exampleCAGEexp000
exportToTrack56.179 0.17556.512
expressionClasses3.0830.0083.100
filteredCTSSidx0.0130.0000.013
flagLowExpCTSS0.0490.0000.049
genomeName0.0010.0000.000
getCTSS1.3830.0041.392
getExpressionProfiles7.7750.0487.847
getShiftingPromoters3.0030.0003.013
hanabi0.3230.0000.324
hanabiPlot0.4090.0160.426
import.CAGEscanMolecule000
import.CTSS0.1230.0000.123
import.bam000
import.bedCTSS000
import.bedScore000
import.bedmolecule000
importPublicData000
inputFiles0.0020.0000.002
inputFilesType0.0010.0000.002
librarySizes0.0020.0000.002
mapStats0.0630.0160.078
mergeCAGEsets2.8970.0762.982
mergeSamples0.6870.0000.689
moleculesGR2CTSS0.1770.0040.181
normalizeTagCount0.6450.0000.644
paraclu71.411 0.27971.894
parseCAGEscanBlocksToGrangeTSS0.0320.0000.032
plotAnnot3.1910.0163.216
plotCorrelation0.3710.0000.372
plotExpressionProfiles11.916 0.17512.125
plotInterquantileWidth2.9780.0002.985
plotReverseCumulatives3.3230.0043.325
quantilePositions19.963 0.02420.042
quickEnhancers0.0000.0000.001
ranges2annot0.4960.0000.497
ranges2genes0.0820.0000.081
ranges2names0.0710.0070.079
resetCAGEexp0.4960.0000.497
rowSums.RleDataFrame0.0280.0000.027
rowsum.RleDataFrame0.0320.0000.033
sampleLabels0.0050.0000.005
scoreShift25.878 0.24426.191
seqNameTotalsSE0.0050.0000.005
setColors0.4080.0000.409
strandInvaders0.7890.0320.820
summariseChrExpr0.5480.0160.565
tagClusters0.5650.0000.566