wateRmelon 1.10.0 Leo
 | Snapshot Date: 2015-10-26 19:24:07 -0400 (Mon, 26 Oct 2015) |  | URL: https://hedgehog.fhcrc.org/bioconductor/branches/RELEASE_3_2/madman/Rpacks/wateRmelon |  | Last Changed Rev: 109589 / Revision: 109947 |  | Last Changed Date: 2015-10-13 15:36:05 -0400 (Tue, 13 Oct 2015) |  
  | linux1.bioconductor.org  | Linux (Ubuntu 14.04.2 LTS) / x86_64  |  OK  |  OK  |  WARNINGS  |  |   | 
| windows1.bioconductor.org  | Windows Server 2012 R2 Enterprise SP1 (64-bit) / x64  |  OK  |  OK  |  WARNINGS  | [ OK ] |   | 
| perceval  | Mac OS X Snow Leopard (10.6.8) / x86_64  |  OK  |  OK  |  WARNINGS  |  OK  |   | 
| oaxaca  | Mac OS X Mavericks (10.9.5) / x86_64  |  OK  |  OK  |  WARNINGS  |  OK  |   | 
##############################################################################
##############################################################################
###
### Running command:
###
###   cd wateRmelon.buildbin-libdir/wateRmelon && zip -r ../../wateRmelon_1.10.0.zip . & cd ../..
###
##############################################################################
##############################################################################
  adding: CITATION (188 bytes security) (deflated 29%)
  adding: data/ (208 bytes security) (stored 0%)
  adding: data/iDMR.rda (188 bytes security) (stored 0%)
  adding: data/melon.rda (188 bytes security) (deflated 0%)
  adding: DESCRIPTION (188 bytes security) (deflated 49%)
  adding: doc/ (208 bytes security) (stored 0%)
  adding: doc/index.html (188 bytes security) (deflated 59%)
  adding: doc/wateRmelon.pdf (188 bytes security) (deflated 1%)
  adding: doc/wateRmelon.R (188 bytes security) (deflated 76%)
  adding: doc/wateRmelon.Rnw (188 bytes security) (deflated 59%)
  adding: help/ (208 bytes security) (stored 0%)
  adding: help/aliases.rds (188 bytes security) (stored 0%)
  adding: help/AnIndex (188 bytes security) (deflated 81%)
  adding: help/paths.rds (188 bytes security) (stored 0%)
  adding: help/wateRmelon.rdb (188 bytes security) (deflated 1%)
  adding: help/wateRmelon.rdx (188 bytes security) (stored 0%)
  adding: html/ (208 bytes security) (stored 0%)
  adding: html/00Index.html (188 bytes security) (deflated 89%)
  adding: html/R.css (188 bytes security) (deflated 75%)
  adding: INDEX (188 bytes security) (deflated 74%)
  adding: MD5 (188 bytes security) (deflated 43%)
  adding: Meta/ (208 bytes security) (stored 0%)
  adding: Meta/data.rds (188 bytes security) (stored 0%)
  adding: Meta/hsearch.rds (188 bytes security) (stored 0%)
  adding: Meta/links.rds (188 bytes security) (stored 0%)
  adding: Meta/nsInfo.rds (188 bytes security) (stored 0%)
  adding: Meta/package.rds (188 bytes security) (stored 0%)
  adding: Meta/Rd.rds (188 bytes security) (stored 0%)
  adding: Meta/vignette.rds (188 bytes security) (stored 0%)
  adding: NAMESPACE (188 bytes security) (deflated 41%)
  adding: NEWS (188 bytes security) (deflated 48%)
  adding: R/ (208 bytes security) (stored 0%)
  adding: R/wateRmelon (188 bytes security) (deflated 41%)
  adding: R/wateRmelon.rdb (188 bytes security) (deflated 39%)
  adding: R/wateRmelon.rdx (188 bytes security) (deflated 1%)