wateRmelon 1.10.0 Leo
 | Snapshot Date: 2015-10-26 19:24:07 -0400 (Mon, 26 Oct 2015) |  | URL: https://hedgehog.fhcrc.org/bioconductor/branches/RELEASE_3_2/madman/Rpacks/wateRmelon |  | Last Changed Rev: 109589 / Revision: 109947 |  | Last Changed Date: 2015-10-13 15:36:05 -0400 (Tue, 13 Oct 2015) |  
  | linux1.bioconductor.org  | Linux (Ubuntu 14.04.2 LTS) / x86_64  | [ OK ] |  OK  |  WARNINGS  |  |   | 
| windows1.bioconductor.org  | Windows Server 2012 R2 Enterprise SP1 (64-bit) / x64  |  OK  |  OK  |  WARNINGS  |  OK  |   | 
| perceval  | Mac OS X Snow Leopard (10.6.8) / x86_64  |  OK  |  OK  |  WARNINGS  |  OK  |   | 
| oaxaca  | Mac OS X Mavericks (10.9.5) / x86_64  |  OK  |  OK  |  WARNINGS  |  OK  |   | 
##############################################################################
##############################################################################
###
### Running command:
###
###   /home/biocbuild/bbs-3.2-bioc/R/bin/R CMD INSTALL wateRmelon
###
##############################################################################
##############################################################################
* installing to library ‘/home/biocbuild/bbs-3.2-bioc/R/library’
* installing *source* package ‘wateRmelon’ ...
** R
** data
** inst
** preparing package for lazy loading
Creating a generic function from function ‘as.methylumi’ in package ‘wateRmelon’
in method for ‘betaqn’ with signature ‘bn="exprmethy450"’: no definition for class “exprmethy450”
in method for ‘fuks’ with signature ‘data="exprmethy450"’: no definition for class “exprmethy450”
in method for ‘genki’ with signature ‘bn="exprmethy450"’: no definition for class “exprmethy450”
in method for ‘dmrse’ with signature ‘betas="exprmethy450"’: no definition for class “exprmethy450”
in method for ‘dmrse_row’ with signature ‘betas="exprmethy450"’: no definition for class “exprmethy450”
in method for ‘dmrse_col’ with signature ‘betas="exprmethy450"’: no definition for class “exprmethy450”
in method for ‘seabi’ with signature ‘bn="exprmethy450"’: no definition for class “exprmethy450”
** help
*** installing help indices
** building package indices
** installing vignettes
   ‘wateRmelon.Rnw’ 
** testing if installed package can be loaded
* DONE (wateRmelon)