qusage 2.2.2 Christopher Bolen
 | Snapshot Date: 2016-04-22 16:20:12 -0700 (Fri, 22 Apr 2016) |  | URL: https://hedgehog.fhcrc.org/bioconductor/branches/RELEASE_3_2/madman/Rpacks/qusage |  | Last Changed Rev: 114896 / Revision: 116712 |  | Last Changed Date: 2016-03-16 16:56:57 -0700 (Wed, 16 Mar 2016) |  
  | zin1  | Linux (Ubuntu 14.04.2 LTS) / x86_64  |  OK  |  OK  |  OK  |  |   | 
| moscato1  | Windows Server 2008 R2 Standard (64-bit) / x64  | [ OK ] |  OK  |  OK  |  OK  |   | 
| oaxaca  | Mac OS X Mavericks (10.9.5) / x86_64  |  OK  |  OK  |  OK  |  OK  |   | 
##############################################################################
##############################################################################
###
### Running command:
###
###   rm -rf qusage.buildbin-libdir && mkdir qusage.buildbin-libdir  && C:\cygwin\bin\curl.exe -O http://zin1/BBS/3.2/bioc/src/contrib/qusage_2.2.2.tar.gz && D:\biocbld\bbs-3.2-bioc\R\bin\R.exe CMD INSTALL --build --library=qusage.buildbin-libdir --merge-multiarch qusage_2.2.2.tar.gz && D:\biocbld\bbs-3.2-bioc\R\bin\R.exe CMD INSTALL qusage_2.2.2.zip  && rm qusage_2.2.2.tar.gz qusage_2.2.2.zip
###
##############################################################################
##############################################################################
  % Total    % Received % Xferd  Average Speed   Time    Time     Time  Current
                                 Dload  Upload   Total   Spent    Left  Speed
  0     0    0     0    0     0      0      0 --:--:-- --:--:-- --:--:--     0
100 8780k  100 8780k    0     0  76.6M      0 --:--:-- --:--:-- --:--:-- 79.3M
install for i386
* installing *source* package 'qusage' ...
** R
** data
** inst
** preparing package for lazy loading
Creating a generic function for 'head' from package 'utils' in package 'qusage'
Creating a generic function for 'summary' from package 'base' in package 'qusage'
** help
*** installing help indices
** building package indices
** installing vignettes
   'qusage.Rnw' 
** testing if installed package can be loaded
install for x64
* installing *source* package 'qusage' ...
** testing if installed package can be loaded
* MD5 sums
packaged installation of 'qusage' as qusage_2.2.2.zip
* DONE (qusage)
* installing to library 'D:/biocbld/bbs-3.2-bioc/R/library'
package 'qusage' successfully unpacked and MD5 sums checked