qusage 2.2.2 Christopher Bolen
 | Snapshot Date: 2016-04-22 16:20:12 -0700 (Fri, 22 Apr 2016) |  | URL: https://hedgehog.fhcrc.org/bioconductor/branches/RELEASE_3_2/madman/Rpacks/qusage |  | Last Changed Rev: 114896 / Revision: 116712 |  | Last Changed Date: 2016-03-16 16:56:57 -0700 (Wed, 16 Mar 2016) |  
  | zin1  | Linux (Ubuntu 14.04.2 LTS) / x86_64  |  OK  |  OK  |  OK  |  |   | 
| moscato1  | Windows Server 2008 R2 Standard (64-bit) / x64  |  OK  |  OK  |  OK  | [ OK ] |   | 
| oaxaca  | Mac OS X Mavericks (10.9.5) / x86_64  |  OK  |  OK  |  OK  |  OK  |   | 
##############################################################################
##############################################################################
###
### Running command:
###
###   cd qusage.buildbin-libdir/qusage && zip -r ../../qusage_2.2.2.zip . & cd ../..
###
##############################################################################
##############################################################################
  adding: CITATION (188 bytes security) (deflated 52%)
  adding: data/ (208 bytes security) (stored 0%)
  adding: data/datalist (188 bytes security) (deflated 30%)
  adding: data/fluExample.RData (188 bytes security) (deflated 0%)
  adding: data/fluVaccine.RData (188 bytes security) (deflated 0%)
  adding: data/GeneSets.RData (188 bytes security) (deflated 0%)
  adding: DESCRIPTION (188 bytes security) (deflated 53%)
  adding: doc/ (208 bytes security) (stored 0%)
  adding: doc/index.html (188 bytes security) (deflated 58%)
  adding: doc/qusage.pdf (188 bytes security) (deflated 16%)
  adding: doc/qusage.R (188 bytes security) (deflated 83%)
  adding: doc/qusage.Rnw (188 bytes security) (deflated 70%)
  adding: help/ (208 bytes security) (stored 0%)
  adding: help/aliases.rds (188 bytes security) (stored 0%)
  adding: help/AnIndex (188 bytes security) (deflated 65%)
  adding: help/paths.rds (188 bytes security) (stored 0%)
  adding: help/qusage.rdb (188 bytes security) (deflated 1%)
  adding: help/qusage.rdx (188 bytes security) (stored 0%)
  adding: html/ (208 bytes security) (stored 0%)
  adding: html/00Index.html (188 bytes security) (deflated 76%)
  adding: html/R.css (188 bytes security) (deflated 75%)
  adding: INDEX (188 bytes security) (deflated 59%)
  adding: MD5 (188 bytes security) (deflated 42%)
  adding: Meta/ (208 bytes security) (stored 0%)
  adding: Meta/data.rds (188 bytes security) (stored 0%)
  adding: Meta/hsearch.rds (188 bytes security) (stored 0%)
  adding: Meta/links.rds (188 bytes security) (stored 0%)
  adding: Meta/nsInfo.rds (188 bytes security) (stored 0%)
  adding: Meta/package.rds (188 bytes security) (stored 0%)
  adding: Meta/Rd.rds (188 bytes security) (stored 0%)
  adding: Meta/vignette.rds (188 bytes security) (stored 0%)
  adding: NAMESPACE (188 bytes security) (deflated 55%)
  adding: R/ (208 bytes security) (stored 0%)
  adding: R/qusage (188 bytes security) (deflated 41%)
  adding: R/qusage.rdb (188 bytes security) (deflated 21%)
  adding: R/qusage.rdx (188 bytes security) (stored 0%)