Back to the "Multiple platform build/check report" A  B  C  D  E  F  G  H  I  J  K  L  M  N [O] P  Q  R  S  T  U  V  W  X  Y  Z 

BioC 3.2: CHECK report for ontoCAT on perceval

This page was generated on 2015-10-27 17:34:21 -0400 (Tue, 27 Oct 2015).

Package 730/1104HostnameOS / ArchINSTALLBUILDCHECKBUILD BIN
ontoCAT 1.22.0
Natalja Kurbatova
Snapshot Date: 2015-10-26 19:24:07 -0400 (Mon, 26 Oct 2015)
URL: https://hedgehog.fhcrc.org/bioconductor/branches/RELEASE_3_2/madman/Rpacks/ontoCAT
Last Changed Rev: 109589 / Revision: 109947
Last Changed Date: 2015-10-13 15:36:05 -0400 (Tue, 13 Oct 2015)
linux1.bioconductor.org Linux (Ubuntu 14.04.2 LTS) / x86_64  OK  OK  OK UNNEEDED, same version exists in internal repository
windows1.bioconductor.org Windows Server 2012 R2 Enterprise SP1 (64-bit) / x64  OK  OK  OK  OK UNNEEDED, same version exists in internal repository
perceval Mac OS X Snow Leopard (10.6.8) / x86_64  OK  OK [ OK ] OK UNNEEDED, same version exists in internal repository
oaxaca Mac OS X Mavericks (10.9.5) / x86_64  OK  OK  OK  OK UNNEEDED, same version exists in internal repository

Summary

Package: ontoCAT
Version: 1.22.0
Command: /Library/Frameworks/R.framework/Versions/Current/Resources/bin/R CMD check --no-vignettes --timings ontoCAT_1.22.0.tar.gz
StartedAt: 2015-10-27 10:38:01 -0400 (Tue, 27 Oct 2015)
EndedAt: 2015-10-27 10:40:28 -0400 (Tue, 27 Oct 2015)
EllapsedTime: 147.7 seconds
RetCode: 0
Status:  OK 
CheckDir: ontoCAT.Rcheck
Warnings: 0

Command output

##############################################################################
##############################################################################
###
### Running command:
###
###   /Library/Frameworks/R.framework/Versions/Current/Resources/bin/R CMD check --no-vignettes --timings ontoCAT_1.22.0.tar.gz
###
##############################################################################
##############################################################################


* using log directory ‘/Users/biocbuild/bbs-3.2-bioc/meat/ontoCAT.Rcheck’
* using R version 3.2.2 Patched (2015-10-08 r69496)
* using platform: x86_64-apple-darwin10.8.0 (64-bit)
* using session charset: UTF-8
* using option ‘--no-vignettes’
* checking for file ‘ontoCAT/DESCRIPTION’ ... OK
* checking extension type ... Package
* this is package ‘ontoCAT’ version ‘1.22.0’
* checking package namespace information ... OK
* checking package dependencies ... OK
* checking if this is a source package ... OK
* checking if there is a namespace ... OK
* checking for hidden files and directories ... OK
* checking for portable file names ... OK
* checking for sufficient/correct file permissions ... OK
* checking whether package ‘ontoCAT’ can be installed ... [3s/5s] OK
* checking installed package size ... OK
* checking package directory ... OK
* checking ‘build’ directory ... OK
* checking DESCRIPTION meta-information ... OK
* checking top-level files ... NOTE
File
  LICENSE
is not mentioned in the DESCRIPTION file.
* checking for left-over files ... OK
* checking index information ... OK
* checking package subdirectories ... OK
* checking R files for non-ASCII characters ... OK
* checking R files for syntax errors ... OK
* checking whether the package can be loaded ... OK
* checking whether the package can be loaded with stated dependencies ... OK
* checking whether the package can be unloaded cleanly ... OK
* checking whether the namespace can be loaded with stated dependencies ... OK
* checking whether the namespace can be unloaded cleanly ... OK
* checking dependencies in R code ... OK
* checking S3 generic/method consistency ... OK
* checking replacement functions ... OK
* checking foreign function calls ... OK
* checking R code for possible problems ... OK
* checking Rd files ... OK
* checking Rd metadata ... OK
* checking Rd cross-references ... OK
* checking for missing documentation entries ... OK
* checking for code/documentation mismatches ... OK
* checking Rd \usage sections ... OK
* checking Rd contents ... OK
* checking for unstated dependencies in examples ... OK
* checking sizes of PDF files under ‘inst/doc’ ... OK
* checking installed files from ‘inst/doc’ ... OK
* checking files in ‘vignettes’ ... OK
* checking examples ... [159s/109s] OK
Examples with CPU or elapsed time > 5s
                          user system elapsed
Ontology-class          83.963  2.229  47.469
getEFO                  11.509  0.279   8.997
showHierarchyDownToTerm  9.491  0.209   8.952
getEFOBranchRootIds      6.195  0.170   5.238
getAllTerms              6.054  0.093   5.554
getRootIds               5.643  0.114   4.659
* checking for unstated dependencies in vignettes ... OK
* checking package vignettes in ‘inst/doc’ ... OK
* checking running R code from vignettes ... SKIPPED
* checking re-building of vignette outputs ... SKIPPED
* checking PDF version of manual ... OK
* DONE

Status: 1 NOTE
See
  ‘/Users/biocbuild/bbs-3.2-bioc/meat/ontoCAT.Rcheck/00check.log’
for details.


ontoCAT.Rcheck/00install.out:

* installing *source* package ‘ontoCAT’ ...
** R
** inst
** preparing package for lazy loading
** help
*** installing help indices
** building package indices
** installing vignettes
** testing if installed package can be loaded
* DONE (ontoCAT)

ontoCAT.Rcheck/ontoCAT-Ex.timings:

nameusersystemelapsed
Ontology-class83.963 2.22947.469
OntologyTerm-class0.0150.0000.016
getAccession0.0080.0000.008
getAllTermChildren0.0190.0000.019
getAllTermIds3.5060.0412.810
getAllTermParents0.0380.0010.038
getAllTerms6.0540.0935.554
getEFO11.509 0.279 8.997
getEFOBranchRootIds6.1950.1705.238
getLabel0.0090.0000.009
getOntology4.3630.0542.791
getOntologyAccession0.0080.0000.004
getOntologyDescription0.0040.0000.004
getRootIds5.6430.1144.659
getRoots4.7290.1044.445
getTermAndAllChildren0.0260.0000.026
getTermById0.0110.0010.011
getTermChildren0.0220.0000.023
getTermDefinitions0.0200.0010.020
getTermNameById0.0050.0000.005
getTermParents0.0220.0000.023
getTermSynonyms0.0470.0000.048
hasTerm0.0060.0000.006
isEFOBranchRoot0.010.000.01
isRoot4.6800.0994.428
ontoCAT-package0.2390.0120.127
searchTerm4.1810.0883.493
searchTermPrefix4.2690.0873.594
showHierarchyDownToTerm9.4910.2098.952
showPathsToTerm4.5520.0984.285