Back to the "Multiple platform build/check report" A  B  C  D  E  F  G  H  I  J  K  L  M  N [O] P  Q  R  S  T  U  V  W  X  Y  Z 

BioC 3.2: CHECK report for ontoCAT on linux1.bioconductor.org

This page was generated on 2015-10-27 17:24:43 -0400 (Tue, 27 Oct 2015).

Package 730/1104HostnameOS / ArchINSTALLBUILDCHECKBUILD BIN
ontoCAT 1.22.0
Natalja Kurbatova
Snapshot Date: 2015-10-26 19:24:07 -0400 (Mon, 26 Oct 2015)
URL: https://hedgehog.fhcrc.org/bioconductor/branches/RELEASE_3_2/madman/Rpacks/ontoCAT
Last Changed Rev: 109589 / Revision: 109947
Last Changed Date: 2015-10-13 15:36:05 -0400 (Tue, 13 Oct 2015)
linux1.bioconductor.org Linux (Ubuntu 14.04.2 LTS) / x86_64  OK  OK [ OK ]UNNEEDED, same version exists in internal repository
windows1.bioconductor.org Windows Server 2012 R2 Enterprise SP1 (64-bit) / x64  OK  OK  OK  OK UNNEEDED, same version exists in internal repository
perceval Mac OS X Snow Leopard (10.6.8) / x86_64  OK  OK  OK  OK UNNEEDED, same version exists in internal repository
oaxaca Mac OS X Mavericks (10.9.5) / x86_64  OK  OK  OK  OK UNNEEDED, same version exists in internal repository

Summary

Package: ontoCAT
Version: 1.22.0
Command: /home/biocbuild/bbs-3.2-bioc/R/bin/R CMD check --no-vignettes --timings ontoCAT_1.22.0.tar.gz
StartedAt: 2015-10-27 06:25:56 -0400 (Tue, 27 Oct 2015)
EndedAt: 2015-10-27 06:27:43 -0400 (Tue, 27 Oct 2015)
EllapsedTime: 107.2 seconds
RetCode: 0
Status:  OK 
CheckDir: ontoCAT.Rcheck
Warnings: 0

Command output

##############################################################################
##############################################################################
###
### Running command:
###
###   /home/biocbuild/bbs-3.2-bioc/R/bin/R CMD check --no-vignettes --timings ontoCAT_1.22.0.tar.gz
###
##############################################################################
##############################################################################


* using log directory ‘/home/biocbuild/bbs-3.2-bioc/meat/ontoCAT.Rcheck’
* using R version 3.2.2 (2015-08-14)
* using platform: x86_64-pc-linux-gnu (64-bit)
* using session charset: UTF-8
* using option ‘--no-vignettes’
* checking for file ‘ontoCAT/DESCRIPTION’ ... OK
* checking extension type ... Package
* this is package ‘ontoCAT’ version ‘1.22.0’
* checking package namespace information ... OK
* checking package dependencies ... OK
* checking if this is a source package ... OK
* checking if there is a namespace ... OK
* checking for hidden files and directories ... OK
* checking for portable file names ... OK
* checking for sufficient/correct file permissions ... OK
* checking whether package ‘ontoCAT’ can be installed ... [2s/2s] OK
* checking installed package size ... OK
* checking package directory ... OK
* checking ‘build’ directory ... OK
* checking DESCRIPTION meta-information ... OK
* checking top-level files ... NOTE
File
  LICENSE
is not mentioned in the DESCRIPTION file.
* checking for left-over files ... OK
* checking index information ... OK
* checking package subdirectories ... OK
* checking R files for non-ASCII characters ... OK
* checking R files for syntax errors ... OK
* checking whether the package can be loaded ... OK
* checking whether the package can be loaded with stated dependencies ... OK
* checking whether the package can be unloaded cleanly ... OK
* checking whether the namespace can be loaded with stated dependencies ... OK
* checking whether the namespace can be unloaded cleanly ... OK
* checking dependencies in R code ... OK
* checking S3 generic/method consistency ... OK
* checking replacement functions ... OK
* checking foreign function calls ... OK
* checking R code for possible problems ... OK
* checking Rd files ... OK
* checking Rd metadata ... OK
* checking Rd cross-references ... OK
* checking for missing documentation entries ... OK
* checking for code/documentation mismatches ... OK
* checking Rd \usage sections ... OK
* checking Rd contents ... OK
* checking for unstated dependencies in examples ... OK
* checking installed files from ‘inst/doc’ ... OK
* checking files in ‘vignettes’ ... OK
* checking examples ... [110s/85s] OK
Examples with CPU or elapsed time > 5s
                          user system elapsed
Ontology-class          55.750  0.600  35.781
showHierarchyDownToTerm  8.629  0.044   8.584
getRootIds               6.706  0.004   4.764
getEFO                   6.004  0.061   5.335
* checking for unstated dependencies in vignettes ... OK
* checking package vignettes in ‘inst/doc’ ... OK
* checking running R code from vignettes ... SKIPPED
* checking re-building of vignette outputs ... SKIPPED
* checking PDF version of manual ... OK
* DONE

Status: 1 NOTE
See
  ‘/home/biocbuild/bbs-3.2-bioc/meat/ontoCAT.Rcheck/00check.log’
for details.


ontoCAT.Rcheck/00install.out:

* installing *source* package ‘ontoCAT’ ...
** R
** inst
** preparing package for lazy loading
** help
*** installing help indices
** building package indices
** installing vignettes
** testing if installed package can be loaded
* DONE (ontoCAT)

ontoCAT.Rcheck/ontoCAT-Ex.timings:

nameusersystemelapsed
Ontology-class55.750 0.60035.781
OntologyTerm-class0.0150.0000.015
getAccession0.0080.0000.008
getAllTermChildren0.0190.0000.019
getAllTermIds2.6060.0082.009
getAllTermParents0.0440.0000.025
getAllTerms4.5270.0204.149
getEFO6.0040.0615.335
getEFOBranchRootIds4.7410.0114.378
getLabel0.0080.0000.009
getOntology2.5350.0122.385
getOntologyAccession0.0030.0000.003
getOntologyDescription0.0040.0000.004
getRootIds6.7060.0044.764
getRoots3.2390.0003.205
getTermAndAllChildren0.0220.0000.025
getTermById0.0070.0040.011
getTermChildren0.0210.0000.021
getTermDefinitions0.0150.0000.018
getTermNameById0.0060.0000.006
getTermParents0.0220.0000.022
getTermSynonyms0.0480.0000.048
hasTerm0.0060.0000.006
isEFOBranchRoot0.010.000.01
isRoot3.9260.0123.925
ontoCAT-package0.0630.0000.062
searchTerm2.7590.0042.644
searchTermPrefix2.4730.0002.347
showHierarchyDownToTerm8.6290.0448.584
showPathsToTerm3.9000.0163.893