Back to the "Multiple platform build/check report" A  B  C  D  E  F  G  H  I  J  K  L [M] N  O  P  Q  R  S  T  U  V  W  X  Y  Z 

BioC 3.2: CHECK report for metagenomeSeq on zin1

This page was generated on 2015-08-24 10:49:12 -0700 (Mon, 24 Aug 2015).

Package 602/1071HostnameOS / ArchINSTALLBUILDCHECKBUILD BIN
metagenomeSeq 1.11.10
Joseph N. Paulson
Snapshot Date: 2015-08-23 16:24:14 -0700 (Sun, 23 Aug 2015)
URL: https://hedgehog.fhcrc.org/bioconductor/trunk/madman/Rpacks/metagenomeSeq
Last Changed Rev: 104218 / Revision: 107696
Last Changed Date: 2015-05-26 11:47:36 -0700 (Tue, 26 May 2015)
zin1 Linux (Ubuntu 14.04.2 LTS) / x86_64  OK  OK [ OK ]UNNEEDED, same version exists in internal repository
perceval Mac OS X Snow Leopard (10.6.8) / x86_64  OK  OK  OK  OK UNNEEDED, same version exists in internal repository
oaxaca Mac OS X Mavericks (10.9.5) / x86_64  OK  OK  OK  OK UNNEEDED, same version exists in internal repository

Summary

Package: metagenomeSeq
Version: 1.11.10
Command: /home/biocbuild/bbs-3.2-bioc/R/bin/R CMD check --no-vignettes --timings metagenomeSeq_1.11.10.tar.gz
StartedAt: 2015-08-24 01:28:43 -0700 (Mon, 24 Aug 2015)
EndedAt: 2015-08-24 01:30:33 -0700 (Mon, 24 Aug 2015)
EllapsedTime: 109.9 seconds
RetCode: 0
Status:  OK 
CheckDir: metagenomeSeq.Rcheck
Warnings: 0

Command output

##############################################################################
##############################################################################
###
### Running command:
###
###   /home/biocbuild/bbs-3.2-bioc/R/bin/R CMD check --no-vignettes --timings metagenomeSeq_1.11.10.tar.gz
###
##############################################################################
##############################################################################


* using log directory ‘/home/biocbuild/bbs-3.2-bioc/meat/metagenomeSeq.Rcheck’
* using R version 3.2.2 (2015-08-14)
* using platform: x86_64-pc-linux-gnu (64-bit)
* using session charset: UTF-8
* using option ‘--no-vignettes’
* checking for file ‘metagenomeSeq/DESCRIPTION’ ... OK
* this is package ‘metagenomeSeq’ version ‘1.11.10’
* checking package namespace information ... OK
* checking package dependencies ... OK
* checking if this is a source package ... OK
* checking if there is a namespace ... OK
* checking for hidden files and directories ... OK
* checking for portable file names ... OK
* checking for sufficient/correct file permissions ... OK
* checking whether package ‘metagenomeSeq’ can be installed ... [6s/6s] OK
* checking installed package size ... OK
* checking package directory ... OK
* checking ‘build’ directory ... OK
* checking DESCRIPTION meta-information ... OK
* checking top-level files ... OK
* checking for left-over files ... OK
* checking index information ... OK
* checking package subdirectories ... OK
* checking R files for non-ASCII characters ... OK
* checking R files for syntax errors ... OK
* checking whether the package can be loaded ... OK
* checking whether the package can be loaded with stated dependencies ... OK
* checking whether the package can be unloaded cleanly ... OK
* checking whether the namespace can be loaded with stated dependencies ... OK
* checking whether the namespace can be unloaded cleanly ... OK
* checking dependencies in R code ... NOTE
'library' or 'require' call to ‘biom’ in package code.
  Please use :: or requireNamespace() instead.
  See section 'Suggested packages' in the 'Writing R Extensions' manual.
* checking S3 generic/method consistency ... OK
* checking replacement functions ... OK
* checking foreign function calls ... OK
* checking R code for possible problems ... OK
* checking Rd files ... OK
* checking Rd metadata ... OK
* checking Rd cross-references ... OK
* checking for missing documentation entries ... OK
* checking for code/documentation mismatches ... OK
* checking Rd \usage sections ... OK
* checking Rd contents ... OK
* checking for unstated dependencies in examples ... OK
* checking contents of ‘data’ directory ... OK
* checking data for non-ASCII characters ... OK
* checking data for ASCII and uncompressed saves ... OK
* checking sizes of PDF files under ‘inst/doc’ ... OK
* checking installed files from ‘inst/doc’ ... OK
* checking files in ‘vignettes’ ... OK
* checking examples ... [28s/36s] OK
* checking for unstated dependencies in ‘tests’ ... OK
* checking tests ...
  Running ‘runTests.R’ [11s/11s]
 [11s/11s] OK
* checking for unstated dependencies in vignettes ... OK
* checking package vignettes in ‘inst/doc’ ... OK
* checking running R code from vignettes ... SKIPPED
* checking re-building of vignette outputs ... SKIPPED
* checking PDF version of manual ... OK
* DONE

Status: 1 NOTE
See
  ‘/home/biocbuild/bbs-3.2-bioc/meat/metagenomeSeq.Rcheck/00check.log’
for details.


metagenomeSeq.Rcheck/00install.out:

* installing *source* package ‘metagenomeSeq’ ...
** R
** data
** inst
** preparing package for lazy loading
** help
*** installing help indices
** building package indices
** installing vignettes
** testing if installed package can be loaded
* DONE (metagenomeSeq)

metagenomeSeq.Rcheck/metagenomeSeq-Ex.timings:

nameusersystemelapsed
MRcoefs1.6910.0361.728
MRcounts0.2950.0120.307
MRexperiment-class0.0010.0000.000
MRfulltable1.1520.0321.189
MRtable1.2320.0121.268
aggregateBySample0.1820.0070.191
aggregateByTaxonomy0.1700.0080.178
biom2MRexperiment0.0000.0000.001
calcNormFactors0.7720.0040.779
correctIndices0.1180.0000.118
correlationTest0.2390.0070.247
cumNorm0.5830.0050.586
cumNormMat0.6200.0040.624
cumNormStat0.9740.0040.977
cumNormStatFast0.4110.0040.415
expSummary0.1190.0080.127
exportMat000
exportStats0.0010.0000.001
filterData0.2120.0000.212
fitDO0.6760.0233.331
fitFeatureModel1.2350.0241.258
fitPA0.5610.0173.165
fitSSTimeSeries1.5170.0431.580
fitTimeSeries1.3390.0081.347
fitZig2.7580.0092.768
libSize0.2890.0170.308
load_biom0.0010.0000.000
load_meta0.0250.0000.026
load_metaQ000
load_phenoData0.0000.0000.001
newMRexperiment0.0390.0000.040
normFactors0.3000.0130.314
plotBubble0.6770.0313.238
plotClassTimeSeries1.2640.0011.264
plotCorr0.6380.0030.642
plotFeature0.1700.0050.174
plotGenus0.1720.0000.172
plotMRheatmap2.3000.0042.307
plotOTU0.1650.0000.165
plotOrd0.4960.0000.497
plotRare0.1310.0000.131
plotTimeSeries1.1760.0001.178
posteriorProbs0.0000.0000.001
returnAppropriateObj0.3310.0120.343
ssFit0.0000.0000.001
ssIntervalCandidate0.0010.0000.000
ssPerm0.0000.0000.001
ssPermAnalysis0.0010.0000.000
trapz0.0010.0000.001
uniqueFeatures0.1490.0040.153
zigControl0.0000.0000.001