Back to the "Multiple platform build/check report" A  B  C  D  E  F  G  H  I  J  K  L [M] N  O  P  Q  R  S  T  U  V  W  X  Y  Z 

BioC 3.2: CHECK report for metagenomeSeq on oaxaca

This page was generated on 2015-10-27 17:40:33 -0400 (Tue, 27 Oct 2015).

Package 623/1104HostnameOS / ArchINSTALLBUILDCHECKBUILD BIN
metagenomeSeq 1.12.0
Joseph N. Paulson
Snapshot Date: 2015-10-26 19:24:07 -0400 (Mon, 26 Oct 2015)
URL: https://hedgehog.fhcrc.org/bioconductor/branches/RELEASE_3_2/madman/Rpacks/metagenomeSeq
Last Changed Rev: 109589 / Revision: 109947
Last Changed Date: 2015-10-13 15:36:05 -0400 (Tue, 13 Oct 2015)
linux1.bioconductor.org Linux (Ubuntu 14.04.2 LTS) / x86_64  OK  OK  OK UNNEEDED, same version exists in internal repository
windows1.bioconductor.org Windows Server 2012 R2 Enterprise SP1 (64-bit) / x64  OK  OK  OK  OK UNNEEDED, same version exists in internal repository
perceval Mac OS X Snow Leopard (10.6.8) / x86_64  OK  OK  OK  OK UNNEEDED, same version exists in internal repository
oaxaca Mac OS X Mavericks (10.9.5) / x86_64  OK  OK [ OK ] OK UNNEEDED, same version exists in internal repository

Summary

Package: metagenomeSeq
Version: 1.12.0
Command: /Library/Frameworks/R.framework/Versions/Current/Resources/bin/R CMD check --no-vignettes --timings metagenomeSeq_1.12.0.tar.gz
StartedAt: 2015-10-27 05:26:21 -0400 (Tue, 27 Oct 2015)
EndedAt: 2015-10-27 05:28:49 -0400 (Tue, 27 Oct 2015)
EllapsedTime: 148.2 seconds
RetCode: 0
Status:  OK 
CheckDir: metagenomeSeq.Rcheck
Warnings: 0

Command output

##############################################################################
##############################################################################
###
### Running command:
###
###   /Library/Frameworks/R.framework/Versions/Current/Resources/bin/R CMD check --no-vignettes --timings metagenomeSeq_1.12.0.tar.gz
###
##############################################################################
##############################################################################


* using log directory ‘/Users/biocbuild/bbs-3.2-bioc/meat/metagenomeSeq.Rcheck’
* using R version 3.2.2 (2015-08-14)
* using platform: x86_64-apple-darwin13.4.0 (64-bit)
* using session charset: UTF-8
* using option ‘--no-vignettes’
* checking for file ‘metagenomeSeq/DESCRIPTION’ ... OK
* this is package ‘metagenomeSeq’ version ‘1.12.0’
* checking package namespace information ... OK
* checking package dependencies ... OK
* checking if this is a source package ... OK
* checking if there is a namespace ... OK
* checking for hidden files and directories ... OK
* checking for portable file names ... OK
* checking for sufficient/correct file permissions ... OK
* checking whether package ‘metagenomeSeq’ can be installed ... [8s/9s] OK
* checking installed package size ... OK
* checking package directory ... OK
* checking ‘build’ directory ... OK
* checking DESCRIPTION meta-information ... OK
* checking top-level files ... OK
* checking for left-over files ... OK
* checking index information ... OK
* checking package subdirectories ... OK
* checking R files for non-ASCII characters ... OK
* checking R files for syntax errors ... OK
* checking whether the package can be loaded ... OK
* checking whether the package can be loaded with stated dependencies ... OK
* checking whether the package can be unloaded cleanly ... OK
* checking whether the namespace can be loaded with stated dependencies ... OK
* checking whether the namespace can be unloaded cleanly ... OK
* checking dependencies in R code ... NOTE
'library' or 'require' call to ‘biom’ in package code.
  Please use :: or requireNamespace() instead.
  See section 'Suggested packages' in the 'Writing R Extensions' manual.
* checking S3 generic/method consistency ... OK
* checking replacement functions ... OK
* checking foreign function calls ... OK
* checking R code for possible problems ... OK
* checking Rd files ... OK
* checking Rd metadata ... OK
* checking Rd cross-references ... OK
* checking for missing documentation entries ... OK
* checking for code/documentation mismatches ... OK
* checking Rd \usage sections ... OK
* checking Rd contents ... OK
* checking for unstated dependencies in examples ... OK
* checking contents of ‘data’ directory ... OK
* checking data for non-ASCII characters ... OK
* checking data for ASCII and uncompressed saves ... OK
* checking sizes of PDF files under ‘inst/doc’ ... OK
* checking installed files from ‘inst/doc’ ... OK
* checking files in ‘vignettes’ ... OK
* checking examples ... [35s/45s] OK
* checking for unstated dependencies in ‘tests’ ... OK
* checking tests ...
  Running ‘runTests.R’ [14s/14s]
 [14s/14s] OK
* checking for unstated dependencies in vignettes ... OK
* checking package vignettes in ‘inst/doc’ ... OK
* checking running R code from vignettes ... SKIPPED
* checking re-building of vignette outputs ... SKIPPED
* checking PDF version of manual ... OK
* DONE

Status: 1 NOTE
See
  ‘/Users/biocbuild/bbs-3.2-bioc/meat/metagenomeSeq.Rcheck/00check.log’
for details.


metagenomeSeq.Rcheck/00install.out:

* installing *source* package ‘metagenomeSeq’ ...
** R
** data
** inst
** preparing package for lazy loading
** help
*** installing help indices
** building package indices
** installing vignettes
** testing if installed package can be loaded
* DONE (metagenomeSeq)

metagenomeSeq.Rcheck/metagenomeSeq-Ex.timings:

nameusersystemelapsed
MRcoefs2.0140.1012.150
MRcounts0.3880.0210.410
MRexperiment-class0.0000.0000.001
MRfulltable1.5110.0501.563
MRtable1.5240.0421.566
aggregateBySample0.2440.0140.258
aggregateByTaxonomy0.2080.0160.225
biom2MRexperiment000
calcNormFactors0.8730.1271.001
correctIndices0.1590.0190.178
correlationTest0.3350.0320.367
cumNorm0.7930.0930.886
cumNormMat0.8690.1200.990
cumNormStat1.4700.0831.553
cumNormStatFast0.4960.0190.516
expSummary0.1540.0100.164
exportMat000
exportStats0.0000.0000.001
filterData0.4010.0290.431
fitDO0.6270.0394.247
fitFeatureModel1.6090.0991.710
fitPA0.5350.0303.930
fitSSTimeSeries1.5300.0961.654
fitTimeSeries1.3940.0761.471
fitZig2.9750.3573.336
libSize0.3780.0280.405
load_biom0.0010.0000.001
load_meta0.0630.0010.064
load_metaQ0.0010.0000.000
load_phenoData0.0010.0010.000
newMRexperiment0.0530.0000.054
normFactors0.3610.0070.368
plotBubble0.7360.1014.245
plotClassTimeSeries1.2770.0971.374
plotCorr0.5830.0500.647
plotFeature0.1920.0450.244
plotGenus0.1830.0250.209
plotMRheatmap2.7090.0992.817
plotOTU0.1800.0130.194
plotOrd0.3280.0310.359
plotRare0.1640.0110.176
plotTimeSeries1.2280.0551.285
posteriorProbs000
returnAppropriateObj0.4060.0250.431
ssFit0.0000.0000.001
ssIntervalCandidate000
ssPerm0.0000.0000.001
ssPermAnalysis0.0000.0000.001
trapz0.0020.0000.002
uniqueFeatures0.1800.0160.197
zigControl0.0000.0010.001