| limma 3.25.15 Gordon Smyth
 
 | Snapshot Date: 2015-08-19 16:24:33 -0700 (Wed, 19 Aug 2015) |  | URL: https://hedgehog.fhcrc.org/bioconductor/trunk/madman/Rpacks/limma |  | Last Changed Rev: 107140 / Revision: 107602 |  | Last Changed Date: 2015-08-05 01:43:08 -0700 (Wed, 05 Aug 2015) | 
 | zin1 | Linux (Ubuntu 14.04.2 LTS) / x86_64 | OK | OK | OK |  |  | 
| moscato1 | Windows Server 2008 R2 Enterprise SP1 (64-bit) / x64 | OK | OK | OK | [ OK ] |  | 
| perceval | Mac OS X Snow Leopard (10.6.8) / x86_64 | OK | OK | OK | OK |  | 
| oaxaca | Mac OS X Mavericks (10.9.5) / x86_64 | OK | OK | OK | OK |  | 
##############################################################################
##############################################################################
###
### Running command:
###
###   cd limma.buildbin-libdir/limma && zip -r ../../limma_3.25.15.zip . & cd ../..
###
##############################################################################
##############################################################################
  adding: CITATION (188 bytes security) (deflated 49%)
  adding: DESCRIPTION (188 bytes security) (deflated 43%)
  adding: doc/ (256 bytes security) (stored 0%)
  adding: doc/changelog.txt (188 bytes security) (deflated 70%)
  adding: doc/index.html (188 bytes security) (deflated 44%)
  adding: doc/intro.pdf (188 bytes security) (deflated 7%)
  adding: doc/intro.Rnw (188 bytes security) (deflated 52%)
  adding: doc/usersguide.pdf (188 bytes security) (deflated 14%)
  adding: help/ (256 bytes security) (stored 0%)
  adding: help/aliases.rds (188 bytes security) (stored 0%)
  adding: help/AnIndex (188 bytes security) (deflated 71%)
  adding: help/limma.rdb (188 bytes security) (deflated 1%)
  adding: help/limma.rdx (188 bytes security) (deflated 0%)
  adding: help/paths.rds (188 bytes security) (stored 0%)
  adding: html/ (256 bytes security) (stored 0%)
  adding: html/00Index.html (188 bytes security) (deflated 86%)
  adding: html/R.css (188 bytes security) (deflated 75%)
  adding: INDEX (188 bytes security) (deflated 68%)
  adding: libs/ (256 bytes security) (stored 0%)
  adding: libs/i386/ (256 bytes security) (stored 0%)
  adding: libs/i386/limma.dll (188 bytes security) (deflated 50%)
  adding: libs/x64/ (256 bytes security) (stored 0%)
  adding: libs/x64/limma.dll (188 bytes security) (deflated 53%)
  adding: MD5 (188 bytes security) (deflated 41%)
  adding: Meta/ (256 bytes security) (stored 0%)
  adding: Meta/hsearch.rds (188 bytes security) (deflated 2%)
  adding: Meta/links.rds (188 bytes security) (stored 0%)
  adding: Meta/nsInfo.rds (188 bytes security) (stored 0%)
  adding: Meta/package.rds (188 bytes security) (stored 0%)
  adding: Meta/Rd.rds (188 bytes security) (stored 0%)
  adding: Meta/vignette.rds (188 bytes security) (stored 0%)
  adding: NAMESPACE (188 bytes security) (deflated 79%)
  adding: NEWS.Rd (188 bytes security) (deflated 65%)
  adding: R/ (256 bytes security) (stored 0%)
  adding: R/limma (188 bytes security) (deflated 41%)
  adding: R/limma.rdb (188 bytes security) (deflated 6%)
  adding: R/limma.rdx (188 bytes security) (stored 0%)