Back to the "Multiple platform build/check report" A  B  C  D  E  F  G  H  I  J  K [L] M  N  O  P  Q  R  S  T  U  V  W  X  Y  Z 

BioC 3.2: CHECK report for limma on oaxaca

This page was generated on 2015-10-27 17:37:46 -0400 (Tue, 27 Oct 2015).

Package 564/1104HostnameOS / ArchINSTALLBUILDCHECKBUILD BIN
limma 3.26.0
Gordon Smyth
Snapshot Date: 2015-10-26 19:24:07 -0400 (Mon, 26 Oct 2015)
URL: https://hedgehog.fhcrc.org/bioconductor/branches/RELEASE_3_2/madman/Rpacks/limma
Last Changed Rev: 109589 / Revision: 109947
Last Changed Date: 2015-10-13 15:36:05 -0400 (Tue, 13 Oct 2015)
linux1.bioconductor.org Linux (Ubuntu 14.04.2 LTS) / x86_64  OK  OK  OK UNNEEDED, same version exists in internal repository
windows1.bioconductor.org Windows Server 2012 R2 Enterprise SP1 (64-bit) / x64  OK  OK  OK  OK UNNEEDED, same version exists in internal repository
perceval Mac OS X Snow Leopard (10.6.8) / x86_64  OK  OK  OK  OK UNNEEDED, same version exists in internal repository
oaxaca Mac OS X Mavericks (10.9.5) / x86_64  OK  OK [ OK ] OK UNNEEDED, same version exists in internal repository

Summary

Package: limma
Version: 3.26.0
Command: /Library/Frameworks/R.framework/Versions/Current/Resources/bin/R CMD check --no-vignettes --timings limma_3.26.0.tar.gz
StartedAt: 2015-10-27 05:02:47 -0400 (Tue, 27 Oct 2015)
EndedAt: 2015-10-27 05:05:03 -0400 (Tue, 27 Oct 2015)
EllapsedTime: 136.7 seconds
RetCode: 0
Status:  OK 
CheckDir: limma.Rcheck
Warnings: 0

Command output

##############################################################################
##############################################################################
###
### Running command:
###
###   /Library/Frameworks/R.framework/Versions/Current/Resources/bin/R CMD check --no-vignettes --timings limma_3.26.0.tar.gz
###
##############################################################################
##############################################################################


* using log directory ‘/Users/biocbuild/bbs-3.2-bioc/meat/limma.Rcheck’
* using R version 3.2.2 (2015-08-14)
* using platform: x86_64-apple-darwin13.4.0 (64-bit)
* using session charset: UTF-8
* using option ‘--no-vignettes’
* checking for file ‘limma/DESCRIPTION’ ... OK
* this is package ‘limma’ version ‘3.26.0’
* checking package namespace information ... OK
* checking package dependencies ... OK
* checking if this is a source package ... OK
* checking if there is a namespace ... OK
* checking for hidden files and directories ... OK
* checking for portable file names ... OK
* checking for sufficient/correct file permissions ... OK
* checking whether package ‘limma’ can be installed ... [5s/6s] OK
* checking installed package size ... OK
* checking package directory ... OK
* checking ‘build’ directory ... OK
* checking DESCRIPTION meta-information ... OK
* checking top-level files ... OK
* checking for left-over files ... OK
* checking index information ... OK
* checking package subdirectories ... OK
* checking R files for non-ASCII characters ... OK
* checking R files for syntax errors ... OK
* checking whether the package can be loaded ... OK
* checking whether the package can be loaded with stated dependencies ... OK
* checking whether the package can be unloaded cleanly ... OK
* checking whether the namespace can be loaded with stated dependencies ... OK
* checking whether the namespace can be unloaded cleanly ... OK
* checking dependencies in R code ... NOTE
'library' or 'require' call to ‘GO.db’ in package code.
  Please use :: or requireNamespace() instead.
  See section 'Suggested packages' in the 'Writing R Extensions' manual.
* checking S3 generic/method consistency ... OK
* checking replacement functions ... OK
* checking foreign function calls ... OK
* checking R code for possible problems ... OK
* checking Rd files ... OK
* checking Rd metadata ... OK
* checking Rd cross-references ... OK
* checking for missing documentation entries ... OK
* checking for code/documentation mismatches ... OK
* checking Rd \usage sections ... OK
* checking Rd contents ... OK
* checking for unstated dependencies in examples ... OK
* checking line endings in C/C++/Fortran sources/headers ... OK
* checking compiled code ... OK
* checking sizes of PDF files under ‘inst/doc’ ... OK
* checking installed files from ‘inst/doc’ ... OK
* checking files in ‘vignettes’ ... OK
* checking examples ... [8s/12s] OK
Examples with CPU or elapsed time > 5s
              user system elapsed
alias2Symbol 4.858  0.105   7.749
* checking for unstated dependencies in ‘tests’ ... OK
* checking tests ...
  Running ‘limma-Tests.R’ [7s/10s]
  Comparing ‘limma-Tests.Rout’ to ‘limma-Tests.Rout.save’ ...1324a1325
> GO:0051130 positive regulation of cell...  BP 4  1    2 0.553950615 0.023749721
1329d1329
< GO:0031252              cell leading edge  CC 2  2    0 0.030909091 1.000000000
1333a1334
> GO:0051130 positive regulation of cell...  BP  4  1    2 0.5539506 0.023749721
1337a1339
> GO:0010629 negative regulation of gene...  BP  5  0    2 1.0000000 0.038228009
1339,1341c1341
< GO:0043230        extracellular organelle  CC 14  1    3 0.9502416 0.055161144
< GO:0065010 extracellular membrane-boun...  CC 14  1    3 0.9502416 0.055161144
< GO:0070062          extracellular exosome  CC 14  1    3 0.9502416 0.055161144
---
> GO:0048519 negative regulation of biol...  BP 14  2    3 0.7685153 0.055161144
 [7s/10s] OK
* checking for unstated dependencies in vignettes ... OK
* checking package vignettes in ‘inst/doc’ ... OK
* checking running R code from vignettes ... SKIPPED
* checking re-building of vignette outputs ... SKIPPED
* checking PDF version of manual ... OK
* DONE

Status: 1 NOTE
See
  ‘/Users/biocbuild/bbs-3.2-bioc/meat/limma.Rcheck/00check.log’
for details.


limma.Rcheck/00install.out:

* installing *source* package ‘limma’ ...
** libs
clang -I/Library/Frameworks/R.framework/Resources/include -DNDEBUG  -I/usr/local/include -I/usr/local/include/freetype2 -I/opt/X11/include    -fPIC  -Wall -mtune=core2 -g -O2  -c normexp.c -o normexp.o
clang -I/Library/Frameworks/R.framework/Resources/include -DNDEBUG  -I/usr/local/include -I/usr/local/include/freetype2 -I/opt/X11/include    -fPIC  -Wall -mtune=core2 -g -O2  -c weighted_lowess.c -o weighted_lowess.o
clang -dynamiclib -Wl,-headerpad_max_install_names -undefined dynamic_lookup -single_module -multiply_defined suppress -L/Library/Frameworks/R.framework/Resources/lib -L/usr/local/lib -o limma.so normexp.o weighted_lowess.o -F/Library/Frameworks/R.framework/.. -framework R -Wl,-framework -Wl,CoreFoundation
installing to /Users/biocbuild/bbs-3.2-bioc/meat/limma.Rcheck/limma/libs
** R
** inst
** preparing package for lazy loading
** help
*** installing help indices
** building package indices
** installing vignettes
** testing if installed package can be loaded
* DONE (limma)

limma.Rcheck/limma-Ex.timings:

nameusersystemelapsed
LargeDataObject0.0010.0010.001
PrintLayout0.0010.0000.004
TestResults0.0010.0000.001
alias2Symbol4.8580.1057.749
arrayWeights0.0010.0000.001
arrayWeightsQuick0.0000.0000.001
asMatrixWeights0.0010.0000.007
auROC0.0020.0000.002
avearrays0.0010.0000.002
avereps0.0010.0000.006
backgroundcorrect0.0080.0010.015
barcodeplot0.0350.0040.046
beadCountWeights0.0010.0000.001
blockDiag0.0020.0000.001
camera0.0350.0020.051
cbind0.0070.0010.012
changelog0.0020.0000.002
channel2M0.0020.0000.002
classifytests0.0020.0000.003
contrastAsCoef0.0090.0000.017
contrasts.fit0.0200.0000.027
controlStatus0.0090.0000.016
diffSplice0.0000.0000.001
dim0.0020.0000.003
dupcor0.0010.0000.006
ebayes0.0170.0020.022
fitGammaIntercept0.0020.0000.001
fitfdist0.0010.0000.001
genas0.1080.0050.163
geneSetTest0.0010.0000.001
getSpacing0.0010.0000.001
getlayout0.0010.0000.001
goana0.0020.0000.002
heatdiagram0.0010.0000.001
helpMethods000
ids2indices0.0010.0000.001
imageplot0.0360.0030.051
intraspotCorrelation000
isfullrank0.0010.0000.002
isnumeric0.0010.0000.002
kooperberg0.0010.0000.002
limmaUsersGuide0.0010.0010.003
lm.series0.0000.0000.001
lmFit0.6020.0190.961
lmscFit0.0010.0000.001
loessfit0.0070.0010.012
ma3x30.0020.0010.002
makeContrasts0.0020.0000.006
makeunique0.0010.0000.001
mdplot0.0040.0010.006
merge0.0080.0010.011
mergeScansRG0.0010.0000.001
modelMatrix0.0030.0010.009
modifyWeights0.0010.0000.001
nec0.0010.0010.002
normalizeMedianAbsValues0.0010.0000.002
normalizeRobustSpline0.0290.0020.045
normalizeVSN0.6330.0180.960
normalizebetweenarrays0.0030.0010.004
normalizeprintorder0.0010.0000.001
normexpfit0.0020.0000.003
normexpfitcontrol0.0000.0010.002
normexpfitdetectionp0.0010.0000.005
normexpsignal0.0000.0000.001
plotDensities0.0010.0000.001
plotExons0.0010.0000.001
plotMD0.0280.0030.040
plotMDS0.0280.0020.051
plotRLDF0.2550.0050.386
plotSplice0.0000.0000.001
plotWithHighlights0.0080.0010.010
plotma0.0270.0030.036
poolvar0.0010.0000.002
predFCm0.0190.0010.038
printorder0.0190.0060.033
printtipWeights0.0010.0000.001
propTrueNull0.0040.0000.011
propexpr000
protectMetachar0.0010.0000.001
qqt0.0030.0010.003
qualwt0.0010.0000.001
rankSumTestwithCorrelation0.0090.0000.019
read.idat0.0010.0000.001
read.ilmn0.0010.0000.001
read.maimages0.0010.0000.001
readImaGeneHeader0.0010.0000.001
readgal0.0010.0000.000
removeBatchEffect0.0050.0010.010
removeext0.0010.0000.001
roast0.0370.0010.058
romer0.0430.0020.067
selectmodel0.0160.0000.020
squeezeVar0.0010.0010.001
strsplit20.0010.0000.002
subsetting0.0060.0010.013
targetsA2C0.0070.0000.009
topGO000
topRomer000
topSplice0.0010.0000.000
toptable0.0010.0000.006
tricubeMovingAverage0.0030.0010.004
trigammainverse0.0010.0000.001
trimWhiteSpace0.0010.0000.001
uniquegenelist0.0010.0000.001
unwrapdups0.0010.0000.002
venn0.0260.0010.039
volcanoplot0.0000.0000.001
weightedLowess0.0090.0010.013
weightedmedian0.0010.0000.001
zscore0.0020.0000.006