| SomaticSignatures 2.5.6 Julian Gehring
 
 | Snapshot Date: 2015-08-19 16:24:33 -0700 (Wed, 19 Aug 2015) |  | URL: https://hedgehog.fhcrc.org/bioconductor/trunk/madman/Rpacks/SomaticSignatures |  | Last Changed Rev: 106993 / Revision: 107602 |  | Last Changed Date: 2015-08-03 02:30:58 -0700 (Mon, 03 Aug 2015) | 
 | zin1 | Linux (Ubuntu 14.04.2 LTS) / x86_64 | OK | OK | OK |  |  | 
| moscato1 | Windows Server 2008 R2 Enterprise SP1 (64-bit) / x64 | OK | OK | OK | [ OK ] |  | 
| perceval | Mac OS X Snow Leopard (10.6.8) / x86_64 | OK | OK | OK | OK |  | 
| oaxaca | Mac OS X Mavericks (10.9.5) / x86_64 | OK | OK | OK | OK |  | 
##############################################################################
##############################################################################
###
### Running command:
###
###   cd SomaticSignatures.buildbin-libdir/SomaticSignatures && zip -r ../../SomaticSignatures_2.5.6.zip . & cd ../..
###
##############################################################################
##############################################################################
  adding: CITATION (188 bytes security) (deflated 58%)
  adding: css/ (256 bytes security) (stored 0%)
  adding: css/bioc.css (188 bytes security) (deflated 74%)
  adding: data/ (256 bytes security) (stored 0%)
  adding: data/kmers.rda (188 bytes security) (stored 0%)
  adding: data/sca_mm.rda (188 bytes security) (deflated 1%)
  adding: data/sca_sigs.rda (188 bytes security) (deflated 1%)
  adding: data/signatures21.rda (188 bytes security) (deflated 2%)
  adding: DESCRIPTION (188 bytes security) (deflated 42%)
  adding: doc/ (256 bytes security) (stored 0%)
  adding: doc/index.html (188 bytes security) (deflated 61%)
  adding: doc/SomaticSignatures-vignette.html (188 bytes security) (deflated 54%)
  adding: doc/SomaticSignatures-vignette.Rhtml (188 bytes security) (deflated 69%)
  adding: examples/ (256 bytes security) (stored 0%)
  adding: examples/mutect.tsv (188 bytes security) (deflated 51%)
  adding: help/ (256 bytes security) (stored 0%)
  adding: help/aliases.rds (188 bytes security) (stored 0%)
  adding: help/AnIndex (188 bytes security) (deflated 76%)
  adding: help/paths.rds (188 bytes security) (stored 0%)
  adding: help/SomaticSignatures.rdb (188 bytes security) (deflated 2%)
  adding: help/SomaticSignatures.rdx (188 bytes security) (stored 0%)
  adding: html/ (256 bytes security) (stored 0%)
  adding: html/00Index.html (188 bytes security) (deflated 85%)
  adding: html/R.css (188 bytes security) (deflated 75%)
  adding: INDEX (188 bytes security) (deflated 62%)
  adding: MD5 (188 bytes security) (deflated 44%)
  adding: Meta/ (256 bytes security) (stored 0%)
  adding: Meta/data.rds (188 bytes security) (stored 0%)
  adding: Meta/hsearch.rds (188 bytes security) (stored 0%)
  adding: Meta/links.rds (188 bytes security) (stored 0%)
  adding: Meta/nsInfo.rds (188 bytes security) (stored 0%)
  adding: Meta/package.rds (188 bytes security) (stored 0%)
  adding: Meta/Rd.rds (188 bytes security) (stored 0%)
  adding: Meta/vignette.rds (188 bytes security) (stored 0%)
  adding: NAMESPACE (188 bytes security) (deflated 58%)
  adding: NEWS (188 bytes security) (deflated 23%)
  adding: R/ (256 bytes security) (stored 0%)
  adding: R/SomaticSignatures (188 bytes security) (deflated 41%)
  adding: R/SomaticSignatures.rdb (188 bytes security) (deflated 7%)
  adding: R/SomaticSignatures.rdx (188 bytes security) (deflated 1%)
  adding: scripts/ (256 bytes security) (stored 0%)
  adding: scripts/kmers-data.R (188 bytes security) (deflated 53%)
  adding: signatures/ (256 bytes security) (stored 0%)
  adding: signatures/signatures.txt (188 bytes security) (deflated 74%)