SomaticSignatures 2.5.6 Julian Gehring
Snapshot Date: 2015-08-23 16:24:14 -0700 (Sun, 23 Aug 2015) | URL: https://hedgehog.fhcrc.org/bioconductor/trunk/madman/Rpacks/SomaticSignatures | Last Changed Rev: 106993 / Revision: 107696 | Last Changed Date: 2015-08-03 02:30:58 -0700 (Mon, 03 Aug 2015) |
| zin1 | Linux (Ubuntu 14.04.2 LTS) / x86_64 | [ OK ] | OK | OK | | ![UNNEEDED, same version exists in internal repository UNNEEDED, same version exists in internal repository](../120px-Blue_Light_Icon.svg.png) |
perceval | Mac OS X Snow Leopard (10.6.8) / x86_64 | OK | OK | OK | OK | ![UNNEEDED, same version exists in internal repository UNNEEDED, same version exists in internal repository](../120px-Blue_Light_Icon.svg.png) |
oaxaca | Mac OS X Mavericks (10.9.5) / x86_64 | OK | OK | OK | OK | ![UNNEEDED, same version exists in internal repository UNNEEDED, same version exists in internal repository](../120px-Blue_Light_Icon.svg.png) |
##############################################################################
##############################################################################
###
### Running command:
###
### /home/biocbuild/bbs-3.2-bioc/R/bin/R CMD INSTALL SomaticSignatures
###
##############################################################################
##############################################################################
* installing to library ‘/home/biocbuild/bbs-3.2-bioc/R/library’
* installing *source* package ‘SomaticSignatures’ ...
** R
** data
** inst
** byte-compile and prepare package for lazy loading
Note: the specification for S3 class “cluster” in package ‘NMF’ seems equivalent to one from package ‘BiocParallel’: not turning on duplicate class definitions for this class.
** help
*** installing help indices
** building package indices
** installing vignettes
‘SomaticSignatures-vignette.Rhtml’
** testing if installed package can be loaded
Note: the specification for S3 class “cluster” in package ‘NMF’ seems equivalent to one from package ‘BiocParallel’: not turning on duplicate class definitions for this class.
* DONE (SomaticSignatures)