| minfi 1.15.11 Kasper Daniel Hansen
 
 | Snapshot Date: 2015-08-23 16:24:14 -0700 (Sun, 23 Aug 2015) |  | URL: https://hedgehog.fhcrc.org/bioconductor/trunk/madman/Rpacks/minfi |  | Last Changed Rev: 106951 / Revision: 107696 |  | Last Changed Date: 2015-07-31 08:51:31 -0700 (Fri, 31 Jul 2015) | 
 | zin1 | Linux (Ubuntu 14.04.2 LTS) / x86_64 | OK | OK | WARNINGS |  |  | 
| perceval | Mac OS X Snow Leopard (10.6.8) / x86_64 | OK | OK | WARNINGS | [ OK ] |  | 
| oaxaca | Mac OS X Mavericks (10.9.5) / x86_64 | OK | OK | WARNINGS | OK |  | 
##############################################################################
##############################################################################
###
### Running command:
###
###   rm -rf minfi.buildbin-libdir && mkdir minfi.buildbin-libdir && /Users/biocbuild/BBS/utils/build-universal.sh minfi_1.15.11.tar.gz /Library/Frameworks/R.framework/Versions/Current/Resources/bin/R minfi.buildbin-libdir
###
##############################################################################
##############################################################################
>>>>>>> 
>>>>>>> INSTALLATION WITH 'R CMD INSTALL --preclean --no-multiarch --library=minfi.buildbin-libdir minfi_1.15.11.tar.gz'
>>>>>>> 
* installing *source* package ‘minfi’ ...
** R
** inst
** preparing package for lazy loading
Warning in rgl.init(initValue, onlyNULL) :
  RGL: GLX extension missing on server
Warning in fun(libname, pkgname) : error in rgl_init
** help
Warning: /private/tmp/RtmpAFcd5F/R.INSTALL7fe357bdf6ab/minfi/man/mdsPlot.Rd:68: unexpected END_OF_INPUT '}
'
*** installing help indices
** building package indices
** installing vignettes
** testing if installed package can be loaded
Warning in rgl.init(initValue, onlyNULL) :
  RGL: GLX extension missing on server
Warning in fun(libname, pkgname) : error in rgl_init
* DONE (minfi)