| flowType 2.7.0 Nima Aghaeepour
 
 | Snapshot Date: 2015-08-23 16:24:14 -0700 (Sun, 23 Aug 2015) |  | URL: https://hedgehog.fhcrc.org/bioconductor/trunk/madman/Rpacks/flowType |  | Last Changed Rev: 104490 / Revision: 107696 |  | Last Changed Date: 2015-06-02 18:04:04 -0700 (Tue, 02 Jun 2015) | 
 | zin1 | Linux (Ubuntu 14.04.2 LTS) / x86_64 | [ OK ] | OK | OK |  |  | 
| perceval | Mac OS X Snow Leopard (10.6.8) / x86_64 | OK | ERROR | skipped | skipped |  | 
| oaxaca | Mac OS X Mavericks (10.9.5) / x86_64 | OK | OK | OK | OK |  | 
##############################################################################
##############################################################################
###
### Running command:
###
###   /home/biocbuild/bbs-3.2-bioc/R/bin/R CMD INSTALL flowType
###
##############################################################################
##############################################################################
* installing to library ‘/home/biocbuild/bbs-3.2-bioc/R/library’
* installing *source* package ‘flowType’ ...
** libs
g++ -I/home/biocbuild/bbs-3.2-bioc/R/include -DNDEBUG  -I/usr/local/include -I"/home/biocbuild/bbs-3.2-bioc/R/library/Rcpp/include" -I"/home/biocbuild/bbs-3.2-bioc/R/library/BH/include"   -fpic  -g -O2  -Wall -c countsAndMeans.cpp -o countsAndMeans.o
g++ -I/home/biocbuild/bbs-3.2-bioc/R/include -DNDEBUG  -I/usr/local/include -I"/home/biocbuild/bbs-3.2-bioc/R/library/Rcpp/include" -I"/home/biocbuild/bbs-3.2-bioc/R/library/BH/include"   -fpic  -g -O2  -Wall -c flowType.cpp -o flowType.o
g++ -I/home/biocbuild/bbs-3.2-bioc/R/include -DNDEBUG  -I/usr/local/include -I"/home/biocbuild/bbs-3.2-bioc/R/library/Rcpp/include" -I"/home/biocbuild/bbs-3.2-bioc/R/library/BH/include"   -fpic  -g -O2  -Wall -c numberGenerator.cpp -o numberGenerator.o
g++ -shared -L/home/biocbuild/bbs-3.2-bioc/R/lib -L/usr/local/lib -o flowType.so countsAndMeans.o flowType.o numberGenerator.o -L/home/biocbuild/bbs-3.2-bioc/R/lib -lR
installing to /home/biocbuild/bbs-3.2-bioc/R/library/flowType/libs
** R
** data
** inst
** preparing package for lazy loading
Creating a generic function for ‘summary’ from package ‘base’ in package ‘flowType’
** help
*** installing help indices
** building package indices
** installing vignettes
** testing if installed package can be loaded
* DONE (flowType)