| flowType 2.7.0 Nima Aghaeepour
 
 | Snapshot Date: 2015-08-23 16:24:14 -0700 (Sun, 23 Aug 2015) |  | URL: https://hedgehog.fhcrc.org/bioconductor/trunk/madman/Rpacks/flowType |  | Last Changed Rev: 104490 / Revision: 107696 |  | Last Changed Date: 2015-06-02 18:04:04 -0700 (Tue, 02 Jun 2015) | 
 | zin1 | Linux (Ubuntu 14.04.2 LTS) / x86_64 | OK | OK | OK |  |  | 
| perceval | Mac OS X Snow Leopard (10.6.8) / x86_64 | [ OK ] | ERROR | skipped | skipped |  | 
| oaxaca | Mac OS X Mavericks (10.9.5) / x86_64 | OK | OK | OK | OK |  | 
##############################################################################
##############################################################################
###
### Running command:
###
###   /Library/Frameworks/R.framework/Versions/Current/Resources/bin/R CMD INSTALL flowType
###
##############################################################################
##############################################################################
* installing to library ‘/Library/Frameworks/R.framework/Versions/3.2/Resources/library’
* installing *source* package ‘flowType’ ...
** libs
llvm-g++-4.2 -arch x86_64 -I/Library/Frameworks/R.framework/Resources/include -DNDEBUG  -I/usr/local/include -I"/Library/Frameworks/R.framework/Versions/3.2/Resources/library/Rcpp/include" -I"/Library/Frameworks/R.framework/Versions/3.2/Resources/library/BH/include"   -fPIC  -mtune=core2 -g -O2 -Wall  -c countsAndMeans.cpp -o countsAndMeans.o
llvm-g++-4.2 -arch x86_64 -I/Library/Frameworks/R.framework/Resources/include -DNDEBUG  -I/usr/local/include -I"/Library/Frameworks/R.framework/Versions/3.2/Resources/library/Rcpp/include" -I"/Library/Frameworks/R.framework/Versions/3.2/Resources/library/BH/include"   -fPIC  -mtune=core2 -g -O2 -Wall  -c flowType.cpp -o flowType.o
llvm-g++-4.2 -arch x86_64 -I/Library/Frameworks/R.framework/Resources/include -DNDEBUG  -I/usr/local/include -I"/Library/Frameworks/R.framework/Versions/3.2/Resources/library/Rcpp/include" -I"/Library/Frameworks/R.framework/Versions/3.2/Resources/library/BH/include"   -fPIC  -mtune=core2 -g -O2 -Wall  -c numberGenerator.cpp -o numberGenerator.o
llvm-g++-4.2 -arch x86_64 -dynamiclib -Wl,-headerpad_max_install_names -undefined dynamic_lookup -single_module -multiply_defined suppress -L/Library/Frameworks/R.framework/Resources/lib -L/usr/local/lib -L/usr/local/lib -o flowType.so countsAndMeans.o flowType.o numberGenerator.o -F/Library/Frameworks/R.framework/.. -framework R -Wl,-framework -Wl,CoreFoundation
installing to /Library/Frameworks/R.framework/Versions/3.2/Resources/library/flowType/libs
** R
** data
** inst
** preparing package for lazy loading
Warning in rgl.init(initValue, onlyNULL) :
  RGL: GLX extension missing on server
Warning in fun(libname, pkgname) : error in rgl_init
Creating a generic function for ‘summary’ from package ‘base’ in package ‘flowType’
** help
*** installing help indices
** building package indices
** installing vignettes
** testing if installed package can be loaded
Warning in rgl.init(initValue, onlyNULL) :
  RGL: GLX extension missing on server
Warning in fun(libname, pkgname) : error in rgl_init
* DONE (flowType)