| VariantFiltering 1.5.17 Robert Castelo
 
 | Snapshot Date: 2015-08-23 16:24:14 -0700 (Sun, 23 Aug 2015) |  | URL: https://hedgehog.fhcrc.org/bioconductor/trunk/madman/Rpacks/VariantFiltering |  | Last Changed Rev: 107243 / Revision: 107696 |  | Last Changed Date: 2015-08-07 16:35:14 -0700 (Fri, 07 Aug 2015) | 
 | zin1 | Linux (Ubuntu 14.04.2 LTS) / x86_64 | [ OK ] | OK | OK |  |  | 
| perceval | Mac OS X Snow Leopard (10.6.8) / x86_64 | OK | OK | OK | OK |  | 
| oaxaca | Mac OS X Mavericks (10.9.5) / x86_64 | OK | OK | OK | OK |  | 
##############################################################################
##############################################################################
###
### Running command:
###
###   /home/biocbuild/bbs-3.2-bioc/R/bin/R CMD INSTALL VariantFiltering
###
##############################################################################
##############################################################################
* installing to library ‘/home/biocbuild/bbs-3.2-bioc/R/library’
* installing *source* package ‘VariantFiltering’ ...
** libs
gcc -std=gnu99 -I/home/biocbuild/bbs-3.2-bioc/R/include -DNDEBUG  -I/usr/local/include -I"/home/biocbuild/bbs-3.2-bioc/R/library/S4Vectors/include" -I"/home/biocbuild/bbs-3.2-bioc/R/library/IRanges/include" -I"/home/biocbuild/bbs-3.2-bioc/R/library/XVector/include" -I"/home/biocbuild/bbs-3.2-bioc/R/library/Biostrings/include"   -fpic  -g -O2  -Wall -c Biostrings_stubs.c -o Biostrings_stubs.o
gcc -std=gnu99 -I/home/biocbuild/bbs-3.2-bioc/R/include -DNDEBUG  -I/usr/local/include -I"/home/biocbuild/bbs-3.2-bioc/R/library/S4Vectors/include" -I"/home/biocbuild/bbs-3.2-bioc/R/library/IRanges/include" -I"/home/biocbuild/bbs-3.2-bioc/R/library/XVector/include" -I"/home/biocbuild/bbs-3.2-bioc/R/library/Biostrings/include"   -fpic  -g -O2  -Wall -c R_init_VariantFiltering.c -o R_init_VariantFiltering.o
gcc -std=gnu99 -I/home/biocbuild/bbs-3.2-bioc/R/include -DNDEBUG  -I/usr/local/include -I"/home/biocbuild/bbs-3.2-bioc/R/library/S4Vectors/include" -I"/home/biocbuild/bbs-3.2-bioc/R/library/IRanges/include" -I"/home/biocbuild/bbs-3.2-bioc/R/library/XVector/include" -I"/home/biocbuild/bbs-3.2-bioc/R/library/Biostrings/include"   -fpic  -g -O2  -Wall -c methods-WeightMatrix.c -o methods-WeightMatrix.o
methods-WeightMatrix.c: In function ‘scoss_wm_score_DNAStringSet’:
methods-WeightMatrix.c:123:23: warning: unused variable ‘k’ [-Wunused-variable]
   int S_length, i, j, k;
                       ^
gcc -std=gnu99 -shared -L/home/biocbuild/bbs-3.2-bioc/R/lib -L/usr/local/lib -o VariantFiltering.so Biostrings_stubs.o R_init_VariantFiltering.o methods-WeightMatrix.o -L/home/biocbuild/bbs-3.2-bioc/R/lib -lR
installing to /home/biocbuild/bbs-3.2-bioc/R/library/VariantFiltering/libs
** R
** inst
** preparing package for lazy loading
** help
*** installing help indices
** building package indices
** installing vignettes
** testing if installed package can be loaded
* DONE (VariantFiltering)