| VariantFiltering 1.5.17 Robert Castelo
 
 | Snapshot Date: 2015-08-23 16:24:14 -0700 (Sun, 23 Aug 2015) |  | URL: https://hedgehog.fhcrc.org/bioconductor/trunk/madman/Rpacks/VariantFiltering |  | Last Changed Rev: 107243 / Revision: 107696 |  | Last Changed Date: 2015-08-07 16:35:14 -0700 (Fri, 07 Aug 2015) | 
 | zin1 | Linux (Ubuntu 14.04.2 LTS) / x86_64 | OK | OK | OK |  |  | 
| perceval | Mac OS X Snow Leopard (10.6.8) / x86_64 | OK | OK | OK | OK |  | 
| oaxaca | Mac OS X Mavericks (10.9.5) / x86_64 | OK | OK | OK | [ OK ] |  | 
##############################################################################
##############################################################################
###
### Running command:
###
###   rm -rf VariantFiltering.buildbin-libdir && mkdir VariantFiltering.buildbin-libdir && /Users/biocbuild/BBS/utils/build-universal.sh VariantFiltering_1.5.17.tar.gz /Library/Frameworks/R.framework/Versions/Current/Resources/bin/R VariantFiltering.buildbin-libdir
###
##############################################################################
##############################################################################
>>>>>>> 
>>>>>>> INSTALLATION WITH 'R CMD INSTALL --preclean --no-multiarch --library=VariantFiltering.buildbin-libdir VariantFiltering_1.5.17.tar.gz'
>>>>>>> 
* installing *source* package ‘VariantFiltering’ ...
** libs
clang -I/Library/Frameworks/R.framework/Resources/include -DNDEBUG  -I/usr/local/include -I/usr/local/include/freetype2 -I/opt/X11/include -I"/Library/Frameworks/R.framework/Versions/3.2/Resources/library/S4Vectors/include" -I"/Library/Frameworks/R.framework/Versions/3.2/Resources/library/IRanges/include" -I"/Library/Frameworks/R.framework/Versions/3.2/Resources/library/XVector/include" -I"/Library/Frameworks/R.framework/Versions/3.2/Resources/library/Biostrings/include"   -fPIC  -Wall -mtune=core2 -g -O2  -c Biostrings_stubs.c -o Biostrings_stubs.o
clang -I/Library/Frameworks/R.framework/Resources/include -DNDEBUG  -I/usr/local/include -I/usr/local/include/freetype2 -I/opt/X11/include -I"/Library/Frameworks/R.framework/Versions/3.2/Resources/library/S4Vectors/include" -I"/Library/Frameworks/R.framework/Versions/3.2/Resources/library/IRanges/include" -I"/Library/Frameworks/R.framework/Versions/3.2/Resources/library/XVector/include" -I"/Library/Frameworks/R.framework/Versions/3.2/Resources/library/Biostrings/include"   -fPIC  -Wall -mtune=core2 -g -O2  -c R_init_VariantFiltering.c -o R_init_VariantFiltering.o
clang -I/Library/Frameworks/R.framework/Resources/include -DNDEBUG  -I/usr/local/include -I/usr/local/include/freetype2 -I/opt/X11/include -I"/Library/Frameworks/R.framework/Versions/3.2/Resources/library/S4Vectors/include" -I"/Library/Frameworks/R.framework/Versions/3.2/Resources/library/IRanges/include" -I"/Library/Frameworks/R.framework/Versions/3.2/Resources/library/XVector/include" -I"/Library/Frameworks/R.framework/Versions/3.2/Resources/library/Biostrings/include"   -fPIC  -Wall -mtune=core2 -g -O2  -c methods-WeightMatrix.c -o methods-WeightMatrix.o
methods-WeightMatrix.c:123:23: warning: unused variable 'k' [-Wunused-variable]
  int S_length, i, j, k;
                      ^
1 warning generated.
clang -dynamiclib -Wl,-headerpad_max_install_names -undefined dynamic_lookup -single_module -multiply_defined suppress -L/Library/Frameworks/R.framework/Resources/lib -L/usr/local/lib -o VariantFiltering.so Biostrings_stubs.o R_init_VariantFiltering.o methods-WeightMatrix.o -F/Library/Frameworks/R.framework/.. -framework R -Wl,-framework -Wl,CoreFoundation
installing to /Users/biocbuild/bbs-3.2-bioc/meat/VariantFiltering.buildbin-libdir/VariantFiltering/libs
** R
** inst
** preparing package for lazy loading
** help
*** installing help indices
** building package indices
** installing vignettes
** testing if installed package can be loaded
* DONE (VariantFiltering)
>>>>>>> 
>>>>>>> FIXING LINKS FOR VariantFiltering.buildbin-libdir/VariantFiltering/libs//VariantFiltering.so
>>>>>>> 
install_name_tool -change "/usr/local/lib/libgcc_s.1.dylib" "/Library/Frameworks/R.framework/Versions/3.2/Resources/lib/libgcc_s.1.dylib" "VariantFiltering.buildbin-libdir/VariantFiltering/libs//VariantFiltering.so"
install_name_tool -change "/usr/local/lib/libgfortran.3.dylib" "/Library/Frameworks/R.framework/Versions/3.2/Resources/lib/libgfortran.3.dylib" "VariantFiltering.buildbin-libdir/VariantFiltering/libs//VariantFiltering.so"
install_name_tool -change "/usr/local/lib/libreadline.5.2.dylib" "/Library/Frameworks/R.framework/Versions/3.2/Resources/lib/libreadline.5.2.dylib" "VariantFiltering.buildbin-libdir/VariantFiltering/libs//VariantFiltering.so"
install_name_tool -change "/usr/local/lib/libreadline.dylib" "/Library/Frameworks/R.framework/Versions/3.2/Resources/lib/libreadline.dylib" "VariantFiltering.buildbin-libdir/VariantFiltering/libs//VariantFiltering.so"
install_name_tool -change "/usr/local/lib/libquadmath.0.dylib" "/Library/Frameworks/R.framework/Versions/3.2/Resources/lib/libquadmath.0.dylib" "VariantFiltering.buildbin-libdir/VariantFiltering/libs//VariantFiltering.so"