| Back to Multiple platform build/check report for BioC 3.19: simplified long |
|
This page was generated on 2024-05-09 11:41:30 -0400 (Thu, 09 May 2024).
| Hostname | OS | Arch (*) | R version | Installed pkgs |
|---|---|---|---|---|
| nebbiolo1 | Linux (Ubuntu 22.04.3 LTS) | x86_64 | 4.4.0 (2024-04-24) -- "Puppy Cup" | 4748 |
| palomino3 | Windows Server 2022 Datacenter | x64 | 4.4.0 (2024-04-24 ucrt) -- "Puppy Cup" | 4484 |
| lconway | macOS 12.7.1 Monterey | x86_64 | 4.4.0 (2024-04-24) -- "Puppy Cup" | 4514 |
| kunpeng2 | Linux (openEuler 22.03 LTS-SP1) | aarch64 | 4.4.0 beta (2024-04-15 r86425) -- "Puppy Cup" | 4480 |
| Click on any hostname to see more info about the system (e.g. compilers) (*) as reported by 'uname -p', except on Windows and Mac OS X | ||||
| Package 2032/2300 | Hostname | OS / Arch | INSTALL | BUILD | CHECK | BUILD BIN | ||||||||
| spatialDE 1.10.0 (landing page) Gabriele Sales
| nebbiolo1 | Linux (Ubuntu 22.04.3 LTS) / x86_64 | OK | OK | OK | |||||||||
| palomino3 | Windows Server 2022 Datacenter / x64 | OK | OK | OK | OK | |||||||||
| lconway | macOS 12.7.1 Monterey / x86_64 | OK | OK | OK | OK | |||||||||
| kunpeng2 | Linux (openEuler 22.03 LTS-SP1) / aarch64 | OK | OK | OK | ||||||||||
| kjohnson3 | macOS 13.6.5 Ventura / arm64 | see weekly results here | ||||||||||||
|
To the developers/maintainers of the spatialDE package: - Allow up to 24 hours (and sometimes 48 hours) for your latest push to git@git.bioconductor.org:packages/spatialDE.git to reflect on this report. See Troubleshooting Build Report for more information. - Use the following Renviron settings to reproduce errors and warnings. - If 'R CMD check' started to fail recently on the Linux builder(s) over a missing dependency, add the missing dependency to 'Suggests:' in your DESCRIPTION file. See Renviron.bioc for more information. - See Martin Grigorov's blog post for how to debug Linux ARM64 related issues on a x86_64 host. |
| Package: spatialDE |
| Version: 1.10.0 |
| Command: /home/biocbuild/R/R-beta-2024-04-15_r86425/bin/R CMD check --install=check:spatialDE.install-out.txt --library=/home/biocbuild/R/R-beta-2024-04-15_r86425/site-library --no-vignettes --timings spatialDE_1.10.0.tar.gz |
| StartedAt: 2024-05-09 12:11:13 -0000 (Thu, 09 May 2024) |
| EndedAt: 2024-05-09 12:17:00 -0000 (Thu, 09 May 2024) |
| EllapsedTime: 347.5 seconds |
| RetCode: 0 |
| Status: OK |
| CheckDir: spatialDE.Rcheck |
| Warnings: 0 |
##############################################################################
##############################################################################
###
### Running command:
###
### /home/biocbuild/R/R-beta-2024-04-15_r86425/bin/R CMD check --install=check:spatialDE.install-out.txt --library=/home/biocbuild/R/R-beta-2024-04-15_r86425/site-library --no-vignettes --timings spatialDE_1.10.0.tar.gz
###
##############################################################################
##############################################################################
* using log directory ‘/home/biocbuild/bbs-3.19-bioc/meat/spatialDE.Rcheck’
* using R version 4.4.0 beta (2024-04-15 r86425)
* using platform: aarch64-unknown-linux-gnu
* R was compiled by
gcc (GCC) 10.3.1
GNU Fortran (GCC) 10.3.1
* running under: openEuler 22.03 (LTS-SP1)
* using session charset: UTF-8
* using option ‘--no-vignettes’
* checking for file ‘spatialDE/DESCRIPTION’ ... OK
* this is package ‘spatialDE’ version ‘1.10.0’
* package encoding: UTF-8
* checking package namespace information ... OK
* checking package dependencies ... OK
* checking if this is a source package ... OK
* checking if there is a namespace ... OK
* checking for hidden files and directories ... OK
* checking for portable file names ... OK
* checking for sufficient/correct file permissions ... OK
* checking whether package ‘spatialDE’ can be installed ... NOTE
Found the following notes/warnings:
Non-staged installation was used
See ‘/home/biocbuild/bbs-3.19-bioc/meat/spatialDE.Rcheck/00install.out’ for details.
* checking installed package size ... OK
* checking package directory ... OK
* checking ‘build’ directory ... OK
* checking DESCRIPTION meta-information ... OK
* checking top-level files ... OK
* checking for left-over files ... OK
* checking index information ... OK
* checking package subdirectories ... OK
* checking code files for non-ASCII characters ... OK
* checking R files for syntax errors ... OK
* checking whether the package can be loaded ... OK
* checking whether the package can be loaded with stated dependencies ... OK
* checking whether the package can be unloaded cleanly ... OK
* checking whether the namespace can be loaded with stated dependencies ... OK
* checking whether the namespace can be unloaded cleanly ... OK
* checking loading without being on the library search path ... OK
* checking dependencies in R code ... OK
* checking S3 generic/method consistency ... OK
* checking replacement functions ... OK
* checking foreign function calls ... OK
* checking R code for possible problems ... OK
* checking Rd files ... OK
* checking Rd metadata ... OK
* checking Rd cross-references ... OK
* checking for missing documentation entries ... OK
* checking for code/documentation mismatches ... OK
* checking Rd \usage sections ... OK
* checking Rd contents ... OK
* checking for unstated dependencies in examples ... OK
* checking contents of ‘data’ directory ... OK
* checking data for non-ASCII characters ... OK
* checking data for ASCII and uncompressed saves ... OK
* checking line endings in shell scripts ... OK
* checking files in ‘vignettes’ ... OK
* checking examples ... OK
Examples with CPU (user + system) or elapsed time > 5s
user system elapsed
spatial_patterns 23.228 0.043 23.339
FSV_sig 6.765 0.566 8.589
* checking for unstated dependencies in ‘tests’ ... OK
* checking tests ...
Running ‘testthat.R’
OK
* checking for unstated dependencies in vignettes ... OK
* checking package vignettes ... OK
* checking running R code from vignettes ... SKIPPED
* checking re-building of vignette outputs ... SKIPPED
* checking PDF version of manual ... OK
* DONE
Status: 1 NOTE
See
‘/home/biocbuild/bbs-3.19-bioc/meat/spatialDE.Rcheck/00check.log’
for details.
spatialDE.Rcheck/00install.out
############################################################################## ############################################################################## ### ### Running command: ### ### /home/biocbuild/R/R-beta-2024-04-15_r86425/bin/R CMD INSTALL spatialDE ### ############################################################################## ############################################################################## * installing to library ‘/home/biocbuild/R/R-beta-2024-04-15_r86425/site-library’ * installing *source* package ‘spatialDE’ ... ** using non-staged installation via StagedInstall field ** R ** data ** inst ** byte-compile and prepare package for lazy loading ** help *** installing help indices ** building package indices ** installing vignettes ** testing if installed package can be loaded * DONE (spatialDE)
spatialDE.Rcheck/tests/testthat.Rout
R version 4.4.0 beta (2024-04-15 r86425) -- "Puppy Cup"
Copyright (C) 2024 The R Foundation for Statistical Computing
Platform: aarch64-unknown-linux-gnu
R is free software and comes with ABSOLUTELY NO WARRANTY.
You are welcome to redistribute it under certain conditions.
Type 'license()' or 'licence()' for distribution details.
R is a collaborative project with many contributors.
Type 'contributors()' for more information and
'citation()' on how to cite R or R packages in publications.
Type 'demo()' for some demos, 'help()' for on-line help, or
'help.start()' for an HTML browser interface to help.
Type 'q()' to quit R.
> library(testthat)
> library(spatialDE)
>
> test_check("spatialDE")
Loading required package: SingleCellExperiment
Loading required package: SummarizedExperiment
Loading required package: MatrixGenerics
Loading required package: matrixStats
Attaching package: 'MatrixGenerics'
The following objects are masked from 'package:matrixStats':
colAlls, colAnyNAs, colAnys, colAvgsPerRowSet, colCollapse,
colCounts, colCummaxs, colCummins, colCumprods, colCumsums,
colDiffs, colIQRDiffs, colIQRs, colLogSumExps, colMadDiffs,
colMads, colMaxs, colMeans2, colMedians, colMins, colOrderStats,
colProds, colQuantiles, colRanges, colRanks, colSdDiffs, colSds,
colSums2, colTabulates, colVarDiffs, colVars, colWeightedMads,
colWeightedMeans, colWeightedMedians, colWeightedSds,
colWeightedVars, rowAlls, rowAnyNAs, rowAnys, rowAvgsPerColSet,
rowCollapse, rowCounts, rowCummaxs, rowCummins, rowCumprods,
rowCumsums, rowDiffs, rowIQRDiffs, rowIQRs, rowLogSumExps,
rowMadDiffs, rowMads, rowMaxs, rowMeans2, rowMedians, rowMins,
rowOrderStats, rowProds, rowQuantiles, rowRanges, rowRanks,
rowSdDiffs, rowSds, rowSums2, rowTabulates, rowVarDiffs, rowVars,
rowWeightedMads, rowWeightedMeans, rowWeightedMedians,
rowWeightedSds, rowWeightedVars
Loading required package: GenomicRanges
Loading required package: stats4
Loading required package: BiocGenerics
Attaching package: 'BiocGenerics'
The following objects are masked from 'package:stats':
IQR, mad, sd, var, xtabs
The following objects are masked from 'package:base':
Filter, Find, Map, Position, Reduce, anyDuplicated, aperm, append,
as.data.frame, basename, cbind, colnames, dirname, do.call,
duplicated, eval, evalq, get, grep, grepl, intersect, is.unsorted,
lapply, mapply, match, mget, order, paste, pmax, pmax.int, pmin,
pmin.int, rank, rbind, rownames, sapply, setdiff, table, tapply,
union, unique, unsplit, which.max, which.min
Loading required package: S4Vectors
Attaching package: 'S4Vectors'
The following object is masked from 'package:utils':
findMatches
The following objects are masked from 'package:base':
I, expand.grid, unname
Loading required package: IRanges
Loading required package: GenomeInfoDb
Loading required package: Biobase
Welcome to Bioconductor
Vignettes contain introductory material; view with
'browseVignettes()'. To cite Bioconductor, see
'citation("Biobase")', and for packages 'citation("pkgname")'.
Attaching package: 'Biobase'
The following object is masked from 'package:MatrixGenerics':
rowMedians
The following objects are masked from 'package:matrixStats':
anyMissing, rowMedians
Models: 0%| | 0/10 [00:00<?, ?it/s]
0%| | 0/100 [00:00<?, ?it/s][A
29%|██▉ | 29/100 [00:00<00:00, 281.32it/s][A
58%|█████▊ | 58/100 [00:00<00:00, 272.32it/s][A
86%|████████▌ | 86/100 [00:00<00:00, 269.63it/s][A
[A
Models: 10%|█ | 1/10 [00:00<00:03, 2.66it/s]
0%| | 0/100 [00:00<?, ?it/s][A
20%|██ | 20/100 [00:00<00:00, 192.11it/s][A
40%|████ | 40/100 [00:00<00:00, 191.66it/s][A
60%|██████ | 60/100 [00:00<00:00, 192.17it/s][A
80%|████████ | 80/100 [00:00<00:00, 192.30it/s][A
100%|██████████| 100/100 [00:00<00:00, 192.61it/s][A
[A
Models: 20%|██ | 2/10 [00:00<00:03, 2.16it/s]
0%| | 0/100 [00:00<?, ?it/s][A
19%|█▉ | 19/100 [00:00<00:00, 184.45it/s][A
38%|███▊ | 38/100 [00:00<00:00, 182.70it/s][A
57%|█████▋ | 57/100 [00:00<00:00, 176.06it/s][A
75%|███████▌ | 75/100 [00:00<00:00, 174.01it/s][A
93%|█████████▎| 93/100 [00:00<00:00, 174.54it/s][A
[A
Models: 30%|███ | 3/10 [00:01<00:03, 1.95it/s]
0%| | 0/100 [00:00<?, ?it/s][A
18%|█▊ | 18/100 [00:00<00:00, 177.77it/s][A
37%|███▋ | 37/100 [00:00<00:00, 180.49it/s][A
56%|█████▌ | 56/100 [00:00<00:00, 173.19it/s][A
74%|███████▍ | 74/100 [00:00<00:00, 171.08it/s][A
92%|█████████▏| 92/100 [00:00<00:00, 170.11it/s][A
[A
Models: 40%|████ | 4/10 [00:02<00:03, 1.84it/s]
0%| | 0/100 [00:00<?, ?it/s][A
18%|█▊ | 18/100 [00:00<00:00, 179.46it/s][A
36%|███▌ | 36/100 [00:00<00:00, 172.08it/s][A
54%|█████▍ | 54/100 [00:00<00:00, 167.91it/s][A
71%|███████ | 71/100 [00:00<00:00, 166.69it/s][A
88%|████████▊ | 88/100 [00:00<00:00, 163.88it/s][A
[A
Models: 50%|█████ | 5/10 [00:02<00:02, 1.77it/s]
0%| | 0/100 [00:00<?, ?it/s][A
18%|█▊ | 18/100 [00:00<00:00, 177.91it/s][A
36%|███▌ | 36/100 [00:00<00:00, 171.77it/s][A
54%|█████▍ | 54/100 [00:00<00:00, 168.78it/s][A
72%|███████▏ | 72/100 [00:00<00:00, 169.60it/s][A
89%|████████▉ | 89/100 [00:00<00:00, 167.66it/s][A
[A
Models: 60%|██████ | 6/10 [00:03<00:02, 1.73it/s]
0%| | 0/100 [00:00<?, ?it/s][A
18%|█▊ | 18/100 [00:00<00:00, 173.02it/s][A
36%|███▌ | 36/100 [00:00<00:00, 167.50it/s][A
53%|█████▎ | 53/100 [00:00<00:00, 164.92it/s][A
70%|███████ | 70/100 [00:00<00:00, 166.71it/s][A
87%|████████▋ | 87/100 [00:00<00:00, 165.06it/s][A
[A
Models: 70%|███████ | 7/10 [00:03<00:01, 1.70it/s]
0%| | 0/100 [00:00<?, ?it/s][A
19%|█▉ | 19/100 [00:00<00:00, 181.14it/s][A
38%|███▊ | 38/100 [00:00<00:00, 168.04it/s][A
55%|█████▌ | 55/100 [00:00<00:00, 162.67it/s][A
73%|███████▎ | 73/100 [00:00<00:00, 166.50it/s][A
90%|█████████ | 90/100 [00:00<00:00, 165.60it/s][A
[A
Models: 80%|████████ | 8/10 [00:04<00:01, 1.69it/s]
0%| | 0/100 [00:00<?, ?it/s][A
10%|█ | 10/100 [00:00<00:01, 88.35it/s][A
28%|██▊ | 28/100 [00:00<00:00, 138.23it/s][A
45%|████▌ | 45/100 [00:00<00:00, 151.87it/s][A
62%|██████▏ | 62/100 [00:00<00:00, 156.41it/s][A
80%|████████ | 80/100 [00:00<00:00, 162.29it/s][A
97%|█████████▋| 97/100 [00:00<00:00, 162.89it/s][A
[A
Models: 90%|█████████ | 9/10 [00:05<00:00, 1.64it/s]
0%| | 0/100 [00:00<?, ?it/s][A
19%|█▉ | 19/100 [00:00<00:00, 188.23it/s][A
39%|███▉ | 39/100 [00:00<00:00, 189.22it/s][A
58%|█████▊ | 58/100 [00:00<00:00, 182.40it/s][A
77%|███████▋ | 77/100 [00:00<00:00, 184.12it/s][A
96%|█████████▌| 96/100 [00:00<00:00, 180.76it/s][A
[A
Models: 100%|██████████| 10/10 [00:05<00:00, 1.69it/s]
Models: 100%|██████████| 10/10 [00:05<00:00, 1.76it/s]
Models: 0%| | 0/10 [00:00<?, ?it/s]
0%| | 0/100 [00:00<?, ?it/s][A
28%|██▊ | 28/100 [00:00<00:00, 275.03it/s][A
56%|█████▌ | 56/100 [00:00<00:00, 253.51it/s][A
82%|████████▏ | 82/100 [00:00<00:00, 249.65it/s][A
[A
Models: 10%|█ | 1/10 [00:00<00:03, 2.48it/s]
0%| | 0/100 [00:00<?, ?it/s][A
23%|██▎ | 23/100 [00:00<00:00, 227.01it/s][A
46%|████▌ | 46/100 [00:00<00:00, 186.98it/s][A
66%|██████▌ | 66/100 [00:00<00:00, 184.47it/s][A
85%|████████▌ | 85/100 [00:00<00:00, 182.76it/s][A
[A
Models: 20%|██ | 2/10 [00:00<00:03, 2.05it/s]
0%| | 0/100 [00:00<?, ?it/s][A
22%|██▏ | 22/100 [00:00<00:00, 213.95it/s][A
44%|████▍ | 44/100 [00:00<00:00, 176.36it/s][A
63%|██████▎ | 63/100 [00:00<00:00, 173.06it/s][A
81%|████████ | 81/100 [00:00<00:00, 170.13it/s][A
99%|█████████▉| 99/100 [00:00<00:00, 163.96it/s][A
[A
Models: 30%|███ | 3/10 [00:01<00:03, 1.87it/s]
0%| | 0/100 [00:00<?, ?it/s][A
21%|██ | 21/100 [00:00<00:00, 199.60it/s][A
41%|████ | 41/100 [00:00<00:00, 169.75it/s][A
59%|█████▉ | 59/100 [00:00<00:00, 164.78it/s][A
76%|███████▌ | 76/100 [00:00<00:00, 165.47it/s][A
93%|█████████▎| 93/100 [00:00<00:00, 163.18it/s][A
[A
Models: 40%|████ | 4/10 [00:02<00:03, 1.78it/s]
0%| | 0/100 [00:00<?, ?it/s][A
21%|██ | 21/100 [00:00<00:00, 199.33it/s][A
41%|████ | 41/100 [00:00<00:00, 168.15it/s][A
59%|█████▉ | 59/100 [00:00<00:00, 162.70it/s][A
76%|███████▌ | 76/100 [00:00<00:00, 163.16it/s][A
93%|█████████▎| 93/100 [00:00<00:00, 158.97it/s][A
[A
Models: 50%|█████ | 5/10 [00:02<00:02, 1.72it/s]
0%| | 0/100 [00:00<?, ?it/s][A
21%|██ | 21/100 [00:00<00:00, 201.95it/s][A
42%|████▏ | 42/100 [00:00<00:00, 168.57it/s][A
60%|██████ | 60/100 [00:00<00:00, 164.17it/s][A
77%|███████▋ | 77/100 [00:00<00:00, 164.42it/s][A
94%|█████████▍| 94/100 [00:00<00:00, 162.33it/s][A
[A
Models: 60%|██████ | 6/10 [00:03<00:02, 1.70it/s]
0%| | 0/100 [00:00<?, ?it/s][A
21%|██ | 21/100 [00:00<00:00, 204.11it/s][A
42%|████▏ | 42/100 [00:00<00:00, 173.68it/s][A
60%|██████ | 60/100 [00:00<00:00, 167.27it/s][A
77%|███████▋ | 77/100 [00:00<00:00, 167.03it/s][A
94%|█████████▍| 94/100 [00:00<00:00, 163.32it/s][A
[A
Models: 70%|███████ | 7/10 [00:03<00:01, 1.69it/s]
0%| | 0/100 [00:00<?, ?it/s][A
20%|██ | 20/100 [00:00<00:00, 196.41it/s][A
40%|████ | 40/100 [00:00<00:00, 172.10it/s][A
58%|█████▊ | 58/100 [00:00<00:00, 168.51it/s][A
75%|███████▌ | 75/100 [00:00<00:00, 166.78it/s][A
92%|█████████▏| 92/100 [00:00<00:00, 166.14it/s][A
[A
Models: 80%|████████ | 8/10 [00:04<00:01, 1.69it/s]
0%| | 0/100 [00:00<?, ?it/s][A
21%|██ | 21/100 [00:00<00:00, 202.37it/s][A
42%|████▏ | 42/100 [00:00<00:00, 177.62it/s][A
60%|██████ | 60/100 [00:00<00:00, 173.15it/s][A
78%|███████▊ | 78/100 [00:00<00:00, 173.22it/s][A
97%|█████████▋| 97/100 [00:00<00:00, 176.31it/s][A
[A
Models: 90%|█████████ | 9/10 [00:05<00:00, 1.71it/s]
0%| | 0/100 [00:00<?, ?it/s][A
20%|██ | 20/100 [00:00<00:00, 198.17it/s][A
40%|████ | 40/100 [00:00<00:00, 181.79it/s][A
59%|█████▉ | 59/100 [00:00<00:00, 179.56it/s][A
78%|███████▊ | 78/100 [00:00<00:00, 178.91it/s][A
97%|█████████▋| 97/100 [00:00<00:00, 180.55it/s][A
[A
Models: 100%|██████████| 10/10 [00:05<00:00, 1.74it/s]
Models: 100%|██████████| 10/10 [00:05<00:00, 1.76it/s]
/home/biocbuild/.cache/R/basilisk/1.16.0/spatialDE/1.10.0/env/lib/python3.9/site-packages/pandas/core/internals/blocks.py:351: RuntimeWarning: invalid value encountered in log
result = func(self.values, **kwargs)
Models: 0%| | 0/10 [00:00<?, ?it/s]
0%| | 0/100 [00:00<?, ?it/s][A
27%|██▋ | 27/100 [00:00<00:00, 261.70it/s][A
54%|█████▍ | 54/100 [00:00<00:00, 258.79it/s][A
81%|████████ | 81/100 [00:00<00:00, 262.16it/s][A
[A
Models: 10%|█ | 1/10 [00:00<00:03, 2.62it/s]
0%| | 0/100 [00:00<?, ?it/s][A
23%|██▎ | 23/100 [00:00<00:00, 226.02it/s][A
46%|████▌ | 46/100 [00:00<00:00, 206.78it/s][A
67%|██████▋ | 67/100 [00:00<00:00, 199.12it/s][A
87%|████████▋ | 87/100 [00:00<00:00, 193.26it/s][A
[A
Models: 20%|██ | 2/10 [00:00<00:03, 2.19it/s]
0%| | 0/100 [00:00<?, ?it/s][A
21%|██ | 21/100 [00:00<00:00, 207.71it/s][A
42%|████▏ | 42/100 [00:00<00:00, 188.08it/s][A
61%|██████ | 61/100 [00:00<00:00, 175.21it/s][A
79%|███████▉ | 79/100 [00:00<00:00, 174.55it/s][A
98%|█████████▊| 98/100 [00:00<00:00, 177.18it/s][A
[A
Models: 30%|███ | 3/10 [00:01<00:03, 1.98it/s]
0%| | 0/100 [00:00<?, ?it/s][A
20%|██ | 20/100 [00:00<00:00, 193.99it/s][A
40%|████ | 40/100 [00:00<00:00, 171.75it/s][A
58%|█████▊ | 58/100 [00:00<00:00, 167.87it/s][A
76%|███████▌ | 76/100 [00:00<00:00, 169.84it/s][A
94%|█████████▍| 94/100 [00:00<00:00, 168.83it/s][A
[A
Models: 40%|████ | 4/10 [00:02<00:03, 1.86it/s]
0%| | 0/100 [00:00<?, ?it/s][A
20%|██ | 20/100 [00:00<00:00, 190.53it/s][A
40%|████ | 40/100 [00:00<00:00, 171.43it/s][A
58%|█████▊ | 58/100 [00:00<00:00, 167.82it/s][A
75%|███████▌ | 75/100 [00:00<00:00, 167.35it/s][A
92%|█████████▏| 92/100 [00:00<00:00, 168.13it/s][A
[A
Models: 50%|█████ | 5/10 [00:02<00:02, 1.79it/s]
0%| | 0/100 [00:00<?, ?it/s][A
20%|██ | 20/100 [00:00<00:00, 189.77it/s][A
39%|███▉ | 39/100 [00:00<00:00, 173.65it/s][A
57%|█████▋ | 57/100 [00:00<00:00, 169.86it/s][A
75%|███████▌ | 75/100 [00:00<00:00, 169.28it/s][A
93%|█████████▎| 93/100 [00:00<00:00, 169.91it/s][A
[A
Models: 60%|██████ | 6/10 [00:03<00:02, 1.76it/s]
0%| | 0/100 [00:00<?, ?it/s][A
20%|██ | 20/100 [00:00<00:00, 196.22it/s][A
40%|████ | 40/100 [00:00<00:00, 182.39it/s][A
59%|█████▉ | 59/100 [00:00<00:00, 174.50it/s][A
77%|███████▋ | 77/100 [00:00<00:00, 173.97it/s][A
95%|█████████▌| 95/100 [00:00<00:00, 175.58it/s][A
[A
Models: 70%|███████ | 7/10 [00:03<00:01, 1.76it/s]
0%| | 0/100 [00:00<?, ?it/s][A
20%|██ | 20/100 [00:00<00:00, 199.19it/s][A
40%|████ | 40/100 [00:00<00:00, 181.46it/s][A
59%|█████▉ | 59/100 [00:00<00:00, 174.97it/s][A
77%|███████▋ | 77/100 [00:00<00:00, 173.63it/s][A
95%|█████████▌| 95/100 [00:00<00:00, 174.64it/s][A
[A
Models: 80%|████████ | 8/10 [00:04<00:01, 1.76it/s]
0%| | 0/100 [00:00<?, ?it/s][A
21%|██ | 21/100 [00:00<00:00, 209.87it/s][A
42%|████▏ | 42/100 [00:00<00:00, 189.33it/s][A
62%|██████▏ | 62/100 [00:00<00:00, 182.32it/s][A
81%|████████ | 81/100 [00:00<00:00, 180.30it/s][A
100%|██████████| 100/100 [00:00<00:00, 180.21it/s][A
[A
Models: 90%|█████████ | 9/10 [00:04<00:00, 1.78it/s]
0%| | 0/100 [00:00<?, ?it/s][A
20%|██ | 20/100 [00:00<00:00, 199.58it/s][A
40%|████ | 40/100 [00:00<00:00, 199.41it/s][A
60%|██████ | 60/100 [00:00<00:00, 196.72it/s][A
80%|████████ | 80/100 [00:00<00:00, 192.74it/s][A
100%|██████████| 100/100 [00:00<00:00, 193.61it/s][A
[A
Models: 100%|██████████| 10/10 [00:05<00:00, 1.82it/s]
Models: 100%|██████████| 10/10 [00:05<00:00, 1.84it/s]
Models: 0%| | 0/10 [00:00<?, ?it/s]
0%| | 0/100 [00:00<?, ?it/s][A
26%|██▌ | 26/100 [00:00<00:00, 258.49it/s][A
52%|█████▏ | 52/100 [00:00<00:00, 249.98it/s][A
79%|███████▉ | 79/100 [00:00<00:00, 255.65it/s][A
[A
Models: 10%|█ | 1/10 [00:00<00:03, 2.56it/s]
0%| | 0/100 [00:00<?, ?it/s][A
22%|██▏ | 22/100 [00:00<00:00, 218.46it/s][A
44%|████▍ | 44/100 [00:00<00:00, 201.18it/s][A
65%|██████▌ | 65/100 [00:00<00:00, 197.96it/s][A
85%|████████▌ | 85/100 [00:00<00:00, 192.43it/s][A
[A
Models: 20%|██ | 2/10 [00:00<00:03, 2.16it/s]
0%| | 0/100 [00:00<?, ?it/s][A
21%|██ | 21/100 [00:00<00:00, 207.83it/s][A
42%|████▏ | 42/100 [00:00<00:00, 187.63it/s][A
61%|██████ | 61/100 [00:00<00:00, 176.13it/s][A
79%|███████▉ | 79/100 [00:00<00:00, 175.44it/s][A
98%|█████████▊| 98/100 [00:00<00:00, 178.86it/s][A
[A
Models: 30%|███ | 3/10 [00:01<00:03, 1.97it/s]
0%| | 0/100 [00:00<?, ?it/s][A
20%|██ | 20/100 [00:00<00:00, 197.08it/s][A
40%|████ | 40/100 [00:00<00:00, 173.46it/s][A
58%|█████▊ | 58/100 [00:00<00:00, 170.02it/s][A
76%|███████▌ | 76/100 [00:00<00:00, 173.57it/s][A
94%|█████████▍| 94/100 [00:00<00:00, 173.45it/s][A
[A
Models: 40%|████ | 4/10 [00:02<00:03, 1.87it/s]
0%| | 0/100 [00:00<?, ?it/s][A
20%|██ | 20/100 [00:00<00:00, 191.21it/s][A
40%|████ | 40/100 [00:00<00:00, 173.00it/s][A
58%|█████▊ | 58/100 [00:00<00:00, 166.85it/s][A
75%|███████▌ | 75/100 [00:00<00:00, 167.66it/s][A
92%|█████████▏| 92/100 [00:00<00:00, 168.38it/s][A
[A
Models: 50%|█████ | 5/10 [00:02<00:02, 1.80it/s]
0%| | 0/100 [00:00<?, ?it/s][A
20%|██ | 20/100 [00:00<00:00, 188.12it/s][A
39%|███▉ | 39/100 [00:00<00:00, 171.80it/s][A
57%|█████▋ | 57/100 [00:00<00:00, 168.19it/s][A
75%|███████▌ | 75/100 [00:00<00:00, 168.53it/s][A
92%|█████████▏| 92/100 [00:00<00:00, 168.77it/s][A
[A
Models: 60%|██████ | 6/10 [00:03<00:02, 1.76it/s]
0%| | 0/100 [00:00<?, ?it/s][A
20%|██ | 20/100 [00:00<00:00, 194.27it/s][A
40%|████ | 40/100 [00:00<00:00, 181.02it/s][A
59%|█████▉ | 59/100 [00:00<00:00, 174.15it/s][A
77%|███████▋ | 77/100 [00:00<00:00, 172.60it/s][A
95%|█████████▌| 95/100 [00:00<00:00, 173.77it/s][A
[A
Models: 70%|███████ | 7/10 [00:03<00:01, 1.75it/s]
0%| | 0/100 [00:00<?, ?it/s][A
20%|██ | 20/100 [00:00<00:00, 198.43it/s][A
40%|████ | 40/100 [00:00<00:00, 180.41it/s][A
59%|█████▉ | 59/100 [00:00<00:00, 175.06it/s][A
77%|███████▋ | 77/100 [00:00<00:00, 174.70it/s][A
95%|█████████▌| 95/100 [00:00<00:00, 176.37it/s][A
[A
Models: 80%|████████ | 8/10 [00:04<00:01, 1.76it/s]
0%| | 0/100 [00:00<?, ?it/s][A
21%|██ | 21/100 [00:00<00:00, 208.46it/s][A
42%|████▏ | 42/100 [00:00<00:00, 189.14it/s][A
62%|██████▏ | 62/100 [00:00<00:00, 182.42it/s][A
81%|████████ | 81/100 [00:00<00:00, 180.16it/s][A
100%|██████████| 100/100 [00:00<00:00, 180.59it/s][A
[A
Models: 90%|█████████ | 9/10 [00:04<00:00, 1.78it/s]
0%| | 0/100 [00:00<?, ?it/s][A
20%|██ | 20/100 [00:00<00:00, 197.53it/s][A
40%|████ | 40/100 [00:00<00:00, 195.87it/s][A
60%|██████ | 60/100 [00:00<00:00, 194.10it/s][A
80%|████████ | 80/100 [00:00<00:00, 190.55it/s][A
100%|██████████| 100/100 [00:00<00:00, 191.03it/s][A
[A
Models: 100%|██████████| 10/10 [00:05<00:00, 1.82it/s]
Models: 100%|██████████| 10/10 [00:05<00:00, 1.84it/s]
Models: 0%| | 0/10 [00:00<?, ?it/s]
0%| | 0/100 [00:00<?, ?it/s][A
27%|██▋ | 27/100 [00:00<00:00, 259.56it/s][A
53%|█████▎ | 53/100 [00:00<00:00, 252.87it/s][A
80%|████████ | 80/100 [00:00<00:00, 256.88it/s][A
[A
Models: 10%|█ | 1/10 [00:00<00:03, 2.58it/s]
0%| | 0/100 [00:00<?, ?it/s][A
23%|██▎ | 23/100 [00:00<00:00, 223.37it/s][A
46%|████▌ | 46/100 [00:00<00:00, 203.58it/s][A
67%|██████▋ | 67/100 [00:00<00:00, 195.34it/s][A
87%|████████▋ | 87/100 [00:00<00:00, 188.86it/s][A
[A
Models: 20%|██ | 2/10 [00:00<00:03, 2.15it/s]
0%| | 0/100 [00:00<?, ?it/s][A
21%|██ | 21/100 [00:00<00:00, 205.15it/s][A
42%|████▏ | 42/100 [00:00<00:00, 185.79it/s][A
61%|██████ | 61/100 [00:00<00:00, 175.73it/s][A
79%|███████▉ | 79/100 [00:00<00:00, 175.36it/s][A
98%|█████████▊| 98/100 [00:00<00:00, 178.42it/s][A
[A
Models: 30%|███ | 3/10 [00:01<00:03, 1.97it/s]
0%| | 0/100 [00:00<?, ?it/s][A
20%|██ | 20/100 [00:00<00:00, 197.14it/s][A
40%|████ | 40/100 [00:00<00:00, 173.10it/s][A
58%|█████▊ | 58/100 [00:00<00:00, 169.14it/s][A
76%|███████▌ | 76/100 [00:00<00:00, 172.65it/s][A
94%|█████████▍| 94/100 [00:00<00:00, 172.04it/s][A
[A
Models: 40%|████ | 4/10 [00:02<00:03, 1.86it/s]
0%| | 0/100 [00:00<?, ?it/s][A
20%|██ | 20/100 [00:00<00:00, 186.44it/s][A
39%|███▉ | 39/100 [00:00<00:00, 169.65it/s][A
57%|█████▋ | 57/100 [00:00<00:00, 167.19it/s][A
74%|███████▍ | 74/100 [00:00<00:00, 166.85it/s][A
92%|█████████▏| 92/100 [00:00<00:00, 168.09it/s][A
[A
Models: 50%|█████ | 5/10 [00:02<00:02, 1.79it/s]
0%| | 0/100 [00:00<?, ?it/s][A
19%|█▉ | 19/100 [00:00<00:00, 189.58it/s][A
38%|███▊ | 38/100 [00:00<00:00, 170.18it/s][A
56%|█████▌ | 56/100 [00:00<00:00, 167.66it/s][A
73%|███████▎ | 73/100 [00:00<00:00, 166.97it/s][A
90%|█████████ | 90/100 [00:00<00:00, 167.02it/s][A
[A
Models: 60%|██████ | 6/10 [00:03<00:02, 1.75it/s]
0%| | 0/100 [00:00<?, ?it/s][A
20%|██ | 20/100 [00:00<00:00, 193.34it/s][A
40%|████ | 40/100 [00:00<00:00, 179.68it/s][A
59%|█████▉ | 59/100 [00:00<00:00, 172.46it/s][A
77%|███████▋ | 77/100 [00:00<00:00, 171.78it/s][A
95%|█████████▌| 95/100 [00:00<00:00, 172.40it/s][A
[A
Models: 70%|███████ | 7/10 [00:03<00:01, 1.74it/s]
0%| | 0/100 [00:00<?, ?it/s][A
20%|██ | 20/100 [00:00<00:00, 196.99it/s][A
40%|████ | 40/100 [00:00<00:00, 179.67it/s][A
59%|█████▉ | 59/100 [00:00<00:00, 174.26it/s][A
77%|███████▋ | 77/100 [00:00<00:00, 172.69it/s][A
95%|█████████▌| 95/100 [00:00<00:00, 174.55it/s][A
[A
Models: 80%|████████ | 8/10 [00:04<00:01, 1.75it/s]
0%| | 0/100 [00:00<?, ?it/s][A
21%|██ | 21/100 [00:00<00:00, 208.85it/s][A
42%|████▏ | 42/100 [00:00<00:00, 188.33it/s][A
61%|██████ | 61/100 [00:00<00:00, 180.13it/s][A
80%|████████ | 80/100 [00:00<00:00, 180.21it/s][A
99%|█████████▉| 99/100 [00:00<00:00, 180.61it/s][A
[A
Models: 90%|█████████ | 9/10 [00:04<00:00, 1.77it/s]
0%| | 0/100 [00:00<?, ?it/s][A
20%|██ | 20/100 [00:00<00:00, 196.87it/s][A
40%|████ | 40/100 [00:00<00:00, 197.25it/s][A
60%|██████ | 60/100 [00:00<00:00, 195.07it/s][A
80%|████████ | 80/100 [00:00<00:00, 191.12it/s][A
100%|██████████| 100/100 [00:00<00:00, 190.94it/s][A
[A
Models: 100%|██████████| 10/10 [00:05<00:00, 1.81it/s]
Models: 100%|██████████| 10/10 [00:05<00:00, 1.83it/s]
[ FAIL 0 | WARN 0 | SKIP 0 | PASS 29 ]
>
> proc.time()
user system elapsed
75.476 1.457 76.900
spatialDE.Rcheck/spatialDE-Ex.timings
| name | user | system | elapsed | |
| FSV_sig | 6.765 | 0.566 | 8.589 | |
| mockSVG | 0.406 | 0.040 | 0.446 | |
| modelSearch | 2.752 | 0.096 | 2.856 | |
| model_search | 2.225 | 0.039 | 2.271 | |
| multiGenePlots | 3.153 | 0.144 | 3.308 | |
| regress_out | 0.223 | 0.000 | 0.224 | |
| run | 1.140 | 0.011 | 1.155 | |
| spatialDE | 1.338 | 0.040 | 1.383 | |
| spatialPatterns | 1.205 | 0.036 | 1.246 | |
| spatial_patterns | 23.228 | 0.043 | 23.339 | |
| stabilize | 0.196 | 0.004 | 0.201 | |