| Back to Multiple platform build/check report for BioC 3.19: simplified long |
|
This page was generated on 2024-10-18 20:38 -0400 (Fri, 18 Oct 2024).
| Hostname | OS | Arch (*) | R version | Installed pkgs |
|---|---|---|---|---|
| nebbiolo1 | Linux (Ubuntu 22.04.3 LTS) | x86_64 | 4.4.1 (2024-06-14) -- "Race for Your Life" | 4763 |
| palomino7 | Windows Server 2022 Datacenter | x64 | 4.4.1 (2024-06-14 ucrt) -- "Race for Your Life" | 4500 |
| merida1 | macOS 12.7.5 Monterey | x86_64 | 4.4.1 (2024-06-14) -- "Race for Your Life" | 4530 |
| kjohnson1 | macOS 13.6.6 Ventura | arm64 | 4.4.1 (2024-06-14) -- "Race for Your Life" | 4480 |
| Click on any hostname to see more info about the system (e.g. compilers) (*) as reported by 'uname -p', except on Windows and Mac OS X | ||||
| Package 2032/2300 | Hostname | OS / Arch | INSTALL | BUILD | CHECK | BUILD BIN | ||||||||
| spatialDE 1.10.0 (landing page) Gabriele Sales
| nebbiolo1 | Linux (Ubuntu 22.04.3 LTS) / x86_64 | OK | OK | OK | |||||||||
| palomino7 | Windows Server 2022 Datacenter / x64 | OK | OK | OK | OK | |||||||||
| merida1 | macOS 12.7.5 Monterey / x86_64 | OK | OK | OK | OK | |||||||||
| kjohnson1 | macOS 13.6.6 Ventura / arm64 | OK | OK | OK | NA | |||||||||
|
To the developers/maintainers of the spatialDE package: - Allow up to 24 hours (and sometimes 48 hours) for your latest push to git@git.bioconductor.org:packages/spatialDE.git to reflect on this report. See Troubleshooting Build Report for more information. - Use the following Renviron settings to reproduce errors and warnings. - If 'R CMD check' started to fail recently on the Linux builder(s) over a missing dependency, add the missing dependency to 'Suggests:' in your DESCRIPTION file. See Renviron.bioc for more information. |
| Package: spatialDE |
| Version: 1.10.0 |
| Command: /home/biocbuild/bbs-3.19-bioc/R/bin/R CMD check --install=check:spatialDE.install-out.txt --library=/home/biocbuild/bbs-3.19-bioc/R/site-library --timings spatialDE_1.10.0.tar.gz |
| StartedAt: 2024-10-17 05:22:41 -0400 (Thu, 17 Oct 2024) |
| EndedAt: 2024-10-17 05:29:43 -0400 (Thu, 17 Oct 2024) |
| EllapsedTime: 421.9 seconds |
| RetCode: 0 |
| Status: OK |
| CheckDir: spatialDE.Rcheck |
| Warnings: 0 |
##############################################################################
##############################################################################
###
### Running command:
###
### /home/biocbuild/bbs-3.19-bioc/R/bin/R CMD check --install=check:spatialDE.install-out.txt --library=/home/biocbuild/bbs-3.19-bioc/R/site-library --timings spatialDE_1.10.0.tar.gz
###
##############################################################################
##############################################################################
* using log directory ‘/home/biocbuild/bbs-3.19-bioc/meat/spatialDE.Rcheck’
* using R version 4.4.1 (2024-06-14)
* using platform: x86_64-pc-linux-gnu
* R was compiled by
gcc (Ubuntu 11.4.0-1ubuntu1~22.04) 11.4.0
GNU Fortran (Ubuntu 11.4.0-1ubuntu1~22.04) 11.4.0
* running under: Ubuntu 22.04.5 LTS
* using session charset: UTF-8
* checking for file ‘spatialDE/DESCRIPTION’ ... OK
* this is package ‘spatialDE’ version ‘1.10.0’
* package encoding: UTF-8
* checking package namespace information ... OK
* checking package dependencies ... OK
* checking if this is a source package ... OK
* checking if there is a namespace ... OK
* checking for hidden files and directories ... OK
* checking for portable file names ... OK
* checking for sufficient/correct file permissions ... OK
* checking whether package ‘spatialDE’ can be installed ... NOTE
Found the following notes/warnings:
Non-staged installation was used
See ‘/home/biocbuild/bbs-3.19-bioc/meat/spatialDE.Rcheck/00install.out’ for details.
* checking installed package size ... OK
* checking package directory ... OK
* checking ‘build’ directory ... OK
* checking DESCRIPTION meta-information ... OK
* checking top-level files ... OK
* checking for left-over files ... OK
* checking index information ... OK
* checking package subdirectories ... OK
* checking code files for non-ASCII characters ... OK
* checking R files for syntax errors ... OK
* checking whether the package can be loaded ... OK
* checking whether the package can be loaded with stated dependencies ... OK
* checking whether the package can be unloaded cleanly ... OK
* checking whether the namespace can be loaded with stated dependencies ... OK
* checking whether the namespace can be unloaded cleanly ... OK
* checking loading without being on the library search path ... OK
* checking dependencies in R code ... OK
* checking S3 generic/method consistency ... OK
* checking replacement functions ... OK
* checking foreign function calls ... OK
* checking R code for possible problems ... OK
* checking Rd files ... OK
* checking Rd metadata ... OK
* checking Rd cross-references ... OK
* checking for missing documentation entries ... OK
* checking for code/documentation mismatches ... OK
* checking Rd \usage sections ... OK
* checking Rd contents ... OK
* checking for unstated dependencies in examples ... OK
* checking contents of ‘data’ directory ... OK
* checking data for non-ASCII characters ... OK
* checking data for ASCII and uncompressed saves ... OK
* checking line endings in shell scripts ... OK
* checking files in ‘vignettes’ ... OK
* checking examples ... OK
Examples with CPU (user + system) or elapsed time > 5s
user system elapsed
spatial_patterns 57.100 1.714 56.847
FSV_sig 6.093 1.120 6.891
* checking for unstated dependencies in ‘tests’ ... OK
* checking tests ...
Running ‘testthat.R’
OK
* checking for unstated dependencies in vignettes ... OK
* checking package vignettes ... OK
* checking re-building of vignette outputs ... OK
* checking PDF version of manual ... OK
* DONE
Status: 1 NOTE
See
‘/home/biocbuild/bbs-3.19-bioc/meat/spatialDE.Rcheck/00check.log’
for details.
spatialDE.Rcheck/00install.out
############################################################################## ############################################################################## ### ### Running command: ### ### /home/biocbuild/bbs-3.19-bioc/R/bin/R CMD INSTALL spatialDE ### ############################################################################## ############################################################################## * installing to library ‘/home/biocbuild/bbs-3.19-bioc/R/site-library’ * installing *source* package ‘spatialDE’ ... ** using non-staged installation via StagedInstall field ** R ** data ** inst ** byte-compile and prepare package for lazy loading ** help *** installing help indices ** building package indices ** installing vignettes ** testing if installed package can be loaded * DONE (spatialDE)
spatialDE.Rcheck/tests/testthat.Rout
R version 4.4.1 (2024-06-14) -- "Race for Your Life"
Copyright (C) 2024 The R Foundation for Statistical Computing
Platform: x86_64-pc-linux-gnu
R is free software and comes with ABSOLUTELY NO WARRANTY.
You are welcome to redistribute it under certain conditions.
Type 'license()' or 'licence()' for distribution details.
R is a collaborative project with many contributors.
Type 'contributors()' for more information and
'citation()' on how to cite R or R packages in publications.
Type 'demo()' for some demos, 'help()' for on-line help, or
'help.start()' for an HTML browser interface to help.
Type 'q()' to quit R.
> library(testthat)
> library(spatialDE)
>
> test_check("spatialDE")
Loading required package: SingleCellExperiment
Loading required package: SummarizedExperiment
Loading required package: MatrixGenerics
Loading required package: matrixStats
Attaching package: 'MatrixGenerics'
The following objects are masked from 'package:matrixStats':
colAlls, colAnyNAs, colAnys, colAvgsPerRowSet, colCollapse,
colCounts, colCummaxs, colCummins, colCumprods, colCumsums,
colDiffs, colIQRDiffs, colIQRs, colLogSumExps, colMadDiffs,
colMads, colMaxs, colMeans2, colMedians, colMins, colOrderStats,
colProds, colQuantiles, colRanges, colRanks, colSdDiffs, colSds,
colSums2, colTabulates, colVarDiffs, colVars, colWeightedMads,
colWeightedMeans, colWeightedMedians, colWeightedSds,
colWeightedVars, rowAlls, rowAnyNAs, rowAnys, rowAvgsPerColSet,
rowCollapse, rowCounts, rowCummaxs, rowCummins, rowCumprods,
rowCumsums, rowDiffs, rowIQRDiffs, rowIQRs, rowLogSumExps,
rowMadDiffs, rowMads, rowMaxs, rowMeans2, rowMedians, rowMins,
rowOrderStats, rowProds, rowQuantiles, rowRanges, rowRanks,
rowSdDiffs, rowSds, rowSums2, rowTabulates, rowVarDiffs, rowVars,
rowWeightedMads, rowWeightedMeans, rowWeightedMedians,
rowWeightedSds, rowWeightedVars
Loading required package: GenomicRanges
Loading required package: stats4
Loading required package: BiocGenerics
Attaching package: 'BiocGenerics'
The following objects are masked from 'package:stats':
IQR, mad, sd, var, xtabs
The following objects are masked from 'package:base':
Filter, Find, Map, Position, Reduce, anyDuplicated, aperm, append,
as.data.frame, basename, cbind, colnames, dirname, do.call,
duplicated, eval, evalq, get, grep, grepl, intersect, is.unsorted,
lapply, mapply, match, mget, order, paste, pmax, pmax.int, pmin,
pmin.int, rank, rbind, rownames, sapply, setdiff, table, tapply,
union, unique, unsplit, which.max, which.min
Loading required package: S4Vectors
Attaching package: 'S4Vectors'
The following object is masked from 'package:utils':
findMatches
The following objects are masked from 'package:base':
I, expand.grid, unname
Loading required package: IRanges
Loading required package: GenomeInfoDb
Loading required package: Biobase
Welcome to Bioconductor
Vignettes contain introductory material; view with
'browseVignettes()'. To cite Bioconductor, see
'citation("Biobase")', and for packages 'citation("pkgname")'.
Attaching package: 'Biobase'
The following object is masked from 'package:MatrixGenerics':
rowMedians
The following objects are masked from 'package:matrixStats':
anyMissing, rowMedians
Models: 0%| | 0/10 [00:00<?, ?it/s]
0%| | 0/100 [00:00<?, ?it/s][A
45%|████▌ | 45/100 [00:00<00:00, 449.77it/s][A
90%|█████████ | 90/100 [00:00<00:00, 337.15it/s][A
[A
Models: 10%|█ | 1/10 [00:00<00:02, 3.57it/s]
0%| | 0/100 [00:00<?, ?it/s][A
35%|███▌ | 35/100 [00:00<00:00, 346.37it/s][A
70%|███████ | 70/100 [00:00<00:00, 324.24it/s][A
[A
Models: 20%|██ | 2/10 [00:00<00:02, 3.38it/s]
0%| | 0/100 [00:00<?, ?it/s][A
32%|███▏ | 32/100 [00:00<00:00, 314.57it/s][A
64%|██████▍ | 64/100 [00:00<00:00, 298.74it/s][A
96%|█████████▌| 96/100 [00:00<00:00, 304.72it/s][A
[A
Models: 30%|███ | 3/10 [00:00<00:02, 3.21it/s]
0%| | 0/100 [00:00<?, ?it/s][A
30%|███ | 30/100 [00:00<00:00, 299.95it/s][A
60%|██████ | 60/100 [00:00<00:00, 285.30it/s][A
90%|█████████ | 90/100 [00:00<00:00, 291.32it/s][A
[A
Models: 40%|████ | 4/10 [00:01<00:01, 3.07it/s]
0%| | 0/100 [00:00<?, ?it/s][A
29%|██▉ | 29/100 [00:00<00:00, 286.98it/s][A
58%|█████▊ | 58/100 [00:00<00:00, 281.40it/s][A
88%|████████▊ | 88/100 [00:00<00:00, 285.55it/s][A
[A
Models: 50%|█████ | 5/10 [00:01<00:01, 2.98it/s]
0%| | 0/100 [00:00<?, ?it/s][A
30%|███ | 30/100 [00:00<00:00, 295.29it/s][A
60%|██████ | 60/100 [00:00<00:00, 287.85it/s][A
89%|████████▉ | 89/100 [00:00<00:00, 288.05it/s][A
[A
Models: 60%|██████ | 6/10 [00:01<00:01, 2.94it/s]
0%| | 0/100 [00:00<?, ?it/s][A
31%|███ | 31/100 [00:00<00:00, 300.28it/s][A
62%|██████▏ | 62/100 [00:00<00:00, 292.85it/s][A
94%|█████████▍| 94/100 [00:00<00:00, 301.83it/s][A
[A
Models: 70%|███████ | 7/10 [00:02<00:01, 2.95it/s]
0%| | 0/100 [00:00<?, ?it/s][A
30%|███ | 30/100 [00:00<00:00, 297.34it/s][A
60%|██████ | 60/100 [00:00<00:00, 290.11it/s][A
90%|█████████ | 90/100 [00:00<00:00, 289.21it/s][A
[A
Models: 80%|████████ | 8/10 [00:02<00:00, 2.93it/s]
0%| | 0/100 [00:00<?, ?it/s][A
21%|██ | 21/100 [00:00<00:00, 207.18it/s][A
49%|████▉ | 49/100 [00:00<00:00, 249.77it/s][A
79%|███████▉ | 79/100 [00:00<00:00, 272.05it/s][A
[A
Models: 90%|█████████ | 9/10 [00:03<00:00, 2.83it/s]
0%| | 0/100 [00:00<?, ?it/s][A
31%|███ | 31/100 [00:00<00:00, 306.32it/s][A
62%|██████▏ | 62/100 [00:00<00:00, 299.43it/s][A
93%|█████████▎| 93/100 [00:00<00:00, 302.04it/s][A
[A
Models: 100%|██████████| 10/10 [00:03<00:00, 2.88it/s]
Models: 100%|██████████| 10/10 [00:03<00:00, 2.97it/s]
Models: 0%| | 0/10 [00:00<?, ?it/s]
0%| | 0/100 [00:00<?, ?it/s][A
45%|████▌ | 45/100 [00:00<00:00, 438.53it/s][A
89%|████████▉ | 89/100 [00:00<00:00, 432.30it/s][A
[A
Models: 10%|█ | 1/10 [00:00<00:02, 4.27it/s]
0%| | 0/100 [00:00<?, ?it/s][A
35%|███▌ | 35/100 [00:00<00:00, 340.05it/s][A
70%|███████ | 70/100 [00:00<00:00, 318.20it/s][A
[A
Models: 20%|██ | 2/10 [00:00<00:02, 3.53it/s]
0%| | 0/100 [00:00<?, ?it/s][A
34%|███▍ | 34/100 [00:00<00:00, 333.80it/s][A
68%|██████▊ | 68/100 [00:00<00:00, 306.72it/s][A
99%|█████████▉| 99/100 [00:00<00:00, 292.97it/s][A
[A
Models: 30%|███ | 3/10 [00:00<00:02, 3.24it/s]
0%| | 0/100 [00:00<?, ?it/s][A
32%|███▏ | 32/100 [00:00<00:00, 319.80it/s][A
64%|██████▍ | 64/100 [00:00<00:00, 291.45it/s][A
94%|█████████▍| 94/100 [00:00<00:00, 287.36it/s][A
[A
Models: 40%|████ | 4/10 [00:01<00:01, 3.10it/s]
0%| | 0/100 [00:00<?, ?it/s][A
32%|███▏ | 32/100 [00:00<00:00, 313.04it/s][A
64%|██████▍ | 64/100 [00:00<00:00, 291.29it/s][A
94%|█████████▍| 94/100 [00:00<00:00, 281.30it/s][A
[A
Models: 50%|█████ | 5/10 [00:01<00:01, 3.00it/s]
0%| | 0/100 [00:00<?, ?it/s][A
33%|███▎ | 33/100 [00:00<00:00, 318.76it/s][A
65%|██████▌ | 65/100 [00:00<00:00, 295.37it/s][A
95%|█████████▌| 95/100 [00:00<00:00, 288.92it/s][A
[A
Models: 60%|██████ | 6/10 [00:01<00:01, 2.97it/s]
0%| | 0/100 [00:00<?, ?it/s][A
33%|███▎ | 33/100 [00:00<00:00, 318.84it/s][A
65%|██████▌ | 65/100 [00:00<00:00, 300.78it/s][A
96%|█████████▌| 96/100 [00:00<00:00, 297.04it/s][A
[A
Models: 70%|███████ | 7/10 [00:02<00:01, 2.97it/s]
0%| | 0/100 [00:00<?, ?it/s][A
32%|███▏ | 32/100 [00:00<00:00, 316.30it/s][A
64%|██████▍ | 64/100 [00:00<00:00, 295.34it/s][A
94%|█████████▍| 94/100 [00:00<00:00, 292.31it/s][A
[A
Models: 80%|████████ | 8/10 [00:02<00:00, 2.96it/s]
0%| | 0/100 [00:00<?, ?it/s][A
33%|███▎ | 33/100 [00:00<00:00, 318.99it/s][A
65%|██████▌ | 65/100 [00:00<00:00, 297.91it/s][A
96%|█████████▌| 96/100 [00:00<00:00, 301.31it/s][A
[A
Models: 90%|█████████ | 9/10 [00:02<00:00, 2.97it/s]
0%| | 0/100 [00:00<?, ?it/s][A
34%|███▍ | 34/100 [00:00<00:00, 329.36it/s][A
67%|██████▋ | 67/100 [00:00<00:00, 315.04it/s][A
99%|█████████▉| 99/100 [00:00<00:00, 315.35it/s][A
[A
Models: 100%|██████████| 10/10 [00:03<00:00, 3.02it/s]
Models: 100%|██████████| 10/10 [00:03<00:00, 3.07it/s]
/var/cache/basilisk/1.16.0/spatialDE/1.10.0/env/lib/python3.9/site-packages/pandas/core/internals/blocks.py:351: RuntimeWarning: invalid value encountered in log
result = func(self.values, **kwargs)
Models: 0%| | 0/10 [00:00<?, ?it/s]
0%| | 0/100 [00:00<?, ?it/s][A
42%|████▏ | 42/100 [00:00<00:00, 418.60it/s][A
88%|████████▊ | 88/100 [00:00<00:00, 440.29it/s][A
[A
Models: 10%|█ | 1/10 [00:00<00:02, 4.33it/s]
0%| | 0/100 [00:00<?, ?it/s][A
36%|███▌ | 36/100 [00:00<00:00, 356.90it/s][A
72%|███████▏ | 72/100 [00:00<00:00, 335.42it/s][A
[A
Models: 20%|██ | 2/10 [00:00<00:02, 3.67it/s]
0%| | 0/100 [00:00<?, ?it/s][A
34%|███▍ | 34/100 [00:00<00:00, 331.12it/s][A
68%|██████▊ | 68/100 [00:00<00:00, 313.59it/s][A
100%|██████████| 100/100 [00:00<00:00, 260.15it/s][A
[A
Models: 30%|███ | 3/10 [00:00<00:02, 3.17it/s]
0%| | 0/100 [00:00<?, ?it/s][A
32%|███▏ | 32/100 [00:00<00:00, 318.07it/s][A
64%|██████▍ | 64/100 [00:00<00:00, 300.83it/s][A
95%|█████████▌| 95/100 [00:00<00:00, 296.27it/s][A
[A
Models: 40%|████ | 4/10 [00:01<00:01, 3.08it/s]
0%| | 0/100 [00:00<?, ?it/s][A
31%|███ | 31/100 [00:00<00:00, 309.72it/s][A
62%|██████▏ | 62/100 [00:00<00:00, 291.22it/s][A
92%|█████████▏| 92/100 [00:00<00:00, 289.81it/s][A
[A
Models: 50%|█████ | 5/10 [00:01<00:01, 3.02it/s]
0%| | 0/100 [00:00<?, ?it/s][A
31%|███ | 31/100 [00:00<00:00, 307.43it/s][A
62%|██████▏ | 62/100 [00:00<00:00, 293.70it/s][A
92%|█████████▏| 92/100 [00:00<00:00, 292.24it/s][A
[A
Models: 60%|██████ | 6/10 [00:01<00:01, 2.98it/s]
0%| | 0/100 [00:00<?, ?it/s][A
32%|███▏ | 32/100 [00:00<00:00, 312.96it/s][A
64%|██████▍ | 64/100 [00:00<00:00, 303.42it/s][A
95%|█████████▌| 95/100 [00:00<00:00, 300.21it/s][A
[A
Models: 70%|███████ | 7/10 [00:02<00:01, 2.99it/s]
0%| | 0/100 [00:00<?, ?it/s][A
33%|███▎ | 33/100 [00:00<00:00, 321.69it/s][A
66%|██████▌ | 66/100 [00:00<00:00, 305.33it/s][A
97%|█████████▋| 97/100 [00:00<00:00, 303.34it/s][A
[A
Models: 80%|████████ | 8/10 [00:02<00:00, 3.00it/s]
0%| | 0/100 [00:00<?, ?it/s][A
34%|███▍ | 34/100 [00:00<00:00, 328.59it/s][A
67%|██████▋ | 67/100 [00:00<00:00, 313.90it/s][A
99%|█████████▉| 99/100 [00:00<00:00, 309.11it/s][A
[A
Models: 90%|█████████ | 9/10 [00:02<00:00, 3.03it/s]
0%| | 0/100 [00:00<?, ?it/s][A
34%|███▍ | 34/100 [00:00<00:00, 337.55it/s][A
68%|██████▊ | 68/100 [00:00<00:00, 326.81it/s][A
[A
Models: 100%|██████████| 10/10 [00:03<00:00, 3.08it/s]
Models: 100%|██████████| 10/10 [00:03<00:00, 3.10it/s]
Models: 0%| | 0/10 [00:00<?, ?it/s]
0%| | 0/100 [00:00<?, ?it/s][A
43%|████▎ | 43/100 [00:00<00:00, 417.81it/s][A
90%|█████████ | 90/100 [00:00<00:00, 442.66it/s][A
[A
Models: 10%|█ | 1/10 [00:00<00:02, 4.36it/s]
0%| | 0/100 [00:00<?, ?it/s][A
37%|███▋ | 37/100 [00:00<00:00, 361.41it/s][A
74%|███████▍ | 74/100 [00:00<00:00, 344.44it/s][A
[A
Models: 20%|██ | 2/10 [00:00<00:02, 3.71it/s]
0%| | 0/100 [00:00<?, ?it/s][A
33%|███▎ | 33/100 [00:00<00:00, 327.33it/s][A
66%|██████▌ | 66/100 [00:00<00:00, 312.02it/s][A
98%|█████████▊| 98/100 [00:00<00:00, 310.48it/s][A
[A
Models: 30%|███ | 3/10 [00:00<00:02, 3.40it/s]
0%| | 0/100 [00:00<?, ?it/s][A
32%|███▏ | 32/100 [00:00<00:00, 316.70it/s][A
64%|██████▍ | 64/100 [00:00<00:00, 298.64it/s][A
94%|█████████▍| 94/100 [00:00<00:00, 295.48it/s][A
[A
Models: 40%|████ | 4/10 [00:01<00:01, 3.21it/s]
0%| | 0/100 [00:00<?, ?it/s][A
32%|███▏ | 32/100 [00:00<00:00, 312.76it/s][A
64%|██████▍ | 64/100 [00:00<00:00, 297.76it/s][A
94%|█████████▍| 94/100 [00:00<00:00, 296.60it/s][A
[A
Models: 50%|█████ | 5/10 [00:01<00:01, 3.11it/s]
0%| | 0/100 [00:00<?, ?it/s][A
31%|███ | 31/100 [00:00<00:00, 309.51it/s][A
62%|██████▏ | 62/100 [00:00<00:00, 288.06it/s][A
91%|█████████ | 91/100 [00:00<00:00, 286.74it/s][A
[A
Models: 60%|██████ | 6/10 [00:01<00:01, 3.03it/s]
0%| | 0/100 [00:00<?, ?it/s][A
32%|███▏ | 32/100 [00:00<00:00, 317.56it/s][A
64%|██████▍ | 64/100 [00:00<00:00, 307.33it/s][A
95%|█████████▌| 95/100 [00:00<00:00, 301.47it/s][A
[A
Models: 70%|███████ | 7/10 [00:02<00:00, 3.02it/s]
0%| | 0/100 [00:00<?, ?it/s][A
33%|███▎ | 33/100 [00:00<00:00, 320.45it/s][A
66%|██████▌ | 66/100 [00:00<00:00, 304.05it/s][A
97%|█████████▋| 97/100 [00:00<00:00, 301.43it/s][A
[A
Models: 80%|████████ | 8/10 [00:02<00:00, 3.02it/s]
0%| | 0/100 [00:00<?, ?it/s][A
34%|███▍ | 34/100 [00:00<00:00, 335.30it/s][A
68%|██████▊ | 68/100 [00:00<00:00, 311.09it/s][A
100%|██████████| 100/100 [00:00<00:00, 307.70it/s][A
[A
Models: 90%|█████████ | 9/10 [00:02<00:00, 3.04it/s]
0%| | 0/100 [00:00<?, ?it/s][A
34%|███▍ | 34/100 [00:00<00:00, 336.39it/s][A
68%|██████▊ | 68/100 [00:00<00:00, 335.08it/s][A
[A
Models: 100%|██████████| 10/10 [00:03<00:00, 3.11it/s]
Models: 100%|██████████| 10/10 [00:03<00:00, 3.15it/s]
Models: 0%| | 0/10 [00:00<?, ?it/s]
0%| | 0/100 [00:00<?, ?it/s][A
43%|████▎ | 43/100 [00:00<00:00, 417.53it/s][A
90%|█████████ | 90/100 [00:00<00:00, 443.57it/s][A
[A
Models: 10%|█ | 1/10 [00:00<00:02, 4.34it/s]
0%| | 0/100 [00:00<?, ?it/s][A
36%|███▌ | 36/100 [00:00<00:00, 351.02it/s][A
72%|███████▏ | 72/100 [00:00<00:00, 335.93it/s][A
[A
Models: 20%|██ | 2/10 [00:00<00:02, 3.67it/s]
0%| | 0/100 [00:00<?, ?it/s][A
33%|███▎ | 33/100 [00:00<00:00, 327.59it/s][A
66%|██████▌ | 66/100 [00:00<00:00, 313.88it/s][A
98%|█████████▊| 98/100 [00:00<00:00, 309.71it/s][A
[A
Models: 30%|███ | 3/10 [00:00<00:02, 3.38it/s]
0%| | 0/100 [00:00<?, ?it/s][A
32%|███▏ | 32/100 [00:00<00:00, 317.88it/s][A
64%|██████▍ | 64/100 [00:00<00:00, 301.13it/s][A
95%|█████████▌| 95/100 [00:00<00:00, 299.35it/s][A
[A
Models: 40%|████ | 4/10 [00:01<00:01, 3.21it/s]
0%| | 0/100 [00:00<?, ?it/s][A
32%|███▏ | 32/100 [00:00<00:00, 314.53it/s][A
64%|██████▍ | 64/100 [00:00<00:00, 297.72it/s][A
94%|█████████▍| 94/100 [00:00<00:00, 296.22it/s][A
[A
Models: 50%|█████ | 5/10 [00:01<00:01, 3.12it/s]
0%| | 0/100 [00:00<?, ?it/s][A
31%|███ | 31/100 [00:00<00:00, 309.69it/s][A
62%|██████▏ | 62/100 [00:00<00:00, 290.48it/s][A
92%|█████████▏| 92/100 [00:00<00:00, 290.30it/s][A
[A
Models: 60%|██████ | 6/10 [00:01<00:01, 3.04it/s]
0%| | 0/100 [00:00<?, ?it/s][A
32%|███▏ | 32/100 [00:00<00:00, 314.09it/s][A
64%|██████▍ | 64/100 [00:00<00:00, 304.78it/s][A
95%|█████████▌| 95/100 [00:00<00:00, 301.64it/s][A
[A
Models: 70%|███████ | 7/10 [00:02<00:00, 3.03it/s]
0%| | 0/100 [00:00<?, ?it/s][A
33%|███▎ | 33/100 [00:00<00:00, 323.66it/s][A
66%|██████▌ | 66/100 [00:00<00:00, 301.00it/s][A
97%|█████████▋| 97/100 [00:00<00:00, 299.18it/s][A
[A
Models: 80%|████████ | 8/10 [00:02<00:00, 3.01it/s]
0%| | 0/100 [00:00<?, ?it/s][A
34%|███▍ | 34/100 [00:00<00:00, 337.23it/s][A
68%|██████▊ | 68/100 [00:00<00:00, 314.57it/s][A
100%|██████████| 100/100 [00:00<00:00, 310.76it/s][A
[A
Models: 90%|█████████ | 9/10 [00:02<00:00, 3.04it/s]
0%| | 0/100 [00:00<?, ?it/s][A
35%|███▌ | 35/100 [00:00<00:00, 339.84it/s][A
69%|██████▉ | 69/100 [00:00<00:00, 338.78it/s][A
[A
Models: 100%|██████████| 10/10 [00:03<00:00, 3.13it/s]
Models: 100%|██████████| 10/10 [00:03<00:00, 3.16it/s]
[ FAIL 0 | WARN 0 | SKIP 0 | PASS 29 ]
>
> proc.time()
user system elapsed
48.540 7.443 48.150
spatialDE.Rcheck/spatialDE-Ex.timings
| name | user | system | elapsed | |
| FSV_sig | 6.093 | 1.120 | 6.891 | |
| mockSVG | 0.257 | 0.044 | 0.302 | |
| modelSearch | 3.416 | 0.384 | 3.409 | |
| model_search | 3.056 | 0.420 | 3.006 | |
| multiGenePlots | 3.092 | 0.428 | 3.190 | |
| regress_out | 0.12 | 0.00 | 0.12 | |
| run | 1.520 | 0.116 | 1.491 | |
| spatialDE | 1.664 | 0.242 | 1.665 | |
| spatialPatterns | 1.496 | 0.881 | 1.322 | |
| spatial_patterns | 57.100 | 1.714 | 56.847 | |
| stabilize | 0.100 | 0.019 | 0.120 | |