| Back to Multiple platform build/check report for BioC 3.19: simplified long |
|
This page was generated on 2024-05-09 11:41:27 -0400 (Thu, 09 May 2024).
| Hostname | OS | Arch (*) | R version | Installed pkgs |
|---|---|---|---|---|
| nebbiolo1 | Linux (Ubuntu 22.04.3 LTS) | x86_64 | 4.4.0 (2024-04-24) -- "Puppy Cup" | 4748 |
| palomino3 | Windows Server 2022 Datacenter | x64 | 4.4.0 (2024-04-24 ucrt) -- "Puppy Cup" | 4484 |
| lconway | macOS 12.7.1 Monterey | x86_64 | 4.4.0 (2024-04-24) -- "Puppy Cup" | 4514 |
| kunpeng2 | Linux (openEuler 22.03 LTS-SP1) | aarch64 | 4.4.0 beta (2024-04-15 r86425) -- "Puppy Cup" | 4480 |
| Click on any hostname to see more info about the system (e.g. compilers) (*) as reported by 'uname -p', except on Windows and Mac OS X | ||||
| Package 1952/2300 | Hostname | OS / Arch | INSTALL | BUILD | CHECK | BUILD BIN | ||||||||
| sesame 1.22.0 (landing page) Wanding Zhou
| nebbiolo1 | Linux (Ubuntu 22.04.3 LTS) / x86_64 | OK | OK | OK | |||||||||
| palomino3 | Windows Server 2022 Datacenter / x64 | OK | OK | OK | OK | |||||||||
| lconway | macOS 12.7.1 Monterey / x86_64 | OK | OK | OK | OK | |||||||||
| kunpeng2 | Linux (openEuler 22.03 LTS-SP1) / aarch64 | OK | OK | OK | ||||||||||
| kjohnson3 | macOS 13.6.5 Ventura / arm64 | see weekly results here | ||||||||||||
|
To the developers/maintainers of the sesame package: - Allow up to 24 hours (and sometimes 48 hours) for your latest push to git@git.bioconductor.org:packages/sesame.git to reflect on this report. See Troubleshooting Build Report for more information. - Use the following Renviron settings to reproduce errors and warnings. - If 'R CMD check' started to fail recently on the Linux builder(s) over a missing dependency, add the missing dependency to 'Suggests:' in your DESCRIPTION file. See Renviron.bioc for more information. - See Martin Grigorov's blog post for how to debug Linux ARM64 related issues on a x86_64 host. |
| Package: sesame |
| Version: 1.22.0 |
| Command: /home/biocbuild/R/R-beta-2024-04-15_r86425/bin/R CMD check --install=check:sesame.install-out.txt --library=/home/biocbuild/R/R-beta-2024-04-15_r86425/site-library --no-vignettes --timings sesame_1.22.0.tar.gz |
| StartedAt: 2024-05-09 11:53:57 -0000 (Thu, 09 May 2024) |
| EndedAt: 2024-05-09 12:15:13 -0000 (Thu, 09 May 2024) |
| EllapsedTime: 1276.3 seconds |
| RetCode: 0 |
| Status: OK |
| CheckDir: sesame.Rcheck |
| Warnings: 0 |
##############################################################################
##############################################################################
###
### Running command:
###
### /home/biocbuild/R/R-beta-2024-04-15_r86425/bin/R CMD check --install=check:sesame.install-out.txt --library=/home/biocbuild/R/R-beta-2024-04-15_r86425/site-library --no-vignettes --timings sesame_1.22.0.tar.gz
###
##############################################################################
##############################################################################
* using log directory ‘/home/biocbuild/bbs-3.19-bioc/meat/sesame.Rcheck’
* using R version 4.4.0 beta (2024-04-15 r86425)
* using platform: aarch64-unknown-linux-gnu
* R was compiled by
gcc (GCC) 10.3.1
GNU Fortran (GCC) 10.3.1
* running under: openEuler 22.03 (LTS-SP1)
* using session charset: UTF-8
* using option ‘--no-vignettes’
* checking for file ‘sesame/DESCRIPTION’ ... OK
* checking extension type ... Package
* this is package ‘sesame’ version ‘1.22.0’
* package encoding: UTF-8
* checking package namespace information ... OK
* checking package dependencies ... OK
* checking if this is a source package ... OK
* checking if there is a namespace ... OK
* checking for hidden files and directories ... OK
* checking for portable file names ... OK
* checking for sufficient/correct file permissions ... OK
* checking whether package ‘sesame’ can be installed ... OK
* checking installed package size ... OK
* checking package directory ... OK
* checking ‘build’ directory ... OK
* checking DESCRIPTION meta-information ... OK
* checking top-level files ... OK
* checking for left-over files ... OK
* checking index information ... OK
* checking package subdirectories ... OK
* checking code files for non-ASCII characters ... OK
* checking R files for syntax errors ... OK
* checking whether the package can be loaded ... OK
* checking whether the package can be loaded with stated dependencies ... OK
* checking whether the package can be unloaded cleanly ... OK
* checking whether the namespace can be loaded with stated dependencies ... OK
* checking whether the namespace can be unloaded cleanly ... OK
* checking loading without being on the library search path ... OK
* checking whether startup messages can be suppressed ... OK
* checking dependencies in R code ... OK
* checking S3 generic/method consistency ... OK
* checking replacement functions ... OK
* checking foreign function calls ... OK
* checking R code for possible problems ... OK
* checking Rd files ... OK
* checking Rd metadata ... OK
* checking Rd cross-references ... OK
* checking for missing documentation entries ... OK
* checking for code/documentation mismatches ... OK
* checking Rd \usage sections ... OK
* checking Rd contents ... OK
* checking for unstated dependencies in examples ... OK
* checking files in ‘vignettes’ ... OK
* checking examples ... OK
Examples with CPU (user + system) or elapsed time > 5s
user system elapsed
testEnrichmentGene 124.283 1.794 147.918
inferSex 43.156 0.479 48.005
sesameQC_calcStats 30.170 0.195 31.491
KYCG_plotMeta 25.626 0.634 29.540
sesameQC_plotHeatSNPs 26.010 0.171 27.298
ELBAR 23.494 0.268 24.883
KYCG_plotEnrichAll 21.476 0.379 29.534
inferSpecies 19.458 0.543 23.253
matchDesign 17.937 0.319 19.364
sesameQC_plotBetaByDesign 17.514 0.120 17.664
compareMouseStrainReference 16.593 0.319 19.102
KYCG_annoProbes 16.330 0.352 20.140
diffRefSet 16.210 0.280 18.666
compareReference 15.070 0.276 17.512
KYCG_plotMetaEnrichment 13.404 0.434 17.097
sesameQC_plotBar 13.581 0.204 15.960
testEnrichmentSEA 12.610 0.196 16.253
getRefSet 12.576 0.176 14.911
KYCG_buildGeneDBs 12.003 0.291 14.466
visualizeGene 10.948 0.172 14.366
DMR 10.790 0.275 13.332
inferStrain 10.442 0.212 12.819
dyeBiasNL 9.910 0.104 11.100
dbStats 9.333 0.276 11.772
DML 8.791 0.458 11.625
inferTissue 8.745 0.252 11.182
sdf_read_table 8.789 0.128 11.074
estimateLeukocyte 7.987 0.196 10.355
KYCG_plotSetEnrichment 7.832 0.261 10.327
deidentify 7.538 0.148 9.887
openSesame 6.926 0.379 9.475
createUCSCtrack 6.946 0.139 9.271
probeSuccessRate 6.743 0.200 10.174
testEnrichment 6.487 0.191 9.910
scrubSoft 6.515 0.060 6.586
reIdentify 6.431 0.128 7.649
dyeBiasCorrMostBalanced 6.336 0.083 8.688
getMask 5.557 0.132 8.935
bisConversionControl 5.234 0.123 7.523
prepSesame 4.888 0.196 6.165
sesameQC_rankStats 4.986 0.080 7.234
print.DMLSummary 3.939 0.246 6.359
parseGEOsignalMU 3.835 0.156 5.067
mapToMammal40 3.922 0.068 6.149
checkLevels 3.770 0.200 5.054
dyeBiasCorr 3.729 0.072 6.055
qualityMask 3.692 0.108 5.953
totalIntensities 3.500 0.079 5.737
meanIntensity 3.369 0.087 5.631
summaryExtractTest 3.238 0.100 5.489
sesameQC_plotIntensVsBetas 3.281 0.036 6.852
updateSigDF 3.162 0.092 5.418
KYCG_getDBs 3.127 0.091 5.978
* checking for unstated dependencies in ‘tests’ ... OK
* checking tests ...
Running ‘testthat.R’
OK
* checking for unstated dependencies in vignettes ... OK
* checking package vignettes ... OK
* checking running R code from vignettes ... SKIPPED
* checking re-building of vignette outputs ... SKIPPED
* checking PDF version of manual ... OK
* DONE
Status: OK
sesame.Rcheck/00install.out
############################################################################## ############################################################################## ### ### Running command: ### ### /home/biocbuild/R/R-beta-2024-04-15_r86425/bin/R CMD INSTALL sesame ### ############################################################################## ############################################################################## * installing to library ‘/home/biocbuild/R/R-beta-2024-04-15_r86425/site-library’ * installing *source* package ‘sesame’ ... ** using staged installation ** R ** inst ** byte-compile and prepare package for lazy loading ** help *** installing help indices ** building package indices ** installing vignettes ** testing if installed package can be loaded from temporary location ** testing if installed package can be loaded from final location ** testing if installed package keeps a record of temporary installation path * DONE (sesame)
sesame.Rcheck/tests/testthat.Rout
R version 4.4.0 beta (2024-04-15 r86425) -- "Puppy Cup"
Copyright (C) 2024 The R Foundation for Statistical Computing
Platform: aarch64-unknown-linux-gnu
R is free software and comes with ABSOLUTELY NO WARRANTY.
You are welcome to redistribute it under certain conditions.
Type 'license()' or 'licence()' for distribution details.
R is a collaborative project with many contributors.
Type 'contributors()' for more information and
'citation()' on how to cite R or R packages in publications.
Type 'demo()' for some demos, 'help()' for on-line help, or
'help.start()' for an HTML browser interface to help.
Type 'q()' to quit R.
> library(testthat)
> library(sesame)
Loading required package: sesameData
Loading required package: ExperimentHub
Loading required package: BiocGenerics
Attaching package: 'BiocGenerics'
The following objects are masked from 'package:stats':
IQR, mad, sd, var, xtabs
The following objects are masked from 'package:base':
Filter, Find, Map, Position, Reduce, anyDuplicated, aperm, append,
as.data.frame, basename, cbind, colnames, dirname, do.call,
duplicated, eval, evalq, get, grep, grepl, intersect, is.unsorted,
lapply, mapply, match, mget, order, paste, pmax, pmax.int, pmin,
pmin.int, rank, rbind, rownames, sapply, setdiff, table, tapply,
union, unique, unsplit, which.max, which.min
Loading required package: AnnotationHub
Loading required package: BiocFileCache
Loading required package: dbplyr
Loading sesameData.
----------------------------------------------------------
| SEnsible Step-wise Analysis of DNA MEthylation (SeSAMe)
| --------------------------------------------------------
| Please cache auxiliary data by "sesameDataCache()".
| This needs to be done only once per SeSAMe installation.
----------------------------------------------------------
>
> test_check("sesame")
[ FAIL 0 | WARN 0 | SKIP 0 | PASS 5 ]
>
> proc.time()
user system elapsed
23.121 1.766 27.167
sesame.Rcheck/sesame-Ex.timings
| name | user | system | elapsed | |
| BetaValueToMValue | 0 | 0 | 0 | |
| DML | 8.791 | 0.458 | 11.625 | |
| DMLpredict | 1.503 | 0.072 | 2.654 | |
| DMR | 10.790 | 0.275 | 13.332 | |
| ELBAR | 23.494 | 0.268 | 24.883 | |
| KYCG_annoProbes | 16.330 | 0.352 | 20.140 | |
| KYCG_buildGeneDBs | 12.003 | 0.291 | 14.466 | |
| KYCG_getDBs | 3.127 | 0.091 | 5.978 | |
| KYCG_listDBGroups | 0.038 | 0.000 | 0.037 | |
| KYCG_loadDBs | 0 | 0 | 0 | |
| KYCG_plotBar | 0.245 | 0.024 | 0.269 | |
| KYCG_plotDot | 0.451 | 0.036 | 0.488 | |
| KYCG_plotEnrichAll | 21.476 | 0.379 | 29.534 | |
| KYCG_plotLollipop | 0.222 | 0.000 | 0.223 | |
| KYCG_plotManhattan | 1.756 | 0.032 | 1.792 | |
| KYCG_plotMeta | 25.626 | 0.634 | 29.540 | |
| KYCG_plotMetaEnrichment | 13.404 | 0.434 | 17.097 | |
| KYCG_plotPointRange | 2.690 | 0.072 | 3.840 | |
| KYCG_plotSetEnrichment | 7.832 | 0.261 | 10.327 | |
| KYCG_plotVolcano | 0.196 | 0.004 | 0.201 | |
| KYCG_plotWaterfall | 3.185 | 0.116 | 4.394 | |
| MValueToBetaValue | 0.000 | 0.000 | 0.001 | |
| SigDF | 0.356 | 0.019 | 1.453 | |
| addMask | 0.114 | 0.012 | 0.127 | |
| aggregateTestEnrichments | 2.581 | 0.076 | 2.664 | |
| betasCollapseToPfx | 0.018 | 0.000 | 0.018 | |
| bisConversionControl | 5.234 | 0.123 | 7.523 | |
| calcEffectSize | 1.460 | 0.032 | 2.569 | |
| checkLevels | 3.770 | 0.200 | 5.054 | |
| cnSegmentation | 0.362 | 0.036 | 1.477 | |
| compareMouseStrainReference | 16.593 | 0.319 | 19.102 | |
| compareMouseTissueReference | 0 | 0 | 0 | |
| compareReference | 15.070 | 0.276 | 17.512 | |
| controls | 2.349 | 0.048 | 4.555 | |
| createUCSCtrack | 6.946 | 0.139 | 9.271 | |
| dataFrame2sesameQC | 1.328 | 0.040 | 2.445 | |
| dbStats | 9.333 | 0.276 | 11.772 | |
| deidentify | 7.538 | 0.148 | 9.887 | |
| detectionPnegEcdf | 3.147 | 0.059 | 4.285 | |
| diffRefSet | 16.210 | 0.280 | 18.666 | |
| dmContrasts | 2.341 | 0.092 | 3.517 | |
| dyeBiasCorr | 3.729 | 0.072 | 6.055 | |
| dyeBiasCorrMostBalanced | 6.336 | 0.083 | 8.688 | |
| dyeBiasL | 3.791 | 0.060 | 4.940 | |
| dyeBiasNL | 9.910 | 0.104 | 11.100 | |
| estimateLeukocyte | 7.987 | 0.196 | 10.355 | |
| formatVCF | 2.378 | 0.083 | 4.618 | |
| getAFTypeIbySumAlleles | 2.294 | 0.072 | 4.523 | |
| getAFs | 1.724 | 0.036 | 2.863 | |
| getBetas | 1.289 | 0.024 | 2.391 | |
| getMask | 5.557 | 0.132 | 8.935 | |
| getRefSet | 12.576 | 0.176 | 14.911 | |
| imputeBetasMatrixByMean | 0.002 | 0.000 | 0.002 | |
| inferEthnicity | 1.916 | 0.027 | 3.016 | |
| inferInfiniumIChannel | 0.318 | 0.104 | 0.421 | |
| inferSex | 43.156 | 0.479 | 48.005 | |
| inferSpecies | 19.458 | 0.543 | 23.253 | |
| inferStrain | 10.442 | 0.212 | 12.819 | |
| inferTissue | 8.745 | 0.252 | 11.182 | |
| initFileSet | 1.359 | 0.043 | 2.482 | |
| listAvailableMasks | 1.998 | 0.052 | 3.131 | |
| mLiftOver | 0 | 0 | 0 | |
| mapFileSet | 0.033 | 0.004 | 0.037 | |
| mapToMammal40 | 3.922 | 0.068 | 6.149 | |
| matchDesign | 17.937 | 0.319 | 19.364 | |
| meanIntensity | 3.369 | 0.087 | 5.631 | |
| medianTotalIntensity | 1.366 | 0.108 | 2.547 | |
| noMasked | 2.538 | 0.203 | 3.819 | |
| noob | 3.604 | 0.072 | 3.683 | |
| openSesame | 6.926 | 0.379 | 9.475 | |
| openSesameToFile | 2.092 | 0.084 | 2.181 | |
| pOOBAH | 1.736 | 0.044 | 1.785 | |
| palgen | 0.050 | 0.008 | 0.062 | |
| parseGEOsignalMU | 3.835 | 0.156 | 5.067 | |
| predictAge | 2.512 | 0.111 | 3.709 | |
| predictAgeHorvath353 | 0 | 0 | 0 | |
| predictAgeSkinBlood | 0.000 | 0.000 | 0.001 | |
| predictMouseAgeInMonth | 0 | 0 | 0 | |
| prefixMask | 0.535 | 0.008 | 0.544 | |
| prefixMaskButC | 0.151 | 0.004 | 0.155 | |
| prefixMaskButCG | 0.07 | 0.00 | 0.07 | |
| prepSesame | 4.888 | 0.196 | 6.165 | |
| prepSesameList | 0.002 | 0.000 | 0.002 | |
| print.DMLSummary | 3.939 | 0.246 | 6.359 | |
| print.fileSet | 1.392 | 0.076 | 2.549 | |
| probeID_designType | 0 | 0 | 0 | |
| probeSuccessRate | 6.743 | 0.200 | 10.174 | |
| qualityMask | 3.692 | 0.108 | 5.953 | |
| reIdentify | 6.431 | 0.128 | 7.649 | |
| readFileSet | 0.055 | 0.004 | 0.059 | |
| readIDATpair | 0.163 | 0.000 | 0.163 | |
| recommendedMaskNames | 0 | 0 | 0 | |
| resetMask | 0.510 | 0.012 | 1.592 | |
| scrub | 4.251 | 0.127 | 4.387 | |
| scrubSoft | 6.515 | 0.060 | 6.586 | |
| sdfPlatform | 0.363 | 0.016 | 1.449 | |
| sdf_read_table | 8.789 | 0.128 | 11.074 | |
| sdf_write_table | 2.151 | 0.072 | 3.346 | |
| searchIDATprefixes | 0.005 | 0.000 | 0.007 | |
| sesame-package | 2.543 | 0.092 | 3.923 | |
| sesameAnno_buildAddressFile | 0.000 | 0.000 | 0.001 | |
| sesameAnno_buildManifestGRanges | 0 | 0 | 0 | |
| sesameAnno_download | 0 | 0 | 0 | |
| sesameAnno_get | 0 | 0 | 0 | |
| sesameAnno_readManifestTSV | 0 | 0 | 0 | |
| sesameData_getAnno | 0 | 0 | 0 | |
| sesameQC_calcStats | 30.170 | 0.195 | 31.491 | |
| sesameQC_getStats | 2.385 | 0.000 | 2.390 | |
| sesameQC_plotBar | 13.581 | 0.204 | 15.960 | |
| sesameQC_plotBetaByDesign | 17.514 | 0.120 | 17.664 | |
| sesameQC_plotHeatSNPs | 26.010 | 0.171 | 27.298 | |
| sesameQC_plotIntensVsBetas | 3.281 | 0.036 | 6.852 | |
| sesameQC_plotRedGrnQQ | 1.780 | 0.040 | 3.677 | |
| sesameQC_rankStats | 4.986 | 0.080 | 7.234 | |
| sesame_checkVersion | 0.002 | 0.004 | 0.005 | |
| sesamize | 0 | 0 | 0 | |
| setMask | 0.137 | 0.000 | 0.137 | |
| signalMU | 1.522 | 0.016 | 2.606 | |
| sliceFileSet | 0.033 | 0.000 | 0.038 | |
| summaryExtractTest | 3.238 | 0.100 | 5.489 | |
| testEnrichment | 6.487 | 0.191 | 9.910 | |
| testEnrichmentGene | 124.283 | 1.794 | 147.918 | |
| testEnrichmentSEA | 12.610 | 0.196 | 16.253 | |
| totalIntensities | 3.500 | 0.079 | 5.737 | |
| updateSigDF | 3.162 | 0.092 | 5.418 | |
| visualizeGene | 10.948 | 0.172 | 14.366 | |
| visualizeProbes | 1.218 | 0.008 | 1.228 | |
| visualizeRegion | 0.426 | 0.000 | 0.427 | |
| visualizeSegments | 2.116 | 0.008 | 3.295 | |