Back to Multiple platform build/check report for BioC 3.19: simplified long |
|
This page was generated on 2024-10-18 20:38 -0400 (Fri, 18 Oct 2024).
Hostname | OS | Arch (*) | R version | Installed pkgs |
---|---|---|---|---|
nebbiolo1 | Linux (Ubuntu 22.04.3 LTS) | x86_64 | 4.4.1 (2024-06-14) -- "Race for Your Life" | 4763 |
palomino7 | Windows Server 2022 Datacenter | x64 | 4.4.1 (2024-06-14 ucrt) -- "Race for Your Life" | 4500 |
merida1 | macOS 12.7.5 Monterey | x86_64 | 4.4.1 (2024-06-14) -- "Race for Your Life" | 4530 |
kjohnson1 | macOS 13.6.6 Ventura | arm64 | 4.4.1 (2024-06-14) -- "Race for Your Life" | 4480 |
Click on any hostname to see more info about the system (e.g. compilers) (*) as reported by 'uname -p', except on Windows and Mac OS X |
Package 1952/2300 | Hostname | OS / Arch | INSTALL | BUILD | CHECK | BUILD BIN | ||||||||
sesame 1.22.2 (landing page) Wanding Zhou
| nebbiolo1 | Linux (Ubuntu 22.04.3 LTS) / x86_64 | OK | OK | OK | ![]() | ||||||||
palomino7 | Windows Server 2022 Datacenter / x64 | OK | OK | OK | OK | ![]() | ||||||||
merida1 | macOS 12.7.5 Monterey / x86_64 | OK | OK | OK | OK | ![]() | ||||||||
kjohnson1 | macOS 13.6.6 Ventura / arm64 | OK | ERROR | skipped | skipped | |||||||||
To the developers/maintainers of the sesame package: - Allow up to 24 hours (and sometimes 48 hours) for your latest push to git@git.bioconductor.org:packages/sesame.git to reflect on this report. See Troubleshooting Build Report for more information. - Use the following Renviron settings to reproduce errors and warnings. - If 'R CMD check' started to fail recently on the Linux builder(s) over a missing dependency, add the missing dependency to 'Suggests:' in your DESCRIPTION file. See Renviron.bioc for more information. |
Package: sesame |
Version: 1.22.2 |
Command: /home/biocbuild/bbs-3.19-bioc/R/bin/R CMD check --install=check:sesame.install-out.txt --library=/home/biocbuild/bbs-3.19-bioc/R/site-library --timings sesame_1.22.2.tar.gz |
StartedAt: 2024-10-17 05:04:43 -0400 (Thu, 17 Oct 2024) |
EndedAt: 2024-10-17 05:25:01 -0400 (Thu, 17 Oct 2024) |
EllapsedTime: 1218.6 seconds |
RetCode: 0 |
Status: OK |
CheckDir: sesame.Rcheck |
Warnings: 0 |
############################################################################## ############################################################################## ### ### Running command: ### ### /home/biocbuild/bbs-3.19-bioc/R/bin/R CMD check --install=check:sesame.install-out.txt --library=/home/biocbuild/bbs-3.19-bioc/R/site-library --timings sesame_1.22.2.tar.gz ### ############################################################################## ############################################################################## * using log directory ‘/home/biocbuild/bbs-3.19-bioc/meat/sesame.Rcheck’ * using R version 4.4.1 (2024-06-14) * using platform: x86_64-pc-linux-gnu * R was compiled by gcc (Ubuntu 11.4.0-1ubuntu1~22.04) 11.4.0 GNU Fortran (Ubuntu 11.4.0-1ubuntu1~22.04) 11.4.0 * running under: Ubuntu 22.04.5 LTS * using session charset: UTF-8 * checking for file ‘sesame/DESCRIPTION’ ... OK * checking extension type ... Package * this is package ‘sesame’ version ‘1.22.2’ * package encoding: UTF-8 * checking package namespace information ... OK * checking package dependencies ... OK * checking if this is a source package ... OK * checking if there is a namespace ... OK * checking for hidden files and directories ... OK * checking for portable file names ... OK * checking for sufficient/correct file permissions ... OK * checking whether package ‘sesame’ can be installed ... OK * checking installed package size ... OK * checking package directory ... OK * checking ‘build’ directory ... OK * checking DESCRIPTION meta-information ... OK * checking top-level files ... OK * checking for left-over files ... OK * checking index information ... OK * checking package subdirectories ... OK * checking code files for non-ASCII characters ... OK * checking R files for syntax errors ... OK * checking whether the package can be loaded ... OK * checking whether the package can be loaded with stated dependencies ... OK * checking whether the package can be unloaded cleanly ... OK * checking whether the namespace can be loaded with stated dependencies ... OK * checking whether the namespace can be unloaded cleanly ... OK * checking loading without being on the library search path ... OK * checking whether startup messages can be suppressed ... OK * checking dependencies in R code ... OK * checking S3 generic/method consistency ... OK * checking replacement functions ... OK * checking foreign function calls ... OK * checking R code for possible problems ... OK * checking Rd files ... OK * checking Rd metadata ... OK * checking Rd cross-references ... OK * checking for missing documentation entries ... OK * checking for code/documentation mismatches ... OK * checking Rd \usage sections ... OK * checking Rd contents ... OK * checking for unstated dependencies in examples ... OK * checking files in ‘vignettes’ ... OK * checking examples ... OK Examples with CPU (user + system) or elapsed time > 5s user system elapsed testEnrichmentGene 97.345 3.364 104.910 imputeBetasByGenomicNeighbors 31.982 0.700 33.201 KYCG_plotMeta 21.254 0.272 22.004 inferSex 20.843 0.468 21.627 KYCG_plotEnrichAll 18.942 0.757 21.048 sesameQC_calcStats 18.215 0.220 18.594 imputeBetas 16.292 0.692 17.462 ELBAR 16.099 0.419 16.679 sesameQC_plotHeatSNPs 16.186 0.160 16.505 inferSpecies 13.860 0.784 15.396 KYCG_annoProbes 13.378 0.596 14.458 diffRefSet 12.768 0.284 13.371 KYCG_plotMetaEnrichment 11.402 0.395 12.274 KYCG_buildGeneDBs 10.746 0.456 11.567 sesameQC_plotBar 10.924 0.248 11.490 compareMouseStrainReference 10.819 0.136 11.497 matchDesign 10.549 0.205 10.955 getRefSet 10.220 0.300 10.839 compareReference 10.265 0.248 11.295 testEnrichmentSEA 9.238 0.272 9.983 DMR 8.569 0.425 9.313 visualizeGene 8.729 0.256 9.461 sesameQC_plotBetaByDesign 8.561 0.067 8.628 sdf_read_table 8.321 0.236 9.156 estimateLeukocyte 7.420 0.235 8.254 inferStrain 7.173 0.428 7.918 DML 6.752 0.775 8.119 getMask 6.447 0.316 7.443 inferTissue 6.038 0.180 6.756 dbStats 5.989 0.220 6.748 dyeBiasCorrMostBalanced 5.890 0.192 6.397 dyeBiasNL 5.880 0.143 6.183 createUCSCtrack 5.507 0.188 6.012 KYCG_plotSetEnrichment 5.400 0.152 5.914 testEnrichment 5.307 0.212 6.220 deidentify 5.217 0.172 6.216 openSesame 5.084 0.192 5.742 probeSuccessRate 5.055 0.211 5.743 bisConversionControl 4.521 0.180 5.018 * checking for unstated dependencies in ‘tests’ ... OK * checking tests ... Running ‘testthat.R’ OK * checking for unstated dependencies in vignettes ... OK * checking package vignettes ... OK * checking re-building of vignette outputs ... OK * checking PDF version of manual ... OK * DONE Status: OK
sesame.Rcheck/00install.out
############################################################################## ############################################################################## ### ### Running command: ### ### /home/biocbuild/bbs-3.19-bioc/R/bin/R CMD INSTALL sesame ### ############################################################################## ############################################################################## * installing to library ‘/home/biocbuild/bbs-3.19-bioc/R/site-library’ * installing *source* package ‘sesame’ ... ** using staged installation ** R ** inst ** byte-compile and prepare package for lazy loading ** help *** installing help indices ** building package indices ** installing vignettes ** testing if installed package can be loaded from temporary location ** testing if installed package can be loaded from final location ** testing if installed package keeps a record of temporary installation path * DONE (sesame)
sesame.Rcheck/tests/testthat.Rout
R version 4.4.1 (2024-06-14) -- "Race for Your Life" Copyright (C) 2024 The R Foundation for Statistical Computing Platform: x86_64-pc-linux-gnu R is free software and comes with ABSOLUTELY NO WARRANTY. You are welcome to redistribute it under certain conditions. Type 'license()' or 'licence()' for distribution details. R is a collaborative project with many contributors. Type 'contributors()' for more information and 'citation()' on how to cite R or R packages in publications. Type 'demo()' for some demos, 'help()' for on-line help, or 'help.start()' for an HTML browser interface to help. Type 'q()' to quit R. > library(testthat) > library(sesame) Loading required package: sesameData Loading required package: ExperimentHub Loading required package: BiocGenerics Attaching package: 'BiocGenerics' The following objects are masked from 'package:stats': IQR, mad, sd, var, xtabs The following objects are masked from 'package:base': Filter, Find, Map, Position, Reduce, anyDuplicated, aperm, append, as.data.frame, basename, cbind, colnames, dirname, do.call, duplicated, eval, evalq, get, grep, grepl, intersect, is.unsorted, lapply, mapply, match, mget, order, paste, pmax, pmax.int, pmin, pmin.int, rank, rbind, rownames, sapply, setdiff, table, tapply, union, unique, unsplit, which.max, which.min Loading required package: AnnotationHub Loading required package: BiocFileCache Loading required package: dbplyr Loading sesameData. ---------------------------------------------------------- | SEnsible Step-wise Analysis of DNA MEthylation (SeSAMe) | -------------------------------------------------------- | Please cache auxiliary data by "sesameDataCache()". | This needs to be done only once per SeSAMe installation. ---------------------------------------------------------- > > test_check("sesame") [ FAIL 0 | WARN 0 | SKIP 0 | PASS 5 ] > > proc.time() user system elapsed 16.621 0.904 18.112
sesame.Rcheck/sesame-Ex.timings
name | user | system | elapsed | |
BetaValueToMValue | 0.001 | 0.000 | 0.001 | |
DML | 6.752 | 0.775 | 8.119 | |
DMLpredict | 1.429 | 0.100 | 1.689 | |
DMR | 8.569 | 0.425 | 9.313 | |
ELBAR | 16.099 | 0.419 | 16.679 | |
KYCG_annoProbes | 13.378 | 0.596 | 14.458 | |
KYCG_buildGeneDBs | 10.746 | 0.456 | 11.567 | |
KYCG_getDBs | 2.909 | 0.176 | 3.406 | |
KYCG_listDBGroups | 0.033 | 0.000 | 0.033 | |
KYCG_loadDBs | 0 | 0 | 0 | |
KYCG_plotBar | 0.185 | 0.012 | 0.198 | |
KYCG_plotDot | 0.608 | 0.020 | 0.627 | |
KYCG_plotEnrichAll | 18.942 | 0.757 | 21.048 | |
KYCG_plotLollipop | 0.139 | 0.004 | 0.143 | |
KYCG_plotManhattan | 1.339 | 0.004 | 1.343 | |
KYCG_plotMeta | 21.254 | 0.272 | 22.004 | |
KYCG_plotMetaEnrichment | 11.402 | 0.395 | 12.274 | |
KYCG_plotPointRange | 2.085 | 0.072 | 2.543 | |
KYCG_plotSetEnrichment | 5.400 | 0.152 | 5.914 | |
KYCG_plotVolcano | 0.133 | 0.008 | 0.140 | |
KYCG_plotWaterfall | 2.382 | 0.164 | 2.705 | |
MValueToBetaValue | 0 | 0 | 0 | |
SigDF | 0.334 | 0.060 | 0.552 | |
addMask | 0.073 | 0.012 | 0.085 | |
aggregateTestEnrichments | 1.752 | 0.032 | 1.785 | |
betasCollapseToPfx | 0.015 | 0.000 | 0.015 | |
bisConversionControl | 4.521 | 0.180 | 5.018 | |
calcEffectSize | 1.489 | 0.112 | 1.758 | |
checkLevels | 2.836 | 0.148 | 3.142 | |
cnSegmentation | 0.368 | 0.040 | 0.565 | |
compareMouseStrainReference | 10.819 | 0.136 | 11.497 | |
compareMouseTissueReference | 0.001 | 0.000 | 0.000 | |
compareReference | 10.265 | 0.248 | 11.295 | |
controls | 2.088 | 0.096 | 2.552 | |
createUCSCtrack | 5.507 | 0.188 | 6.012 | |
dataFrame2sesameQC | 1.134 | 0.068 | 1.406 | |
dbStats | 5.989 | 0.220 | 6.748 | |
deidentify | 5.217 | 0.172 | 6.216 | |
detectionPnegEcdf | 2.522 | 0.104 | 2.785 | |
diffRefSet | 12.768 | 0.284 | 13.371 | |
dmContrasts | 1.946 | 0.060 | 2.162 | |
dyeBiasCorr | 2.748 | 0.104 | 3.396 | |
dyeBiasCorrMostBalanced | 5.890 | 0.192 | 6.397 | |
dyeBiasL | 2.804 | 0.056 | 3.017 | |
dyeBiasNL | 5.880 | 0.143 | 6.183 | |
estimateLeukocyte | 7.420 | 0.235 | 8.254 | |
formatVCF | 2.123 | 0.096 | 2.537 | |
getAFTypeIbySumAlleles | 1.698 | 0.124 | 2.140 | |
getAFs | 1.145 | 0.068 | 1.372 | |
getBetas | 0.955 | 0.028 | 1.141 | |
getMask | 6.447 | 0.316 | 7.443 | |
getRefSet | 10.220 | 0.300 | 10.839 | |
imputeBetas | 16.292 | 0.692 | 17.462 | |
imputeBetasByGenomicNeighbors | 31.982 | 0.700 | 33.201 | |
imputeBetasMatrixByMean | 0.002 | 0.000 | 0.001 | |
inferEthnicity | 0.001 | 0.000 | 0.001 | |
inferInfiniumIChannel | 0.346 | 0.524 | 0.870 | |
inferSex | 20.843 | 0.468 | 21.627 | |
inferSpecies | 13.860 | 0.784 | 15.396 | |
inferStrain | 7.173 | 0.428 | 7.918 | |
inferTissue | 6.038 | 0.180 | 6.756 | |
initFileSet | 1.228 | 0.084 | 1.693 | |
listAvailableMasks | 1.334 | 0.075 | 2.150 | |
mLiftOver | 0.001 | 0.000 | 0.001 | |
mapFileSet | 0.033 | 0.000 | 0.034 | |
mapToMammal40 | 2.842 | 0.168 | 3.330 | |
matchDesign | 10.549 | 0.205 | 10.955 | |
meanIntensity | 2.770 | 0.111 | 3.201 | |
medianTotalIntensity | 0.881 | 0.064 | 1.104 | |
noMasked | 3.453 | 0.160 | 3.931 | |
noob | 1.985 | 0.136 | 2.121 | |
openSesame | 5.084 | 0.192 | 5.742 | |
openSesameToFile | 1.376 | 0.012 | 1.387 | |
pOOBAH | 1.181 | 0.020 | 1.202 | |
palgen | 0.037 | 0.004 | 0.040 | |
parseGEOsignalMU | 2.994 | 0.092 | 3.252 | |
predictAge | 2.240 | 0.084 | 2.483 | |
predictAgeHorvath353 | 0.001 | 0.000 | 0.000 | |
predictAgeSkinBlood | 0 | 0 | 0 | |
predictMouseAgeInMonth | 0.000 | 0.000 | 0.001 | |
prefixMask | 0.452 | 0.000 | 0.452 | |
prefixMaskButC | 0.136 | 0.000 | 0.136 | |
prefixMaskButCG | 0.054 | 0.000 | 0.054 | |
prepSesame | 3.641 | 0.088 | 3.938 | |
prepSesameList | 0.000 | 0.002 | 0.002 | |
print.DMLSummary | 2.952 | 0.201 | 3.472 | |
print.fileSet | 1.201 | 0.077 | 1.659 | |
probeID_designType | 0.000 | 0.000 | 0.001 | |
probeSuccessRate | 5.055 | 0.211 | 5.743 | |
qualityMask | 2.222 | 0.132 | 2.671 | |
reIdentify | 4.053 | 0.168 | 4.380 | |
readFileSet | 0.049 | 0.005 | 0.054 | |
readIDATpair | 0.102 | 0.015 | 0.117 | |
recommendedMaskNames | 0.000 | 0.000 | 0.001 | |
resetMask | 0.464 | 0.052 | 0.901 | |
scrub | 2.012 | 0.044 | 2.056 | |
scrubSoft | 3.058 | 0.040 | 3.099 | |
sdfPlatform | 0.368 | 0.032 | 0.560 | |
sdf_read_table | 8.321 | 0.236 | 9.156 | |
sdf_write_table | 2.676 | 0.084 | 3.009 | |
searchIDATprefixes | 0.005 | 0.000 | 0.005 | |
sesame-package | 2.330 | 0.092 | 2.580 | |
sesameAnno_attachManifest | 0 | 0 | 0 | |
sesameAnno_buildAddressFile | 0 | 0 | 0 | |
sesameAnno_buildManifestGRanges | 0 | 0 | 0 | |
sesameAnno_download | 0 | 0 | 0 | |
sesameAnno_readManifestTSV | 0 | 0 | 0 | |
sesameQC_calcStats | 18.215 | 0.220 | 18.594 | |
sesameQC_getStats | 1.570 | 0.012 | 1.581 | |
sesameQC_plotBar | 10.924 | 0.248 | 11.490 | |
sesameQC_plotBetaByDesign | 8.561 | 0.067 | 8.628 | |
sesameQC_plotHeatSNPs | 16.186 | 0.160 | 16.505 | |
sesameQC_plotIntensVsBetas | 2.237 | 0.140 | 2.575 | |
sesameQC_plotRedGrnQQ | 1.912 | 0.060 | 2.362 | |
sesameQC_rankStats | 3.192 | 0.136 | 3.647 | |
sesame_checkVersion | 0.004 | 0.000 | 0.005 | |
sesamize | 0.000 | 0.000 | 0.001 | |
setMask | 0.093 | 0.000 | 0.093 | |
signalMU | 0.956 | 0.064 | 1.758 | |
sliceFileSet | 0.029 | 0.004 | 0.032 | |
summaryExtractTest | 2.955 | 0.148 | 3.420 | |
testEnrichment | 5.307 | 0.212 | 6.220 | |
testEnrichmentGene | 97.345 | 3.364 | 104.910 | |
testEnrichmentSEA | 9.238 | 0.272 | 9.983 | |
totalIntensities | 2.623 | 0.148 | 3.150 | |
updateSigDF | 3.376 | 0.188 | 3.882 | |
visualizeGene | 8.729 | 0.256 | 9.461 | |
visualizeProbes | 3.691 | 0.092 | 3.783 | |
visualizeRegion | 0.295 | 0.016 | 0.311 | |
visualizeSegments | 1.608 | 0.128 | 1.896 | |