| Back to Multiple platform build/check report for BioC 3.19: simplified long | 
 | 
This page was generated on 2024-06-11 14:44 -0400 (Tue, 11 Jun 2024).
| Hostname | OS | Arch (*) | R version | Installed pkgs | 
|---|---|---|---|---|
| nebbiolo1 | Linux (Ubuntu 22.04.3 LTS) | x86_64 | 4.4.0 (2024-04-24) -- "Puppy Cup" | 4757 | 
| palomino3 | Windows Server 2022 Datacenter | x64 | 4.4.0 (2024-04-24 ucrt) -- "Puppy Cup" | 4491 | 
| lconway | macOS 12.7.1 Monterey | x86_64 | 4.4.0 (2024-04-24) -- "Puppy Cup" | 4522 | 
| kjohnson3 | macOS 13.6.5 Ventura | arm64 | 4.4.0 (2024-04-24) -- "Puppy Cup" | 4468 | 
| Click on any hostname to see more info about the system (e.g. compilers) (*) as reported by 'uname -p', except on Windows and Mac OS X | ||||
| Package 1952/2300 | Hostname | OS / Arch | INSTALL | BUILD | CHECK | BUILD BIN | ||||||||
| sesame 1.22.1  (landing page) Wanding Zhou 
 | nebbiolo1 | Linux (Ubuntu 22.04.3 LTS) / x86_64 | OK | OK | OK |  | ||||||||
| palomino3 | Windows Server 2022 Datacenter / x64 | OK | OK | OK | OK |  | ||||||||
| lconway | macOS 12.7.1 Monterey / x86_64 | OK | OK | OK | OK |  | ||||||||
| kjohnson3 | macOS 13.6.5 Ventura / arm64 | OK | OK | OK | OK |  | ||||||||
| To the developers/maintainers of the sesame package: - Allow up to 24 hours (and sometimes 48 hours) for your latest push to git@git.bioconductor.org:packages/sesame.git to reflect on this report. See Troubleshooting Build Report for more information. - Use the following Renviron settings to reproduce errors and warnings. - If 'R CMD check' started to fail recently on the Linux builder(s) over a missing dependency, add the missing dependency to 'Suggests:' in your DESCRIPTION file. See Renviron.bioc for more information. | 
| Package: sesame | 
| Version: 1.22.1 | 
| Command: /Library/Frameworks/R.framework/Resources/bin/R CMD check --install=check:sesame.install-out.txt --library=/Library/Frameworks/R.framework/Resources/library --no-vignettes --timings sesame_1.22.1.tar.gz | 
| StartedAt: 2024-06-11 05:26:25 -0400 (Tue, 11 Jun 2024) | 
| EndedAt: 2024-06-11 05:57:53 -0400 (Tue, 11 Jun 2024) | 
| EllapsedTime: 1887.3 seconds | 
| RetCode: 0 | 
| Status: OK | 
| CheckDir: sesame.Rcheck | 
| Warnings: 0 | 
##############################################################################
##############################################################################
###
### Running command:
###
###   /Library/Frameworks/R.framework/Resources/bin/R CMD check --install=check:sesame.install-out.txt --library=/Library/Frameworks/R.framework/Resources/library --no-vignettes --timings sesame_1.22.1.tar.gz
###
##############################################################################
##############################################################################
* using log directory ‘/Users/biocbuild/bbs-3.19-bioc/meat/sesame.Rcheck’
* using R version 4.4.0 (2024-04-24)
* using platform: aarch64-apple-darwin20
* R was compiled by
    Apple clang version 14.0.0 (clang-1400.0.29.202)
    GNU Fortran (GCC) 12.2.0
* running under: macOS Ventura 13.6.5
* using session charset: UTF-8
* using option ‘--no-vignettes’
* checking for file ‘sesame/DESCRIPTION’ ... OK
* checking extension type ... Package
* this is package ‘sesame’ version ‘1.22.1’
* package encoding: UTF-8
* checking package namespace information ... OK
* checking package dependencies ... OK
* checking if this is a source package ... OK
* checking if there is a namespace ... OK
* checking for hidden files and directories ... OK
* checking for portable file names ... OK
* checking for sufficient/correct file permissions ... OK
* checking whether package ‘sesame’ can be installed ... OK
* checking installed package size ... OK
* checking package directory ... OK
* checking ‘build’ directory ... OK
* checking DESCRIPTION meta-information ... OK
* checking top-level files ... OK
* checking for left-over files ... OK
* checking index information ... OK
* checking package subdirectories ... OK
* checking code files for non-ASCII characters ... OK
* checking R files for syntax errors ... OK
* checking whether the package can be loaded ... OK
* checking whether the package can be loaded with stated dependencies ... OK
* checking whether the package can be unloaded cleanly ... OK
* checking whether the namespace can be loaded with stated dependencies ... OK
* checking whether the namespace can be unloaded cleanly ... OK
* checking whether startup messages can be suppressed ... OK
* checking dependencies in R code ... OK
* checking S3 generic/method consistency ... OK
* checking replacement functions ... OK
* checking foreign function calls ... OK
* checking R code for possible problems ... OK
* checking Rd files ... OK
* checking Rd metadata ... OK
* checking Rd cross-references ... OK
* checking for missing documentation entries ... OK
* checking for code/documentation mismatches ... OK
* checking Rd \usage sections ... OK
* checking Rd contents ... OK
* checking for unstated dependencies in examples ... OK
* checking files in ‘vignettes’ ... OK
* checking examples ... OK
Examples with CPU (user + system) or elapsed time > 5s
                                 user system elapsed
testEnrichmentGene            166.472  6.396 268.419
imputeBetasByGenomicNeighbors  50.170  1.322  72.243
KYCG_plotMeta                  32.890  1.044  48.812
inferSex                       31.208  0.937  47.674
sesameQC_plotHeatSNPs          27.921  1.007  44.381
KYCG_plotEnrichAll             27.328  1.405  41.329
imputeBetas                    26.227  1.388  39.423
ELBAR                          23.503  2.380  34.361
sesameQC_calcStats             24.451  1.314  37.513
inferSpecies                   21.666  0.865  34.615
KYCG_annoProbes                19.818  0.905  29.815
diffRefSet                     18.855  0.691  27.976
sesameQC_plotBar               18.663  0.459  28.286
KYCG_plotMetaEnrichment        16.958  0.703  26.737
getRefSet                      16.919  0.533  23.856
testEnrichmentSEA              15.657  0.961  26.231
KYCG_buildGeneDBs              15.882  0.530  23.662
sesameQC_plotBetaByDesign      13.997  0.994  22.671
matchDesign                    13.943  0.717  22.418
compareMouseStrainReference    13.359  0.555  20.053
inferStrain                    13.181  0.610  21.313
visualizeGene                  12.607  0.521  20.144
compareReference               12.281  0.501  18.233
inferTissue                    10.751  1.204  17.808
DMR                            11.459  0.338  18.114
estimateLeukocyte              11.244  0.513  17.349
sdf_read_table                 10.348  0.821  17.296
dbStats                        10.177  0.605  16.039
DML                             9.601  1.007  15.582
getMask                         9.275  0.631  14.693
testEnrichment                  8.159  0.968  14.449
createUCSCtrack                 8.433  0.516  12.373
dyeBiasCorrMostBalanced         8.275  0.349  12.632
KYCG_plotSetEnrichment          7.814  0.443  12.246
openSesame                      7.566  0.664  13.332
probeSuccessRate                7.154  0.780  12.531
bisConversionControl            6.563  0.281  10.128
dyeBiasNL                       6.507  0.311   9.663
visualizeRegion                 6.443  0.088   9.561
deidentify                      5.853  0.479   9.419
prepSesame                      5.327  0.368   9.633
print.DMLSummary                4.601  0.646   9.165
summaryExtractTest              4.647  0.590   8.782
mapToMammal40                   4.388  0.675   8.316
reIdentify                      4.869  0.193   7.936
totalIntensities                4.563  0.297   7.890
sesameQC_rankStats              4.323  0.269   7.356
noMasked                        4.259  0.280   7.407
dyeBiasL                        4.274  0.140   6.417
checkLevels                     4.140  0.264   6.311
aggregateTestEnrichments        4.013  0.101   5.814
KYCG_plotWaterfall              3.865  0.235   6.067
parseGEOsignalMU                3.677  0.269   6.304
updateSigDF                     3.611  0.307   6.286
KYCG_getDBs                     3.609  0.297   5.795
KYCG_plotPointRange             3.638  0.217   5.706
meanIntensity                   3.362  0.405   6.015
qualityMask                     3.332  0.370   5.327
scrubSoft                       3.184  0.515   5.104
visualizeSegments               3.163  0.520   6.182
dyeBiasCorr                     3.282  0.272   5.130
predictAge                      3.295  0.171   5.363
* checking for unstated dependencies in ‘tests’ ... OK
* checking tests ...
  Running ‘testthat.R’
 OK
* checking for unstated dependencies in vignettes ... OK
* checking package vignettes ... OK
* checking running R code from vignettes ... SKIPPED
* checking re-building of vignette outputs ... SKIPPED
* checking PDF version of manual ... OK
* DONE
Status: OK
sesame.Rcheck/00install.out
############################################################################## ############################################################################## ### ### Running command: ### ### /Library/Frameworks/R.framework/Resources/bin/R CMD INSTALL sesame ### ############################################################################## ############################################################################## * installing to library ‘/Library/Frameworks/R.framework/Versions/4.4-arm64/Resources/library’ * installing *source* package ‘sesame’ ... ** using staged installation ** R ** inst ** byte-compile and prepare package for lazy loading ** help *** installing help indices ** building package indices ** installing vignettes ** testing if installed package can be loaded from temporary location ** testing if installed package can be loaded from final location ** testing if installed package keeps a record of temporary installation path * DONE (sesame)
sesame.Rcheck/tests/testthat.Rout
R version 4.4.0 (2024-04-24) -- "Puppy Cup"
Copyright (C) 2024 The R Foundation for Statistical Computing
Platform: aarch64-apple-darwin20
R is free software and comes with ABSOLUTELY NO WARRANTY.
You are welcome to redistribute it under certain conditions.
Type 'license()' or 'licence()' for distribution details.
R is a collaborative project with many contributors.
Type 'contributors()' for more information and
'citation()' on how to cite R or R packages in publications.
Type 'demo()' for some demos, 'help()' for on-line help, or
'help.start()' for an HTML browser interface to help.
Type 'q()' to quit R.
> library(testthat)
> library(sesame)
Loading required package: sesameData
Loading required package: ExperimentHub
Loading required package: BiocGenerics
Attaching package: 'BiocGenerics'
The following objects are masked from 'package:stats':
    IQR, mad, sd, var, xtabs
The following objects are masked from 'package:base':
    Filter, Find, Map, Position, Reduce, anyDuplicated, aperm, append,
    as.data.frame, basename, cbind, colnames, dirname, do.call,
    duplicated, eval, evalq, get, grep, grepl, intersect, is.unsorted,
    lapply, mapply, match, mget, order, paste, pmax, pmax.int, pmin,
    pmin.int, rank, rbind, rownames, sapply, setdiff, table, tapply,
    union, unique, unsplit, which.max, which.min
Loading required package: AnnotationHub
Loading required package: BiocFileCache
Loading required package: dbplyr
Loading sesameData.
----------------------------------------------------------
| SEnsible Step-wise Analysis of DNA MEthylation (SeSAMe)
| --------------------------------------------------------
| Please cache auxiliary data by "sesameDataCache()".
| This needs to be done only once per SeSAMe installation.
----------------------------------------------------------
> 
> test_check("sesame")
[ FAIL 0 | WARN 0 | SKIP 0 | PASS 5 ]
> 
> proc.time()
   user  system elapsed 
 28.267   1.814  46.396 
sesame.Rcheck/sesame-Ex.timings
| name | user | system | elapsed | |
| BetaValueToMValue | 0 | 0 | 0 | |
| DML | 9.601 | 1.007 | 15.582 | |
| DMLpredict | 1.423 | 0.139 | 2.409 | |
| DMR | 11.459 | 0.338 | 18.114 | |
| ELBAR | 23.503 | 2.380 | 34.361 | |
| KYCG_annoProbes | 19.818 | 0.905 | 29.815 | |
| KYCG_buildGeneDBs | 15.882 | 0.530 | 23.662 | |
| KYCG_getDBs | 3.609 | 0.297 | 5.795 | |
| KYCG_listDBGroups | 0.036 | 0.001 | 0.057 | |
| KYCG_loadDBs | 0 | 0 | 0 | |
| KYCG_plotBar | 0.201 | 0.011 | 0.289 | |
| KYCG_plotDot | 1.077 | 0.039 | 1.588 | |
| KYCG_plotEnrichAll | 27.328 | 1.405 | 41.329 | |
| KYCG_plotLollipop | 0.176 | 0.003 | 0.271 | |
| KYCG_plotManhattan | 2.596 | 0.147 | 3.858 | |
| KYCG_plotMeta | 32.890 | 1.044 | 48.812 | |
| KYCG_plotMetaEnrichment | 16.958 | 0.703 | 26.737 | |
| KYCG_plotPointRange | 3.638 | 0.217 | 5.706 | |
| KYCG_plotSetEnrichment | 7.814 | 0.443 | 12.246 | |
| KYCG_plotVolcano | 0.149 | 0.003 | 0.214 | |
| KYCG_plotWaterfall | 3.865 | 0.235 | 6.067 | |
| MValueToBetaValue | 0.001 | 0.000 | 0.001 | |
| SigDF | 0.333 | 0.053 | 0.912 | |
| addMask | 0.127 | 0.003 | 0.176 | |
| aggregateTestEnrichments | 4.013 | 0.101 | 5.814 | |
| betasCollapseToPfx | 0.017 | 0.001 | 0.023 | |
| bisConversionControl | 6.563 | 0.281 | 10.128 | |
| calcEffectSize | 2.515 | 0.177 | 4.108 | |
| checkLevels | 4.140 | 0.264 | 6.311 | |
| cnSegmentation | 0.331 | 0.072 | 0.788 | |
| compareMouseStrainReference | 13.359 | 0.555 | 20.053 | |
| compareMouseTissueReference | 0 | 0 | 0 | |
| compareReference | 12.281 | 0.501 | 18.233 | |
| controls | 2.335 | 0.302 | 3.826 | |
| createUCSCtrack | 8.433 | 0.516 | 12.373 | |
| dataFrame2sesameQC | 1.246 | 0.154 | 1.867 | |
| dbStats | 10.177 | 0.605 | 16.039 | |
| deidentify | 5.853 | 0.479 | 9.419 | |
| detectionPnegEcdf | 3.078 | 0.191 | 4.860 | |
| diffRefSet | 18.855 | 0.691 | 27.976 | |
| dmContrasts | 2.628 | 0.201 | 4.059 | |
| dyeBiasCorr | 3.282 | 0.272 | 5.130 | |
| dyeBiasCorrMostBalanced | 8.275 | 0.349 | 12.632 | |
| dyeBiasL | 4.274 | 0.140 | 6.417 | |
| dyeBiasNL | 6.507 | 0.311 | 9.663 | |
| estimateLeukocyte | 11.244 | 0.513 | 17.349 | |
| formatVCF | 2.417 | 0.292 | 4.155 | |
| getAFTypeIbySumAlleles | 2.460 | 0.230 | 4.083 | |
| getAFs | 1.885 | 0.121 | 3.044 | |
| getBetas | 1.266 | 0.101 | 2.244 | |
| getMask | 9.275 | 0.631 | 14.693 | |
| getRefSet | 16.919 | 0.533 | 23.856 | |
| imputeBetas | 26.227 | 1.388 | 39.423 | |
| imputeBetasByGenomicNeighbors | 50.170 | 1.322 | 72.243 | |
| imputeBetasMatrixByMean | 0.002 | 0.000 | 0.002 | |
| inferEthnicity | 0.001 | 0.000 | 0.003 | |
| inferInfiniumIChannel | 0.343 | 0.333 | 0.979 | |
| inferSex | 31.208 | 0.937 | 47.674 | |
| inferSpecies | 21.666 | 0.865 | 34.615 | |
| inferStrain | 13.181 | 0.610 | 21.313 | |
| inferTissue | 10.751 | 1.204 | 17.808 | |
| initFileSet | 1.384 | 0.364 | 2.888 | |
| listAvailableMasks | 1.820 | 0.342 | 3.622 | |
| mLiftOver | 0.000 | 0.001 | 0.001 | |
| mapFileSet | 0.037 | 0.003 | 0.067 | |
| mapToMammal40 | 4.388 | 0.675 | 8.316 | |
| matchDesign | 13.943 | 0.717 | 22.418 | |
| meanIntensity | 3.362 | 0.405 | 6.015 | |
| medianTotalIntensity | 1.018 | 0.081 | 1.827 | |
| noMasked | 4.259 | 0.280 | 7.407 | |
| noob | 1.973 | 0.123 | 3.192 | |
| openSesame | 7.566 | 0.664 | 13.332 | |
| openSesameToFile | 1.934 | 0.227 | 3.270 | |
| pOOBAH | 1.531 | 0.039 | 2.396 | |
| palgen | 0.064 | 0.010 | 0.136 | |
| parseGEOsignalMU | 3.677 | 0.269 | 6.304 | |
| predictAge | 3.295 | 0.171 | 5.363 | |
| predictAgeHorvath353 | 0 | 0 | 0 | |
| predictAgeSkinBlood | 0.000 | 0.000 | 0.004 | |
| predictMouseAgeInMonth | 0 | 0 | 0 | |
| prefixMask | 0.973 | 0.010 | 1.594 | |
| prefixMaskButC | 0.274 | 0.003 | 0.467 | |
| prefixMaskButCG | 0.108 | 0.002 | 0.157 | |
| prepSesame | 5.327 | 0.368 | 9.633 | |
| prepSesameList | 0.002 | 0.000 | 0.005 | |
| print.DMLSummary | 4.601 | 0.646 | 9.165 | |
| print.fileSet | 1.461 | 0.348 | 3.199 | |
| probeID_designType | 0 | 0 | 0 | |
| probeSuccessRate | 7.154 | 0.780 | 12.531 | |
| qualityMask | 3.332 | 0.370 | 5.327 | |
| reIdentify | 4.869 | 0.193 | 7.936 | |
| readFileSet | 0.065 | 0.004 | 0.102 | |
| readIDATpair | 0.175 | 0.006 | 0.276 | |
| recommendedMaskNames | 0.000 | 0.001 | 0.003 | |
| resetMask | 0.474 | 0.080 | 0.914 | |
| scrub | 2.262 | 0.150 | 3.604 | |
| scrubSoft | 3.184 | 0.515 | 5.104 | |
| sdfPlatform | 0.334 | 0.050 | 0.936 | |
| sdf_read_table | 10.348 | 0.821 | 17.296 | |
| sdf_write_table | 2.612 | 0.204 | 4.611 | |
| searchIDATprefixes | 0.005 | 0.004 | 0.015 | |
| sesame-package | 2.666 | 0.269 | 4.270 | |
| sesameAnno_buildAddressFile | 0.001 | 0.000 | 0.000 | |
| sesameAnno_buildManifestGRanges | 0 | 0 | 0 | |
| sesameAnno_download | 0 | 0 | 0 | |
| sesameAnno_get | 0.000 | 0.000 | 0.001 | |
| sesameAnno_readManifestTSV | 0.000 | 0.000 | 0.001 | |
| sesameData_getAnno | 0 | 0 | 0 | |
| sesameQC_calcStats | 24.451 | 1.314 | 37.513 | |
| sesameQC_getStats | 2.043 | 0.029 | 3.102 | |
| sesameQC_plotBar | 18.663 | 0.459 | 28.286 | |
| sesameQC_plotBetaByDesign | 13.997 | 0.994 | 22.671 | |
| sesameQC_plotHeatSNPs | 27.921 | 1.007 | 44.381 | |
| sesameQC_plotIntensVsBetas | 2.629 | 0.173 | 4.698 | |
| sesameQC_plotRedGrnQQ | 1.650 | 0.151 | 3.188 | |
| sesameQC_rankStats | 4.323 | 0.269 | 7.356 | |
| sesame_checkVersion | 0.006 | 0.002 | 0.013 | |
| sesamize | 0.001 | 0.000 | 0.001 | |
| setMask | 0.140 | 0.003 | 0.215 | |
| signalMU | 0.966 | 0.074 | 1.886 | |
| sliceFileSet | 0.549 | 0.023 | 0.868 | |
| summaryExtractTest | 4.647 | 0.590 | 8.782 | |
| testEnrichment | 8.159 | 0.968 | 14.449 | |
| testEnrichmentGene | 166.472 | 6.396 | 268.419 | |
| testEnrichmentSEA | 15.657 | 0.961 | 26.231 | |
| totalIntensities | 4.563 | 0.297 | 7.890 | |
| updateSigDF | 3.611 | 0.307 | 6.286 | |
| visualizeGene | 12.607 | 0.521 | 20.144 | |
| visualizeProbes | 1.225 | 0.017 | 1.851 | |
| visualizeRegion | 6.443 | 0.088 | 9.561 | |
| visualizeSegments | 3.163 | 0.520 | 6.182 | |