Back to Multiple platform build/check report for BioC 3.19: simplified long |
|
This page was generated on 2024-05-09 11:41:25 -0400 (Thu, 09 May 2024).
Hostname | OS | Arch (*) | R version | Installed pkgs |
---|---|---|---|---|
nebbiolo1 | Linux (Ubuntu 22.04.3 LTS) | x86_64 | 4.4.0 (2024-04-24) -- "Puppy Cup" | 4748 |
palomino3 | Windows Server 2022 Datacenter | x64 | 4.4.0 (2024-04-24 ucrt) -- "Puppy Cup" | 4484 |
lconway | macOS 12.7.1 Monterey | x86_64 | 4.4.0 (2024-04-24) -- "Puppy Cup" | 4514 |
kunpeng2 | Linux (openEuler 22.03 LTS-SP1) | aarch64 | 4.4.0 beta (2024-04-15 r86425) -- "Puppy Cup" | 4480 |
Click on any hostname to see more info about the system (e.g. compilers) (*) as reported by 'uname -p', except on Windows and Mac OS X |
Package 1894/2300 | Hostname | OS / Arch | INSTALL | BUILD | CHECK | BUILD BIN | ||||||||
scGPS 1.18.0 (landing page) Quan Nguyen
| nebbiolo1 | Linux (Ubuntu 22.04.3 LTS) / x86_64 | OK | OK | OK | |||||||||
palomino3 | Windows Server 2022 Datacenter / x64 | OK | OK | OK | OK | |||||||||
lconway | macOS 12.7.1 Monterey / x86_64 | OK | OK | OK | OK | |||||||||
kunpeng2 | Linux (openEuler 22.03 LTS-SP1) / aarch64 | OK | OK | OK | ||||||||||
kjohnson3 | macOS 13.6.5 Ventura / arm64 | see weekly results here | ||||||||||||
To the developers/maintainers of the scGPS package: - Allow up to 24 hours (and sometimes 48 hours) for your latest push to git@git.bioconductor.org:packages/scGPS.git to reflect on this report. See Troubleshooting Build Report for more information. - Use the following Renviron settings to reproduce errors and warnings. - If 'R CMD check' started to fail recently on the Linux builder(s) over a missing dependency, add the missing dependency to 'Suggests:' in your DESCRIPTION file. See Renviron.bioc for more information. - See Martin Grigorov's blog post for how to debug Linux ARM64 related issues on a x86_64 host. |
Package: scGPS |
Version: 1.18.0 |
Command: /home/biocbuild/R/R-beta-2024-04-15_r86425/bin/R CMD check --install=check:scGPS.install-out.txt --library=/home/biocbuild/R/R-beta-2024-04-15_r86425/site-library --no-vignettes --timings scGPS_1.18.0.tar.gz |
StartedAt: 2024-05-09 11:40:00 -0000 (Thu, 09 May 2024) |
EndedAt: 2024-05-09 11:48:19 -0000 (Thu, 09 May 2024) |
EllapsedTime: 498.8 seconds |
RetCode: 0 |
Status: OK |
CheckDir: scGPS.Rcheck |
Warnings: 0 |
############################################################################## ############################################################################## ### ### Running command: ### ### /home/biocbuild/R/R-beta-2024-04-15_r86425/bin/R CMD check --install=check:scGPS.install-out.txt --library=/home/biocbuild/R/R-beta-2024-04-15_r86425/site-library --no-vignettes --timings scGPS_1.18.0.tar.gz ### ############################################################################## ############################################################################## * using log directory ‘/home/biocbuild/bbs-3.19-bioc/meat/scGPS.Rcheck’ * using R version 4.4.0 beta (2024-04-15 r86425) * using platform: aarch64-unknown-linux-gnu * R was compiled by gcc (GCC) 10.3.1 GNU Fortran (GCC) 10.3.1 * running under: openEuler 22.03 (LTS-SP1) * using session charset: UTF-8 * using option ‘--no-vignettes’ * checking for file ‘scGPS/DESCRIPTION’ ... OK * checking extension type ... Package * this is package ‘scGPS’ version ‘1.18.0’ * package encoding: UTF-8 * checking package namespace information ... OK * checking package dependencies ... OK * checking if this is a source package ... OK * checking if there is a namespace ... OK * checking for hidden files and directories ... OK * checking for portable file names ... OK * checking for sufficient/correct file permissions ... OK * checking whether package ‘scGPS’ can be installed ... OK * used C++ compiler: ‘g++ (GCC) 10.3.1’ * checking installed package size ... NOTE installed size is 6.4Mb sub-directories of 1Mb or more: data 2.0Mb libs 3.9Mb * checking package directory ... OK * checking ‘build’ directory ... OK * checking DESCRIPTION meta-information ... OK * checking top-level files ... OK * checking for left-over files ... OK * checking index information ... OK * checking package subdirectories ... OK * checking code files for non-ASCII characters ... OK * checking R files for syntax errors ... OK * checking whether the package can be loaded ... OK * checking whether the package can be loaded with stated dependencies ... OK * checking whether the package can be unloaded cleanly ... OK * checking whether the namespace can be loaded with stated dependencies ... OK * checking whether the namespace can be unloaded cleanly ... OK * checking loading without being on the library search path ... OK * checking dependencies in R code ... OK * checking S3 generic/method consistency ... OK * checking replacement functions ... OK * checking foreign function calls ... OK * checking R code for possible problems ... NOTE plot_reduced: no visible binding for global variable ‘..count..’ Undefined global functions or variables: ..count.. * checking Rd files ... OK * checking Rd metadata ... OK * checking Rd cross-references ... OK * checking for missing documentation entries ... OK * checking for code/documentation mismatches ... OK * checking Rd \usage sections ... OK * checking Rd contents ... OK * checking for unstated dependencies in examples ... OK * checking contents of ‘data’ directory ... OK * checking data for non-ASCII characters ... OK * checking LazyData ... OK * checking data for ASCII and uncompressed saves ... OK * checking line endings in C/C++/Fortran sources/headers ... OK * checking line endings in Makefiles ... OK * checking compilation flags in Makevars ... OK * checking for GNU extensions in Makefiles ... OK * checking for portable use of $(BLAS_LIBS) and $(LAPACK_LIBS) ... OK * checking use of PKG_*FLAGS in Makefiles ... OK * checking compiled code ... NOTE Note: information on .o files is not available * checking files in ‘vignettes’ ... OK * checking examples ... OK Examples with CPU (user + system) or elapsed time > 5s user system elapsed annotate_clusters 63.746 0.478 64.339 find_markers 57.584 0.283 57.934 clustering_bagging 13.809 0.216 10.870 CORE_bagging 13.347 0.223 12.444 plot_optimal_CORE 9.113 0.028 5.987 clustering 8.688 0.103 5.611 find_stability 7.840 0.028 4.747 find_optimal_stability 7.108 0.055 5.862 plot_reduced 6.991 0.044 7.049 CORE_clustering 5.803 0.089 4.678 plot_CORE 5.852 0.037 4.813 tSNE 5.830 0.000 5.842 CORE_subcluster 5.680 0.017 4.492 rand_index 5.395 0.031 4.346 * checking for unstated dependencies in ‘tests’ ... OK * checking tests ... Running ‘testthat.R’ OK * checking for unstated dependencies in vignettes ... OK * checking package vignettes ... OK * checking running R code from vignettes ... SKIPPED * checking re-building of vignette outputs ... SKIPPED * checking PDF version of manual ... OK * DONE Status: 3 NOTEs See ‘/home/biocbuild/bbs-3.19-bioc/meat/scGPS.Rcheck/00check.log’ for details.
scGPS.Rcheck/00install.out
############################################################################## ############################################################################## ### ### Running command: ### ### /home/biocbuild/R/R-beta-2024-04-15_r86425/bin/R CMD INSTALL scGPS ### ############################################################################## ############################################################################## * installing to library ‘/home/biocbuild/R/R-beta-2024-04-15_r86425/site-library’ * installing *source* package ‘scGPS’ ... ** using staged installation ** libs using C++ compiler: ‘g++ (GCC) 10.3.1’ g++ -std=gnu++17 -I"/home/biocbuild/R/R-beta-2024-04-15_r86425/include" -DNDEBUG -I'/home/biocbuild/R/R-beta-2024-04-15_r86425/site-library/Rcpp/include' -I'/home/biocbuild/R/R-beta-2024-04-15_r86425/site-library/RcppArmadillo/include' -I'/home/biocbuild/R/R-beta-2024-04-15_r86425/site-library/RcppParallel/include' -I/usr/local/include -fPIC -g -O2 -Wall -c RcppExports.cpp -o RcppExports.o g++ -std=gnu++17 -I"/home/biocbuild/R/R-beta-2024-04-15_r86425/include" -DNDEBUG -I'/home/biocbuild/R/R-beta-2024-04-15_r86425/site-library/Rcpp/include' -I'/home/biocbuild/R/R-beta-2024-04-15_r86425/site-library/RcppArmadillo/include' -I'/home/biocbuild/R/R-beta-2024-04-15_r86425/site-library/RcppParallel/include' -I/usr/local/include -fPIC -g -O2 -Wall -c dist_mat_cpp.cpp -o dist_mat_cpp.o g++ -std=gnu++17 -I"/home/biocbuild/R/R-beta-2024-04-15_r86425/include" -DNDEBUG -I'/home/biocbuild/R/R-beta-2024-04-15_r86425/site-library/Rcpp/include' -I'/home/biocbuild/R/R-beta-2024-04-15_r86425/site-library/RcppArmadillo/include' -I'/home/biocbuild/R/R-beta-2024-04-15_r86425/site-library/RcppParallel/include' -I/usr/local/include -fPIC -g -O2 -Wall -c dist_parallel_cpp.cpp -o dist_parallel_cpp.o g++ -std=gnu++17 -I"/home/biocbuild/R/R-beta-2024-04-15_r86425/include" -DNDEBUG -I'/home/biocbuild/R/R-beta-2024-04-15_r86425/site-library/Rcpp/include' -I'/home/biocbuild/R/R-beta-2024-04-15_r86425/site-library/RcppArmadillo/include' -I'/home/biocbuild/R/R-beta-2024-04-15_r86425/site-library/RcppParallel/include' -I/usr/local/include -fPIC -g -O2 -Wall -c utils_rcpp.cpp -o utils_rcpp.o g++ -std=gnu++17 -shared -L/home/biocbuild/R/R-beta-2024-04-15_r86425/lib -L/usr/local/lib -o scGPS.so RcppExports.o dist_mat_cpp.o dist_parallel_cpp.o utils_rcpp.o -lopenblas -lgfortran -lm -L/home/biocbuild/R/R-beta-2024-04-15_r86425/lib -lR installing to /home/biocbuild/R/R-beta-2024-04-15_r86425/site-library/00LOCK-scGPS/00new/scGPS/libs ** R ** data *** moving datasets to lazyload DB ** byte-compile and prepare package for lazy loading ** help *** installing help indices *** copying figures ** building package indices ** installing vignettes ** testing if installed package can be loaded from temporary location ** checking absolute paths in shared objects and dynamic libraries ** testing if installed package can be loaded from final location ** testing if installed package keeps a record of temporary installation path * DONE (scGPS)
scGPS.Rcheck/tests/testthat.Rout
R version 4.4.0 beta (2024-04-15 r86425) -- "Puppy Cup" Copyright (C) 2024 The R Foundation for Statistical Computing Platform: aarch64-unknown-linux-gnu R is free software and comes with ABSOLUTELY NO WARRANTY. You are welcome to redistribute it under certain conditions. Type 'license()' or 'licence()' for distribution details. R is a collaborative project with many contributors. Type 'contributors()' for more information and 'citation()' on how to cite R or R packages in publications. Type 'demo()' for some demos, 'help()' for on-line help, or 'help.start()' for an HTML browser interface to help. Type 'q()' to quit R. > library(testthat) > library(scGPS) Loading required package: SummarizedExperiment Loading required package: MatrixGenerics Loading required package: matrixStats Attaching package: 'MatrixGenerics' The following objects are masked from 'package:matrixStats': colAlls, colAnyNAs, colAnys, colAvgsPerRowSet, colCollapse, colCounts, colCummaxs, colCummins, colCumprods, colCumsums, colDiffs, colIQRDiffs, colIQRs, colLogSumExps, colMadDiffs, colMads, colMaxs, colMeans2, colMedians, colMins, colOrderStats, colProds, colQuantiles, colRanges, colRanks, colSdDiffs, colSds, colSums2, colTabulates, colVarDiffs, colVars, colWeightedMads, colWeightedMeans, colWeightedMedians, colWeightedSds, colWeightedVars, rowAlls, rowAnyNAs, rowAnys, rowAvgsPerColSet, rowCollapse, rowCounts, rowCummaxs, rowCummins, rowCumprods, rowCumsums, rowDiffs, rowIQRDiffs, rowIQRs, rowLogSumExps, rowMadDiffs, rowMads, rowMaxs, rowMeans2, rowMedians, rowMins, rowOrderStats, rowProds, rowQuantiles, rowRanges, rowRanks, rowSdDiffs, rowSds, rowSums2, rowTabulates, rowVarDiffs, rowVars, rowWeightedMads, rowWeightedMeans, rowWeightedMedians, rowWeightedSds, rowWeightedVars Loading required package: GenomicRanges Loading required package: stats4 Loading required package: BiocGenerics Attaching package: 'BiocGenerics' The following objects are masked from 'package:stats': IQR, mad, sd, var, xtabs The following objects are masked from 'package:base': Filter, Find, Map, Position, Reduce, anyDuplicated, aperm, append, as.data.frame, basename, cbind, colnames, dirname, do.call, duplicated, eval, evalq, get, grep, grepl, intersect, is.unsorted, lapply, mapply, match, mget, order, paste, pmax, pmax.int, pmin, pmin.int, rank, rbind, rownames, sapply, setdiff, table, tapply, union, unique, unsplit, which.max, which.min Loading required package: S4Vectors Attaching package: 'S4Vectors' The following object is masked from 'package:utils': findMatches The following objects are masked from 'package:base': I, expand.grid, unname Loading required package: IRanges Loading required package: GenomeInfoDb Loading required package: Biobase Welcome to Bioconductor Vignettes contain introductory material; view with 'browseVignettes()'. To cite Bioconductor, see 'citation("Biobase")', and for packages 'citation("pkgname")'. Attaching package: 'Biobase' The following object is masked from 'package:MatrixGenerics': rowMedians The following objects are masked from 'package:matrixStats': anyMissing, rowMedians Loading required package: dynamicTreeCut Loading required package: SingleCellExperiment > > test_check("scGPS") [ FAIL 0 | WARN 0 | SKIP 0 | PASS 2 ] > > proc.time() user system elapsed 13.689 0.619 14.322
scGPS.Rcheck/scGPS-Ex.timings
name | user | system | elapsed | |
CORE_bagging | 13.347 | 0.223 | 12.444 | |
CORE_clustering | 5.803 | 0.089 | 4.678 | |
CORE_subcluster | 5.680 | 0.017 | 4.492 | |
PCA | 2.715 | 0.092 | 2.812 | |
PrinComp_cpp | 0.131 | 0.012 | 0.143 | |
annotate_clusters | 63.746 | 0.478 | 64.339 | |
bootstrap_parallel | 0.645 | 0.000 | 0.647 | |
bootstrap_prediction | 4.298 | 0.068 | 4.374 | |
calcDist | 0.513 | 0.068 | 0.582 | |
calcDistArma | 0.000 | 0.000 | 0.001 | |
clustering | 8.688 | 0.103 | 5.611 | |
clustering_bagging | 13.809 | 0.216 | 10.870 | |
distvec | 0.001 | 0.000 | 0.001 | |
find_markers | 57.584 | 0.283 | 57.934 | |
find_optimal_stability | 7.108 | 0.055 | 5.862 | |
find_stability | 7.840 | 0.028 | 4.747 | |
mean_cpp | 0.005 | 0.000 | 0.005 | |
new_scGPS_object | 0.386 | 0.008 | 0.394 | |
new_summarized_scGPS_object | 0.028 | 0.004 | 0.032 | |
plot_CORE | 5.852 | 0.037 | 4.813 | |
plot_optimal_CORE | 9.113 | 0.028 | 5.987 | |
plot_reduced | 6.991 | 0.044 | 7.049 | |
predicting | 1.968 | 0.024 | 1.997 | |
rand_index | 5.395 | 0.031 | 4.346 | |
rcpp_Eucl_distance_NotPar | 0.012 | 0.000 | 0.013 | |
rcpp_parallel_distance | 0.126 | 0.000 | 0.125 | |
reformat_LASSO | 4.522 | 0.024 | 4.556 | |
sub_clustering | 0.170 | 0.001 | 0.150 | |
subset_cpp | 0.133 | 0.000 | 0.132 | |
summary_accuracy | 2.686 | 0.027 | 2.719 | |
summary_deviance | 4.623 | 0.006 | 4.638 | |
summary_prediction_lasso | 2.576 | 0.012 | 2.593 | |
summary_prediction_lda | 2.600 | 0.002 | 2.608 | |
tSNE | 5.830 | 0.000 | 5.842 | |
top_var | 0.475 | 0.000 | 0.476 | |
tp_cpp | 0.141 | 0.000 | 0.141 | |
training | 0.939 | 0.008 | 0.949 | |
var_cpp | 0.012 | 0.000 | 0.012 | |