| Back to Multiple platform build/check report for BioC 3.19: simplified long |
|
This page was generated on 2024-10-18 20:38 -0400 (Fri, 18 Oct 2024).
| Hostname | OS | Arch (*) | R version | Installed pkgs |
|---|---|---|---|---|
| nebbiolo1 | Linux (Ubuntu 22.04.3 LTS) | x86_64 | 4.4.1 (2024-06-14) -- "Race for Your Life" | 4763 |
| palomino7 | Windows Server 2022 Datacenter | x64 | 4.4.1 (2024-06-14 ucrt) -- "Race for Your Life" | 4500 |
| merida1 | macOS 12.7.5 Monterey | x86_64 | 4.4.1 (2024-06-14) -- "Race for Your Life" | 4530 |
| kjohnson1 | macOS 13.6.6 Ventura | arm64 | 4.4.1 (2024-06-14) -- "Race for Your Life" | 4480 |
| Click on any hostname to see more info about the system (e.g. compilers) (*) as reported by 'uname -p', except on Windows and Mac OS X | ||||
| Package 1894/2300 | Hostname | OS / Arch | INSTALL | BUILD | CHECK | BUILD BIN | ||||||||
| scGPS 1.18.0 (landing page) Quan Nguyen
| nebbiolo1 | Linux (Ubuntu 22.04.3 LTS) / x86_64 | OK | OK | OK | |||||||||
| palomino7 | Windows Server 2022 Datacenter / x64 | OK | OK | OK | OK | |||||||||
| merida1 | macOS 12.7.5 Monterey / x86_64 | OK | OK | OK | OK | |||||||||
| kjohnson1 | macOS 13.6.6 Ventura / arm64 | OK | OK | OK | NA | |||||||||
|
To the developers/maintainers of the scGPS package: - Allow up to 24 hours (and sometimes 48 hours) for your latest push to git@git.bioconductor.org:packages/scGPS.git to reflect on this report. See Troubleshooting Build Report for more information. - Use the following Renviron settings to reproduce errors and warnings. - If 'R CMD check' started to fail recently on the Linux builder(s) over a missing dependency, add the missing dependency to 'Suggests:' in your DESCRIPTION file. See Renviron.bioc for more information. |
| Package: scGPS |
| Version: 1.18.0 |
| Command: /home/biocbuild/bbs-3.19-bioc/R/bin/R CMD check --install=check:scGPS.install-out.txt --library=/home/biocbuild/bbs-3.19-bioc/R/site-library --timings scGPS_1.18.0.tar.gz |
| StartedAt: 2024-10-17 04:49:31 -0400 (Thu, 17 Oct 2024) |
| EndedAt: 2024-10-17 04:59:46 -0400 (Thu, 17 Oct 2024) |
| EllapsedTime: 615.1 seconds |
| RetCode: 0 |
| Status: OK |
| CheckDir: scGPS.Rcheck |
| Warnings: 0 |
##############################################################################
##############################################################################
###
### Running command:
###
### /home/biocbuild/bbs-3.19-bioc/R/bin/R CMD check --install=check:scGPS.install-out.txt --library=/home/biocbuild/bbs-3.19-bioc/R/site-library --timings scGPS_1.18.0.tar.gz
###
##############################################################################
##############################################################################
* using log directory ‘/home/biocbuild/bbs-3.19-bioc/meat/scGPS.Rcheck’
* using R version 4.4.1 (2024-06-14)
* using platform: x86_64-pc-linux-gnu
* R was compiled by
gcc (Ubuntu 11.4.0-1ubuntu1~22.04) 11.4.0
GNU Fortran (Ubuntu 11.4.0-1ubuntu1~22.04) 11.4.0
* running under: Ubuntu 22.04.5 LTS
* using session charset: UTF-8
* checking for file ‘scGPS/DESCRIPTION’ ... OK
* checking extension type ... Package
* this is package ‘scGPS’ version ‘1.18.0’
* package encoding: UTF-8
* checking package namespace information ... OK
* checking package dependencies ... OK
* checking if this is a source package ... OK
* checking if there is a namespace ... OK
* checking for hidden files and directories ... OK
* checking for portable file names ... OK
* checking for sufficient/correct file permissions ... OK
* checking whether package ‘scGPS’ can be installed ... OK
* used C++ compiler: ‘g++ (Ubuntu 11.4.0-1ubuntu1~22.04) 11.4.0’
* checking installed package size ... OK
* checking package directory ... OK
* checking ‘build’ directory ... OK
* checking DESCRIPTION meta-information ... OK
* checking top-level files ... OK
* checking for left-over files ... OK
* checking index information ... OK
* checking package subdirectories ... OK
* checking code files for non-ASCII characters ... OK
* checking R files for syntax errors ... OK
* checking whether the package can be loaded ... OK
* checking whether the package can be loaded with stated dependencies ... OK
* checking whether the package can be unloaded cleanly ... OK
* checking whether the namespace can be loaded with stated dependencies ... OK
* checking whether the namespace can be unloaded cleanly ... OK
* checking loading without being on the library search path ... OK
* checking dependencies in R code ... OK
* checking S3 generic/method consistency ... OK
* checking replacement functions ... OK
* checking foreign function calls ... OK
* checking R code for possible problems ... NOTE
plot_reduced: no visible binding for global variable ‘..count..’
Undefined global functions or variables:
..count..
* checking Rd files ... OK
* checking Rd metadata ... OK
* checking Rd cross-references ... OK
* checking for missing documentation entries ... OK
* checking for code/documentation mismatches ... OK
* checking Rd \usage sections ... OK
* checking Rd contents ... OK
* checking for unstated dependencies in examples ... OK
* checking contents of ‘data’ directory ... OK
* checking data for non-ASCII characters ... OK
* checking LazyData ... OK
* checking data for ASCII and uncompressed saves ... OK
* checking line endings in C/C++/Fortran sources/headers ... OK
* checking line endings in Makefiles ... OK
* checking compilation flags in Makevars ... OK
* checking for GNU extensions in Makefiles ... OK
* checking for portable use of $(BLAS_LIBS) and $(LAPACK_LIBS) ... OK
* checking use of PKG_*FLAGS in Makefiles ... OK
* checking compiled code ... NOTE
Note: information on .o files is not available
* checking files in ‘vignettes’ ... OK
* checking examples ... OK
Examples with CPU (user + system) or elapsed time > 5s
user system elapsed
find_markers 60.834 0.715 61.549
annotate_clusters 31.671 0.771 32.442
CORE_bagging 9.449 1.204 7.835
clustering_bagging 7.807 0.115 5.950
clustering 6.238 0.257 4.385
plot_optimal_CORE 5.551 0.702 3.248
plot_reduced 5.851 0.028 5.879
tSNE 5.247 0.004 5.251
CORE_subcluster 5.059 0.099 3.344
plot_CORE 4.962 0.156 2.797
* checking for unstated dependencies in ‘tests’ ... OK
* checking tests ...
Running ‘testthat.R’
OK
* checking for unstated dependencies in vignettes ... OK
* checking package vignettes ... OK
* checking re-building of vignette outputs ... OK
* checking PDF version of manual ... OK
* DONE
Status: 2 NOTEs
See
‘/home/biocbuild/bbs-3.19-bioc/meat/scGPS.Rcheck/00check.log’
for details.
scGPS.Rcheck/00install.out
############################################################################## ############################################################################## ### ### Running command: ### ### /home/biocbuild/bbs-3.19-bioc/R/bin/R CMD INSTALL scGPS ### ############################################################################## ############################################################################## * installing to library ‘/home/biocbuild/bbs-3.19-bioc/R/site-library’ * installing *source* package ‘scGPS’ ... ** using staged installation ** libs using C++ compiler: ‘g++ (Ubuntu 11.4.0-1ubuntu1~22.04) 11.4.0’ g++ -std=gnu++17 -I"/home/biocbuild/bbs-3.19-bioc/R/include" -DNDEBUG -I'/home/biocbuild/bbs-3.19-bioc/R/site-library/Rcpp/include' -I'/home/biocbuild/bbs-3.19-bioc/R/site-library/RcppArmadillo/include' -I'/home/biocbuild/bbs-3.19-bioc/R/site-library/RcppParallel/include' -I/usr/local/include -fpic -g -O2 -Wall -c RcppExports.cpp -o RcppExports.o g++ -std=gnu++17 -I"/home/biocbuild/bbs-3.19-bioc/R/include" -DNDEBUG -I'/home/biocbuild/bbs-3.19-bioc/R/site-library/Rcpp/include' -I'/home/biocbuild/bbs-3.19-bioc/R/site-library/RcppArmadillo/include' -I'/home/biocbuild/bbs-3.19-bioc/R/site-library/RcppParallel/include' -I/usr/local/include -fpic -g -O2 -Wall -c dist_mat_cpp.cpp -o dist_mat_cpp.o g++ -std=gnu++17 -I"/home/biocbuild/bbs-3.19-bioc/R/include" -DNDEBUG -I'/home/biocbuild/bbs-3.19-bioc/R/site-library/Rcpp/include' -I'/home/biocbuild/bbs-3.19-bioc/R/site-library/RcppArmadillo/include' -I'/home/biocbuild/bbs-3.19-bioc/R/site-library/RcppParallel/include' -I/usr/local/include -fpic -g -O2 -Wall -c dist_parallel_cpp.cpp -o dist_parallel_cpp.o g++ -std=gnu++17 -I"/home/biocbuild/bbs-3.19-bioc/R/include" -DNDEBUG -I'/home/biocbuild/bbs-3.19-bioc/R/site-library/Rcpp/include' -I'/home/biocbuild/bbs-3.19-bioc/R/site-library/RcppArmadillo/include' -I'/home/biocbuild/bbs-3.19-bioc/R/site-library/RcppParallel/include' -I/usr/local/include -fpic -g -O2 -Wall -c utils_rcpp.cpp -o utils_rcpp.o g++ -std=gnu++17 -shared -L/home/biocbuild/bbs-3.19-bioc/R/lib -L/usr/local/lib -o scGPS.so RcppExports.o dist_mat_cpp.o dist_parallel_cpp.o utils_rcpp.o -llapack -L/home/biocbuild/bbs-3.19-bioc/R/lib -lRblas -lgfortran -lm -lquadmath -L/home/biocbuild/bbs-3.19-bioc/R/lib -lR installing to /home/biocbuild/bbs-3.19-bioc/R/site-library/00LOCK-scGPS/00new/scGPS/libs ** R ** data *** moving datasets to lazyload DB ** byte-compile and prepare package for lazy loading ** help *** installing help indices *** copying figures ** building package indices ** installing vignettes ** testing if installed package can be loaded from temporary location ** checking absolute paths in shared objects and dynamic libraries ** testing if installed package can be loaded from final location ** testing if installed package keeps a record of temporary installation path * DONE (scGPS)
scGPS.Rcheck/tests/testthat.Rout
R version 4.4.1 (2024-06-14) -- "Race for Your Life"
Copyright (C) 2024 The R Foundation for Statistical Computing
Platform: x86_64-pc-linux-gnu
R is free software and comes with ABSOLUTELY NO WARRANTY.
You are welcome to redistribute it under certain conditions.
Type 'license()' or 'licence()' for distribution details.
R is a collaborative project with many contributors.
Type 'contributors()' for more information and
'citation()' on how to cite R or R packages in publications.
Type 'demo()' for some demos, 'help()' for on-line help, or
'help.start()' for an HTML browser interface to help.
Type 'q()' to quit R.
> library(testthat)
> library(scGPS)
Loading required package: SummarizedExperiment
Loading required package: MatrixGenerics
Loading required package: matrixStats
Attaching package: 'MatrixGenerics'
The following objects are masked from 'package:matrixStats':
colAlls, colAnyNAs, colAnys, colAvgsPerRowSet, colCollapse,
colCounts, colCummaxs, colCummins, colCumprods, colCumsums,
colDiffs, colIQRDiffs, colIQRs, colLogSumExps, colMadDiffs,
colMads, colMaxs, colMeans2, colMedians, colMins, colOrderStats,
colProds, colQuantiles, colRanges, colRanks, colSdDiffs, colSds,
colSums2, colTabulates, colVarDiffs, colVars, colWeightedMads,
colWeightedMeans, colWeightedMedians, colWeightedSds,
colWeightedVars, rowAlls, rowAnyNAs, rowAnys, rowAvgsPerColSet,
rowCollapse, rowCounts, rowCummaxs, rowCummins, rowCumprods,
rowCumsums, rowDiffs, rowIQRDiffs, rowIQRs, rowLogSumExps,
rowMadDiffs, rowMads, rowMaxs, rowMeans2, rowMedians, rowMins,
rowOrderStats, rowProds, rowQuantiles, rowRanges, rowRanks,
rowSdDiffs, rowSds, rowSums2, rowTabulates, rowVarDiffs, rowVars,
rowWeightedMads, rowWeightedMeans, rowWeightedMedians,
rowWeightedSds, rowWeightedVars
Loading required package: GenomicRanges
Loading required package: stats4
Loading required package: BiocGenerics
Attaching package: 'BiocGenerics'
The following objects are masked from 'package:stats':
IQR, mad, sd, var, xtabs
The following objects are masked from 'package:base':
Filter, Find, Map, Position, Reduce, anyDuplicated, aperm, append,
as.data.frame, basename, cbind, colnames, dirname, do.call,
duplicated, eval, evalq, get, grep, grepl, intersect, is.unsorted,
lapply, mapply, match, mget, order, paste, pmax, pmax.int, pmin,
pmin.int, rank, rbind, rownames, sapply, setdiff, table, tapply,
union, unique, unsplit, which.max, which.min
Loading required package: S4Vectors
Attaching package: 'S4Vectors'
The following object is masked from 'package:utils':
findMatches
The following objects are masked from 'package:base':
I, expand.grid, unname
Loading required package: IRanges
Loading required package: GenomeInfoDb
Loading required package: Biobase
Welcome to Bioconductor
Vignettes contain introductory material; view with
'browseVignettes()'. To cite Bioconductor, see
'citation("Biobase")', and for packages 'citation("pkgname")'.
Attaching package: 'Biobase'
The following object is masked from 'package:MatrixGenerics':
rowMedians
The following objects are masked from 'package:matrixStats':
anyMissing, rowMedians
Loading required package: dynamicTreeCut
Loading required package: SingleCellExperiment
>
> test_check("scGPS")
[ FAIL 0 | WARN 0 | SKIP 0 | PASS 2 ]
>
> proc.time()
user system elapsed
9.536 0.629 10.156
scGPS.Rcheck/scGPS-Ex.timings
| name | user | system | elapsed | |
| CORE_bagging | 9.449 | 1.204 | 7.835 | |
| CORE_clustering | 4.657 | 0.059 | 2.594 | |
| CORE_subcluster | 5.059 | 0.099 | 3.344 | |
| PCA | 3.633 | 0.120 | 3.753 | |
| PrinComp_cpp | 0.133 | 0.008 | 0.141 | |
| annotate_clusters | 31.671 | 0.771 | 32.442 | |
| bootstrap_parallel | 0.376 | 0.024 | 0.399 | |
| bootstrap_prediction | 2.493 | 0.080 | 2.573 | |
| calcDist | 0.403 | 0.540 | 0.944 | |
| calcDistArma | 0.001 | 0.000 | 0.001 | |
| clustering | 6.238 | 0.257 | 4.385 | |
| clustering_bagging | 7.807 | 0.115 | 5.950 | |
| distvec | 0.000 | 0.000 | 0.001 | |
| find_markers | 60.834 | 0.715 | 61.549 | |
| find_optimal_stability | 4.678 | 0.046 | 2.578 | |
| find_stability | 4.843 | 0.091 | 2.650 | |
| mean_cpp | 0.001 | 0.004 | 0.005 | |
| new_scGPS_object | 0.230 | 0.004 | 0.233 | |
| new_summarized_scGPS_object | 0.016 | 0.008 | 0.024 | |
| plot_CORE | 4.962 | 0.156 | 2.797 | |
| plot_optimal_CORE | 5.551 | 0.702 | 3.248 | |
| plot_reduced | 5.851 | 0.028 | 5.879 | |
| predicting | 0.870 | 0.028 | 0.899 | |
| rand_index | 4.592 | 0.030 | 2.423 | |
| rcpp_Eucl_distance_NotPar | 0.013 | 0.001 | 0.014 | |
| rcpp_parallel_distance | 0.133 | 0.000 | 0.134 | |
| reformat_LASSO | 3.147 | 0.048 | 3.194 | |
| sub_clustering | 0.109 | 0.000 | 0.065 | |
| subset_cpp | 0.140 | 0.003 | 0.142 | |
| summary_accuracy | 1.214 | 0.040 | 1.254 | |
| summary_deviance | 2.142 | 0.040 | 2.183 | |
| summary_prediction_lasso | 1.227 | 0.016 | 1.244 | |
| summary_prediction_lda | 1.286 | 0.004 | 1.290 | |
| tSNE | 5.247 | 0.004 | 5.251 | |
| top_var | 0.186 | 0.008 | 0.195 | |
| tp_cpp | 0.143 | 0.000 | 0.144 | |
| training | 0.558 | 0.016 | 0.575 | |
| var_cpp | 0.008 | 0.000 | 0.008 | |