| Back to Multiple platform build/check report for BioC 3.19: simplified long |
|
This page was generated on 2024-06-11 14:43 -0400 (Tue, 11 Jun 2024).
| Hostname | OS | Arch (*) | R version | Installed pkgs |
|---|---|---|---|---|
| nebbiolo1 | Linux (Ubuntu 22.04.3 LTS) | x86_64 | 4.4.0 (2024-04-24) -- "Puppy Cup" | 4757 |
| palomino3 | Windows Server 2022 Datacenter | x64 | 4.4.0 (2024-04-24 ucrt) -- "Puppy Cup" | 4491 |
| lconway | macOS 12.7.1 Monterey | x86_64 | 4.4.0 (2024-04-24) -- "Puppy Cup" | 4522 |
| kjohnson3 | macOS 13.6.5 Ventura | arm64 | 4.4.0 (2024-04-24) -- "Puppy Cup" | 4468 |
| Click on any hostname to see more info about the system (e.g. compilers) (*) as reported by 'uname -p', except on Windows and Mac OS X | ||||
| Package 1090/2300 | Hostname | OS / Arch | INSTALL | BUILD | CHECK | BUILD BIN | ||||||||
| kebabs 1.38.0 (landing page) Ulrich Bodenhofer
| nebbiolo1 | Linux (Ubuntu 22.04.3 LTS) / x86_64 | OK | OK | OK | |||||||||
| palomino3 | Windows Server 2022 Datacenter / x64 | OK | OK | OK | OK | |||||||||
| lconway | macOS 12.7.1 Monterey / x86_64 | OK | OK | OK | OK | |||||||||
| kjohnson3 | macOS 13.6.5 Ventura / arm64 | OK | OK | OK | OK | |||||||||
|
To the developers/maintainers of the kebabs package: - Allow up to 24 hours (and sometimes 48 hours) for your latest push to git@git.bioconductor.org:packages/kebabs.git to reflect on this report. See Troubleshooting Build Report for more information. - Use the following Renviron settings to reproduce errors and warnings. - If 'R CMD check' started to fail recently on the Linux builder(s) over a missing dependency, add the missing dependency to 'Suggests:' in your DESCRIPTION file. See Renviron.bioc for more information. |
| Package: kebabs |
| Version: 1.38.0 |
| Command: rm -rf kebabs.buildbin-libdir && mkdir kebabs.buildbin-libdir && /Users/biocbuild/BBS/utils/build-universal.sh kebabs_1.38.0.tar.gz /Library/Frameworks/R.framework/Resources/bin/R kebabs.buildbin-libdir |
| StartedAt: 2024-06-11 11:47:27 -0400 (Tue, 11 Jun 2024) |
| EndedAt: 2024-06-11 11:50:17 -0400 (Tue, 11 Jun 2024) |
| EllapsedTime: 170.1 seconds |
| RetCode: 0 |
| Status: OK |
| PackageFile: kebabs_1.38.0.tgz |
| PackageFileSize: 3.62 MiB |
##############################################################################
##############################################################################
###
### Running command:
###
### rm -rf kebabs.buildbin-libdir && mkdir kebabs.buildbin-libdir && /Users/biocbuild/BBS/utils/build-universal.sh kebabs_1.38.0.tar.gz /Library/Frameworks/R.framework/Resources/bin/R kebabs.buildbin-libdir
###
##############################################################################
##############################################################################
>>>>>>>
>>>>>>> INSTALLATION WITH 'R CMD INSTALL --preclean --no-multiarch --library=kebabs.buildbin-libdir kebabs_1.38.0.tar.gz'
>>>>>>>
* installing *source* package ‘kebabs’ ...
** using staged installation
** libs
using C compiler: ‘Apple clang version 15.0.0 (clang-1500.1.0.2.5)’
using C++ compiler: ‘Apple clang version 15.0.0 (clang-1500.1.0.2.5)’
using SDK: ‘MacOSX11.3.sdk’
clang -arch arm64 -I"/Library/Frameworks/R.framework/Resources/include" -DNDEBUG -DSTRICT_R_HEADERS -I'/Library/Frameworks/R.framework/Versions/4.4-arm64/Resources/library/IRanges/include' -I'/Library/Frameworks/R.framework/Versions/4.4-arm64/Resources/library/XVector/include' -I'/Library/Frameworks/R.framework/Versions/4.4-arm64/Resources/library/Biostrings/include' -I'/Library/Frameworks/R.framework/Versions/4.4-arm64/Resources/library/Rcpp/include' -I'/Library/Frameworks/R.framework/Versions/4.4-arm64/Resources/library/S4Vectors/include' -I/opt/R/arm64/include -fPIC -falign-functions=64 -Wall -g -O2 -c Biostrings_stubs.c -o Biostrings_stubs.o
clang -arch arm64 -I"/Library/Frameworks/R.framework/Resources/include" -DNDEBUG -DSTRICT_R_HEADERS -I'/Library/Frameworks/R.framework/Versions/4.4-arm64/Resources/library/IRanges/include' -I'/Library/Frameworks/R.framework/Versions/4.4-arm64/Resources/library/XVector/include' -I'/Library/Frameworks/R.framework/Versions/4.4-arm64/Resources/library/Biostrings/include' -I'/Library/Frameworks/R.framework/Versions/4.4-arm64/Resources/library/Rcpp/include' -I'/Library/Frameworks/R.framework/Versions/4.4-arm64/Resources/library/S4Vectors/include' -I/opt/R/arm64/include -fPIC -falign-functions=64 -Wall -g -O2 -c ByteStringVector.c -o ByteStringVector.o
clang++ -arch arm64 -std=gnu++17 -I"/Library/Frameworks/R.framework/Resources/include" -DNDEBUG -DSTRICT_R_HEADERS -I'/Library/Frameworks/R.framework/Versions/4.4-arm64/Resources/library/IRanges/include' -I'/Library/Frameworks/R.framework/Versions/4.4-arm64/Resources/library/XVector/include' -I'/Library/Frameworks/R.framework/Versions/4.4-arm64/Resources/library/Biostrings/include' -I'/Library/Frameworks/R.framework/Versions/4.4-arm64/Resources/library/Rcpp/include' -I'/Library/Frameworks/R.framework/Versions/4.4-arm64/Resources/library/S4Vectors/include' -I/opt/R/arm64/include -fPIC -falign-functions=64 -Wall -g -O2 -c ExplicitRepC.cpp -o ExplicitRepC.o
clang++ -arch arm64 -std=gnu++17 -I"/Library/Frameworks/R.framework/Resources/include" -DNDEBUG -DSTRICT_R_HEADERS -I'/Library/Frameworks/R.framework/Versions/4.4-arm64/Resources/library/IRanges/include' -I'/Library/Frameworks/R.framework/Versions/4.4-arm64/Resources/library/XVector/include' -I'/Library/Frameworks/R.framework/Versions/4.4-arm64/Resources/library/Biostrings/include' -I'/Library/Frameworks/R.framework/Versions/4.4-arm64/Resources/library/Rcpp/include' -I'/Library/Frameworks/R.framework/Versions/4.4-arm64/Resources/library/S4Vectors/include' -I/opt/R/arm64/include -fPIC -falign-functions=64 -Wall -g -O2 -c FeatureWeightsPosDepC.cpp -o FeatureWeightsPosDepC.o
clang++ -arch arm64 -std=gnu++17 -I"/Library/Frameworks/R.framework/Resources/include" -DNDEBUG -DSTRICT_R_HEADERS -I'/Library/Frameworks/R.framework/Versions/4.4-arm64/Resources/library/IRanges/include' -I'/Library/Frameworks/R.framework/Versions/4.4-arm64/Resources/library/XVector/include' -I'/Library/Frameworks/R.framework/Versions/4.4-arm64/Resources/library/Biostrings/include' -I'/Library/Frameworks/R.framework/Versions/4.4-arm64/Resources/library/Rcpp/include' -I'/Library/Frameworks/R.framework/Versions/4.4-arm64/Resources/library/S4Vectors/include' -I/opt/R/arm64/include -fPIC -falign-functions=64 -Wall -g -O2 -c GappyPairC.cpp -o GappyPairC.o
clang -arch arm64 -I"/Library/Frameworks/R.framework/Resources/include" -DNDEBUG -DSTRICT_R_HEADERS -I'/Library/Frameworks/R.framework/Versions/4.4-arm64/Resources/library/IRanges/include' -I'/Library/Frameworks/R.framework/Versions/4.4-arm64/Resources/library/XVector/include' -I'/Library/Frameworks/R.framework/Versions/4.4-arm64/Resources/library/Biostrings/include' -I'/Library/Frameworks/R.framework/Versions/4.4-arm64/Resources/library/Rcpp/include' -I'/Library/Frameworks/R.framework/Versions/4.4-arm64/Resources/library/S4Vectors/include' -I/opt/R/arm64/include -fPIC -falign-functions=64 -Wall -g -O2 -c IRanges_stubs.c -o IRanges_stubs.o
clang++ -arch arm64 -std=gnu++17 -I"/Library/Frameworks/R.framework/Resources/include" -DNDEBUG -DSTRICT_R_HEADERS -I'/Library/Frameworks/R.framework/Versions/4.4-arm64/Resources/library/IRanges/include' -I'/Library/Frameworks/R.framework/Versions/4.4-arm64/Resources/library/XVector/include' -I'/Library/Frameworks/R.framework/Versions/4.4-arm64/Resources/library/Biostrings/include' -I'/Library/Frameworks/R.framework/Versions/4.4-arm64/Resources/library/Rcpp/include' -I'/Library/Frameworks/R.framework/Versions/4.4-arm64/Resources/library/S4Vectors/include' -I/opt/R/arm64/include -fPIC -falign-functions=64 -Wall -g -O2 -c KernelUtils.cpp -o KernelUtils.o
clang++ -arch arm64 -std=gnu++17 -I"/Library/Frameworks/R.framework/Resources/include" -DNDEBUG -DSTRICT_R_HEADERS -I'/Library/Frameworks/R.framework/Versions/4.4-arm64/Resources/library/IRanges/include' -I'/Library/Frameworks/R.framework/Versions/4.4-arm64/Resources/library/XVector/include' -I'/Library/Frameworks/R.framework/Versions/4.4-arm64/Resources/library/Biostrings/include' -I'/Library/Frameworks/R.framework/Versions/4.4-arm64/Resources/library/Rcpp/include' -I'/Library/Frameworks/R.framework/Versions/4.4-arm64/Resources/library/S4Vectors/include' -I/opt/R/arm64/include -fPIC -falign-functions=64 -Wall -g -O2 -c MismatchC.cpp -o MismatchC.o
clang++ -arch arm64 -std=gnu++17 -I"/Library/Frameworks/R.framework/Resources/include" -DNDEBUG -DSTRICT_R_HEADERS -I'/Library/Frameworks/R.framework/Versions/4.4-arm64/Resources/library/IRanges/include' -I'/Library/Frameworks/R.framework/Versions/4.4-arm64/Resources/library/XVector/include' -I'/Library/Frameworks/R.framework/Versions/4.4-arm64/Resources/library/Biostrings/include' -I'/Library/Frameworks/R.framework/Versions/4.4-arm64/Resources/library/Rcpp/include' -I'/Library/Frameworks/R.framework/Versions/4.4-arm64/Resources/library/S4Vectors/include' -I/opt/R/arm64/include -fPIC -falign-functions=64 -Wall -g -O2 -c MotifC.cpp -o MotifC.o
MotifC.cpp:2927:14: warning: variable 'dimFeatureSpace' set but not used [-Wunused-but-set-variable]
uint64_t dimFeatureSpace;
^
MotifC.cpp:3511:41: warning: variable 'dimFeatureSpace' set but not used [-Wunused-but-set-variable]
uint64_t keyPoolSize, poolNextFree, dimFeatureSpace;
^
2 warnings generated.
clang++ -arch arm64 -std=gnu++17 -I"/Library/Frameworks/R.framework/Resources/include" -DNDEBUG -DSTRICT_R_HEADERS -I'/Library/Frameworks/R.framework/Versions/4.4-arm64/Resources/library/IRanges/include' -I'/Library/Frameworks/R.framework/Versions/4.4-arm64/Resources/library/XVector/include' -I'/Library/Frameworks/R.framework/Versions/4.4-arm64/Resources/library/Biostrings/include' -I'/Library/Frameworks/R.framework/Versions/4.4-arm64/Resources/library/Rcpp/include' -I'/Library/Frameworks/R.framework/Versions/4.4-arm64/Resources/library/S4Vectors/include' -I/opt/R/arm64/include -fPIC -falign-functions=64 -Wall -g -O2 -c PredictionC.cpp -o PredictionC.o
clang++ -arch arm64 -std=gnu++17 -I"/Library/Frameworks/R.framework/Resources/include" -DNDEBUG -DSTRICT_R_HEADERS -I'/Library/Frameworks/R.framework/Versions/4.4-arm64/Resources/library/IRanges/include' -I'/Library/Frameworks/R.framework/Versions/4.4-arm64/Resources/library/XVector/include' -I'/Library/Frameworks/R.framework/Versions/4.4-arm64/Resources/library/Biostrings/include' -I'/Library/Frameworks/R.framework/Versions/4.4-arm64/Resources/library/Rcpp/include' -I'/Library/Frameworks/R.framework/Versions/4.4-arm64/Resources/library/S4Vectors/include' -I/opt/R/arm64/include -fPIC -falign-functions=64 -Wall -g -O2 -c PredictionProfileC.cpp -o PredictionProfileC.o
clang++ -arch arm64 -std=gnu++17 -I"/Library/Frameworks/R.framework/Resources/include" -DNDEBUG -DSTRICT_R_HEADERS -I'/Library/Frameworks/R.framework/Versions/4.4-arm64/Resources/library/IRanges/include' -I'/Library/Frameworks/R.framework/Versions/4.4-arm64/Resources/library/XVector/include' -I'/Library/Frameworks/R.framework/Versions/4.4-arm64/Resources/library/Biostrings/include' -I'/Library/Frameworks/R.framework/Versions/4.4-arm64/Resources/library/Rcpp/include' -I'/Library/Frameworks/R.framework/Versions/4.4-arm64/Resources/library/S4Vectors/include' -I/opt/R/arm64/include -fPIC -falign-functions=64 -Wall -g -O2 -c R_init_kebabs.cpp -o R_init_kebabs.o
clang -arch arm64 -I"/Library/Frameworks/R.framework/Resources/include" -DNDEBUG -DSTRICT_R_HEADERS -I'/Library/Frameworks/R.framework/Versions/4.4-arm64/Resources/library/IRanges/include' -I'/Library/Frameworks/R.framework/Versions/4.4-arm64/Resources/library/XVector/include' -I'/Library/Frameworks/R.framework/Versions/4.4-arm64/Resources/library/Biostrings/include' -I'/Library/Frameworks/R.framework/Versions/4.4-arm64/Resources/library/Rcpp/include' -I'/Library/Frameworks/R.framework/Versions/4.4-arm64/Resources/library/S4Vectors/include' -I/opt/R/arm64/include -fPIC -falign-functions=64 -Wall -g -O2 -c Rsvm.c -o Rsvm.o
clang++ -arch arm64 -std=gnu++17 -I"/Library/Frameworks/R.framework/Resources/include" -DNDEBUG -DSTRICT_R_HEADERS -I'/Library/Frameworks/R.framework/Versions/4.4-arm64/Resources/library/IRanges/include' -I'/Library/Frameworks/R.framework/Versions/4.4-arm64/Resources/library/XVector/include' -I'/Library/Frameworks/R.framework/Versions/4.4-arm64/Resources/library/Biostrings/include' -I'/Library/Frameworks/R.framework/Versions/4.4-arm64/Resources/library/Rcpp/include' -I'/Library/Frameworks/R.framework/Versions/4.4-arm64/Resources/library/S4Vectors/include' -I/opt/R/arm64/include -fPIC -falign-functions=64 -Wall -g -O2 -c SparseMatrixHash.cpp -o SparseMatrixHash.o
clang++ -arch arm64 -std=gnu++17 -I"/Library/Frameworks/R.framework/Resources/include" -DNDEBUG -DSTRICT_R_HEADERS -I'/Library/Frameworks/R.framework/Versions/4.4-arm64/Resources/library/IRanges/include' -I'/Library/Frameworks/R.framework/Versions/4.4-arm64/Resources/library/XVector/include' -I'/Library/Frameworks/R.framework/Versions/4.4-arm64/Resources/library/Biostrings/include' -I'/Library/Frameworks/R.framework/Versions/4.4-arm64/Resources/library/Rcpp/include' -I'/Library/Frameworks/R.framework/Versions/4.4-arm64/Resources/library/S4Vectors/include' -I/opt/R/arm64/include -fPIC -falign-functions=64 -Wall -g -O2 -c SpectrumC.cpp -o SpectrumC.o
clang++ -arch arm64 -std=gnu++17 -I"/Library/Frameworks/R.framework/Resources/include" -DNDEBUG -DSTRICT_R_HEADERS -I'/Library/Frameworks/R.framework/Versions/4.4-arm64/Resources/library/IRanges/include' -I'/Library/Frameworks/R.framework/Versions/4.4-arm64/Resources/library/XVector/include' -I'/Library/Frameworks/R.framework/Versions/4.4-arm64/Resources/library/Biostrings/include' -I'/Library/Frameworks/R.framework/Versions/4.4-arm64/Resources/library/Rcpp/include' -I'/Library/Frameworks/R.framework/Versions/4.4-arm64/Resources/library/S4Vectors/include' -I/opt/R/arm64/include -fPIC -falign-functions=64 -Wall -g -O2 -c SymmetricPairC.cpp -o SymmetricPairC.o
clang++ -arch arm64 -std=gnu++17 -I"/Library/Frameworks/R.framework/Resources/include" -DNDEBUG -DSTRICT_R_HEADERS -I'/Library/Frameworks/R.framework/Versions/4.4-arm64/Resources/library/IRanges/include' -I'/Library/Frameworks/R.framework/Versions/4.4-arm64/Resources/library/XVector/include' -I'/Library/Frameworks/R.framework/Versions/4.4-arm64/Resources/library/Biostrings/include' -I'/Library/Frameworks/R.framework/Versions/4.4-arm64/Resources/library/Rcpp/include' -I'/Library/Frameworks/R.framework/Versions/4.4-arm64/Resources/library/S4Vectors/include' -I/opt/R/arm64/include -fPIC -falign-functions=64 -Wall -g -O2 -c Utils.cpp -o Utils.o
clang -arch arm64 -I"/Library/Frameworks/R.framework/Resources/include" -DNDEBUG -DSTRICT_R_HEADERS -I'/Library/Frameworks/R.framework/Versions/4.4-arm64/Resources/library/IRanges/include' -I'/Library/Frameworks/R.framework/Versions/4.4-arm64/Resources/library/XVector/include' -I'/Library/Frameworks/R.framework/Versions/4.4-arm64/Resources/library/Biostrings/include' -I'/Library/Frameworks/R.framework/Versions/4.4-arm64/Resources/library/Rcpp/include' -I'/Library/Frameworks/R.framework/Versions/4.4-arm64/Resources/library/S4Vectors/include' -I/opt/R/arm64/include -fPIC -falign-functions=64 -Wall -g -O2 -c XVector_stubs.c -o XVector_stubs.o
clang++ -arch arm64 -std=gnu++17 -I"/Library/Frameworks/R.framework/Resources/include" -DNDEBUG -DSTRICT_R_HEADERS -I'/Library/Frameworks/R.framework/Versions/4.4-arm64/Resources/library/IRanges/include' -I'/Library/Frameworks/R.framework/Versions/4.4-arm64/Resources/library/XVector/include' -I'/Library/Frameworks/R.framework/Versions/4.4-arm64/Resources/library/Biostrings/include' -I'/Library/Frameworks/R.framework/Versions/4.4-arm64/Resources/library/Rcpp/include' -I'/Library/Frameworks/R.framework/Versions/4.4-arm64/Resources/library/S4Vectors/include' -I/opt/R/arm64/include -fPIC -falign-functions=64 -Wall -g -O2 -c svm.cpp -o svm.o
clang++ -arch arm64 -std=gnu++17 -dynamiclib -Wl,-headerpad_max_install_names -undefined dynamic_lookup -L/Library/Frameworks/R.framework/Resources/lib -L/opt/R/arm64/lib -o kebabs.so Biostrings_stubs.o ByteStringVector.o ExplicitRepC.o FeatureWeightsPosDepC.o GappyPairC.o IRanges_stubs.o KernelUtils.o MismatchC.o MotifC.o PredictionC.o PredictionProfileC.o R_init_kebabs.o Rsvm.o SparseMatrixHash.o SpectrumC.o SymmetricPairC.o Utils.o XVector_stubs.o svm.o -F/Library/Frameworks/R.framework/.. -framework R -Wl,-framework -Wl,CoreFoundation
installing to /Users/biocbuild/bbs-3.19-bioc/meat/kebabs.buildbin-libdir/00LOCK-kebabs/00new/kebabs/libs
** R
** data
** inst
** byte-compile and prepare package for lazy loading
** help
*** installing help indices
** building package indices
** installing vignettes
** testing if installed package can be loaded from temporary location
** checking absolute paths in shared objects and dynamic libraries
** testing if installed package can be loaded from final location
** testing if installed package keeps a record of temporary installation path
* DONE (kebabs)
>>>>>>>
>>>>>>> FIXING PATHS TO DYNAMIC LIBRARIES FOR kebabs.buildbin-libdir/kebabs/libs/kebabs.so
>>>>>>>
>>>>>>> Paths before fix:
kebabs.buildbin-libdir/kebabs/libs/kebabs.so:
kebabs.so (compatibility version 0.0.0, current version 0.0.0)
/Library/Frameworks/R.framework/Versions/4.4-arm64/Resources/lib/libR.dylib (compatibility version 4.4.0, current version 4.4.0)
/System/Library/Frameworks/CoreFoundation.framework/Versions/A/CoreFoundation (compatibility version 150.0.0, current version 1775.118.101)
/usr/lib/libc++.1.dylib (compatibility version 1.0.0, current version 905.6.0)
/usr/lib/libSystem.B.dylib (compatibility version 1.0.0, current version 1292.100.5)
>>>>>>> Fix with install_name_tool:
install_name_tool -change "/usr/local/lib/libgcc_s.1.1.dylib" "/Library/Frameworks/R.framework/Versions/4.4-arm64/Resources/lib/libgcc_s.1.1.dylib" "kebabs.buildbin-libdir/kebabs/libs/kebabs.so"
install_name_tool -change "/usr/local/lib/libgfortran.5.dylib" "/Library/Frameworks/R.framework/Versions/4.4-arm64/Resources/lib/libgfortran.5.dylib" "kebabs.buildbin-libdir/kebabs/libs/kebabs.so"
install_name_tool -change "/usr/local/lib/libquadmath.0.dylib" "/Library/Frameworks/R.framework/Versions/4.4-arm64/Resources/lib/libquadmath.0.dylib" "kebabs.buildbin-libdir/kebabs/libs/kebabs.so"
>>>>>>> Paths after fix:
kebabs.buildbin-libdir/kebabs/libs/kebabs.so:
kebabs.so (compatibility version 0.0.0, current version 0.0.0)
/Library/Frameworks/R.framework/Versions/4.4-arm64/Resources/lib/libR.dylib (compatibility version 4.4.0, current version 4.4.0)
/System/Library/Frameworks/CoreFoundation.framework/Versions/A/CoreFoundation (compatibility version 150.0.0, current version 1775.118.101)
/usr/lib/libc++.1.dylib (compatibility version 1.0.0, current version 905.6.0)
/usr/lib/libSystem.B.dylib (compatibility version 1.0.0, current version 1292.100.5)