| Back to Multiple platform build/check report for BioC 3.19: simplified long |
|
This page was generated on 2024-10-18 20:38 -0400 (Fri, 18 Oct 2024).
| Hostname | OS | Arch (*) | R version | Installed pkgs |
|---|---|---|---|---|
| nebbiolo1 | Linux (Ubuntu 22.04.3 LTS) | x86_64 | 4.4.1 (2024-06-14) -- "Race for Your Life" | 4763 |
| palomino7 | Windows Server 2022 Datacenter | x64 | 4.4.1 (2024-06-14 ucrt) -- "Race for Your Life" | 4500 |
| merida1 | macOS 12.7.5 Monterey | x86_64 | 4.4.1 (2024-06-14) -- "Race for Your Life" | 4530 |
| kjohnson1 | macOS 13.6.6 Ventura | arm64 | 4.4.1 (2024-06-14) -- "Race for Your Life" | 4480 |
| Click on any hostname to see more info about the system (e.g. compilers) (*) as reported by 'uname -p', except on Windows and Mac OS X | ||||
| Package 1090/2300 | Hostname | OS / Arch | INSTALL | BUILD | CHECK | BUILD BIN | ||||||||
| kebabs 1.38.0 (landing page) Ulrich Bodenhofer
| nebbiolo1 | Linux (Ubuntu 22.04.3 LTS) / x86_64 | OK | OK | OK | |||||||||
| palomino7 | Windows Server 2022 Datacenter / x64 | OK | OK | OK | OK | |||||||||
| merida1 | macOS 12.7.5 Monterey / x86_64 | OK | OK | OK | OK | |||||||||
| kjohnson1 | macOS 13.6.6 Ventura / arm64 | OK | OK | OK | OK | |||||||||
|
To the developers/maintainers of the kebabs package: - Allow up to 24 hours (and sometimes 48 hours) for your latest push to git@git.bioconductor.org:packages/kebabs.git to reflect on this report. See Troubleshooting Build Report for more information. - Use the following Renviron settings to reproduce errors and warnings. - If 'R CMD check' started to fail recently on the Linux builder(s) over a missing dependency, add the missing dependency to 'Suggests:' in your DESCRIPTION file. See Renviron.bioc for more information. |
| Package: kebabs |
| Version: 1.38.0 |
| Command: /home/biocbuild/bbs-3.19-bioc/R/bin/R CMD check --install=check:kebabs.install-out.txt --library=/home/biocbuild/bbs-3.19-bioc/R/site-library --timings kebabs_1.38.0.tar.gz |
| StartedAt: 2024-10-17 01:48:22 -0400 (Thu, 17 Oct 2024) |
| EndedAt: 2024-10-17 01:53:41 -0400 (Thu, 17 Oct 2024) |
| EllapsedTime: 319.7 seconds |
| RetCode: 0 |
| Status: OK |
| CheckDir: kebabs.Rcheck |
| Warnings: 0 |
##############################################################################
##############################################################################
###
### Running command:
###
### /home/biocbuild/bbs-3.19-bioc/R/bin/R CMD check --install=check:kebabs.install-out.txt --library=/home/biocbuild/bbs-3.19-bioc/R/site-library --timings kebabs_1.38.0.tar.gz
###
##############################################################################
##############################################################################
* using log directory ‘/home/biocbuild/bbs-3.19-bioc/meat/kebabs.Rcheck’
* using R version 4.4.1 (2024-06-14)
* using platform: x86_64-pc-linux-gnu
* R was compiled by
gcc (Ubuntu 11.4.0-1ubuntu1~22.04) 11.4.0
GNU Fortran (Ubuntu 11.4.0-1ubuntu1~22.04) 11.4.0
* running under: Ubuntu 22.04.5 LTS
* using session charset: UTF-8
* checking for file ‘kebabs/DESCRIPTION’ ... OK
* checking extension type ... Package
* this is package ‘kebabs’ version ‘1.38.0’
* checking package namespace information ... OK
* checking package dependencies ... OK
* checking if this is a source package ... OK
* checking if there is a namespace ... OK
* checking for hidden files and directories ... OK
* checking for portable file names ... OK
* checking for sufficient/correct file permissions ... OK
* checking whether package ‘kebabs’ can be installed ... OK
* used C compiler: ‘gcc (Ubuntu 11.4.0-1ubuntu1~22.04) 11.4.0’
* used C++ compiler: ‘g++ (Ubuntu 11.4.0-1ubuntu1~22.04) 11.4.0’
* checking installed package size ... NOTE
installed size is 7.6Mb
sub-directories of 1Mb or more:
R 1.3Mb
data 1.2Mb
libs 4.6Mb
* checking package directory ... OK
* checking ‘build’ directory ... OK
* checking DESCRIPTION meta-information ... OK
* checking top-level files ... OK
* checking for left-over files ... OK
* checking index information ... OK
* checking package subdirectories ... OK
* checking code files for non-ASCII characters ... OK
* checking R files for syntax errors ... OK
* checking whether the package can be loaded ... OK
* checking whether the package can be loaded with stated dependencies ... OK
* checking whether the package can be unloaded cleanly ... OK
* checking whether the namespace can be loaded with stated dependencies ... OK
* checking whether the namespace can be unloaded cleanly ... OK
* checking loading without being on the library search path ... OK
* checking whether startup messages can be suppressed ... OK
* checking dependencies in R code ... OK
* checking S3 generic/method consistency ... OK
* checking replacement functions ... OK
* checking foreign function calls ... OK
* checking R code for possible problems ... OK
* checking Rd files ... OK
* checking Rd metadata ... OK
* checking Rd cross-references ... OK
* checking for missing documentation entries ... OK
* checking for code/documentation mismatches ... OK
* checking Rd \usage sections ... OK
* checking Rd contents ... OK
* checking for unstated dependencies in examples ... OK
* checking contents of ‘data’ directory ... OK
* checking data for non-ASCII characters ... OK
* checking data for ASCII and uncompressed saves ... OK
* checking line endings in C/C++/Fortran sources/headers ... OK
* checking line endings in Makefiles ... OK
* checking compilation flags in Makevars ... OK
* checking for GNU extensions in Makefiles ... OK
* checking for portable use of $(BLAS_LIBS) and $(LAPACK_LIBS) ... OK
* checking use of PKG_*FLAGS in Makefiles ... OK
* checking compiled code ... NOTE
Note: information on .o files is not available
* checking files in ‘vignettes’ ... OK
* checking examples ... OK
Examples with CPU (user + system) or elapsed time > 5s
user system elapsed
LinearKernel 7.152 0.024 7.178
performModelSelection 6.165 0.004 6.168
* checking for unstated dependencies in vignettes ... OK
* checking package vignettes ... OK
* checking re-building of vignette outputs ... OK
* checking PDF version of manual ... OK
* DONE
Status: 2 NOTEs
See
‘/home/biocbuild/bbs-3.19-bioc/meat/kebabs.Rcheck/00check.log’
for details.
kebabs.Rcheck/00install.out
##############################################################################
##############################################################################
###
### Running command:
###
### /home/biocbuild/bbs-3.19-bioc/R/bin/R CMD INSTALL kebabs
###
##############################################################################
##############################################################################
* installing to library ‘/home/biocbuild/bbs-3.19-bioc/R/site-library’
* installing *source* package ‘kebabs’ ...
** using staged installation
** libs
using C compiler: ‘gcc (Ubuntu 11.4.0-1ubuntu1~22.04) 11.4.0’
using C++ compiler: ‘g++ (Ubuntu 11.4.0-1ubuntu1~22.04) 11.4.0’
gcc -I"/home/biocbuild/bbs-3.19-bioc/R/include" -DNDEBUG -DSTRICT_R_HEADERS -I'/home/biocbuild/bbs-3.19-bioc/R/site-library/IRanges/include' -I'/home/biocbuild/bbs-3.19-bioc/R/site-library/XVector/include' -I'/home/biocbuild/bbs-3.19-bioc/R/site-library/Biostrings/include' -I'/home/biocbuild/bbs-3.19-bioc/R/site-library/Rcpp/include' -I'/home/biocbuild/bbs-3.19-bioc/R/site-library/S4Vectors/include' -I/usr/local/include -fpic -g -O2 -Wall -c Biostrings_stubs.c -o Biostrings_stubs.o
gcc -I"/home/biocbuild/bbs-3.19-bioc/R/include" -DNDEBUG -DSTRICT_R_HEADERS -I'/home/biocbuild/bbs-3.19-bioc/R/site-library/IRanges/include' -I'/home/biocbuild/bbs-3.19-bioc/R/site-library/XVector/include' -I'/home/biocbuild/bbs-3.19-bioc/R/site-library/Biostrings/include' -I'/home/biocbuild/bbs-3.19-bioc/R/site-library/Rcpp/include' -I'/home/biocbuild/bbs-3.19-bioc/R/site-library/S4Vectors/include' -I/usr/local/include -fpic -g -O2 -Wall -c ByteStringVector.c -o ByteStringVector.o
g++ -std=gnu++17 -I"/home/biocbuild/bbs-3.19-bioc/R/include" -DNDEBUG -DSTRICT_R_HEADERS -I'/home/biocbuild/bbs-3.19-bioc/R/site-library/IRanges/include' -I'/home/biocbuild/bbs-3.19-bioc/R/site-library/XVector/include' -I'/home/biocbuild/bbs-3.19-bioc/R/site-library/Biostrings/include' -I'/home/biocbuild/bbs-3.19-bioc/R/site-library/Rcpp/include' -I'/home/biocbuild/bbs-3.19-bioc/R/site-library/S4Vectors/include' -I/usr/local/include -fpic -g -O2 -Wall -c ExplicitRepC.cpp -o ExplicitRepC.o
g++ -std=gnu++17 -I"/home/biocbuild/bbs-3.19-bioc/R/include" -DNDEBUG -DSTRICT_R_HEADERS -I'/home/biocbuild/bbs-3.19-bioc/R/site-library/IRanges/include' -I'/home/biocbuild/bbs-3.19-bioc/R/site-library/XVector/include' -I'/home/biocbuild/bbs-3.19-bioc/R/site-library/Biostrings/include' -I'/home/biocbuild/bbs-3.19-bioc/R/site-library/Rcpp/include' -I'/home/biocbuild/bbs-3.19-bioc/R/site-library/S4Vectors/include' -I/usr/local/include -fpic -g -O2 -Wall -c FeatureWeightsPosDepC.cpp -o FeatureWeightsPosDepC.o
g++ -std=gnu++17 -I"/home/biocbuild/bbs-3.19-bioc/R/include" -DNDEBUG -DSTRICT_R_HEADERS -I'/home/biocbuild/bbs-3.19-bioc/R/site-library/IRanges/include' -I'/home/biocbuild/bbs-3.19-bioc/R/site-library/XVector/include' -I'/home/biocbuild/bbs-3.19-bioc/R/site-library/Biostrings/include' -I'/home/biocbuild/bbs-3.19-bioc/R/site-library/Rcpp/include' -I'/home/biocbuild/bbs-3.19-bioc/R/site-library/S4Vectors/include' -I/usr/local/include -fpic -g -O2 -Wall -c GappyPairC.cpp -o GappyPairC.o
GappyPairC.cpp: In function ‘SEXPREC* gappyPairKernelMatrixC(SEXP, SEXP, SEXP, SEXP, SEXP, SEXP, SEXP, SEXP, SEXP, SEXP, SEXP, SEXP, SEXP, SEXP, SEXP, SEXP, SEXP, SEXP, SEXP, SEXP, SEXP, SEXP, SEXP, SEXP)’:
GappyPairC.cpp:994:37: warning: ‘annX.ByteStringVector::ptr’ may be used uninitialized in this function [-Wmaybe-uninitialized]
994 | annptr = annX.ptr[iX];
| ~~~~~~~~~~~^
GappyPairC.cpp:3409:28: note: ‘annX.ByteStringVector::ptr’ was declared here
3409 | ByteStringVector x, y, annX, annY, annCharset;
| ^~~~
GappyPairC.cpp:1160:41: warning: ‘annY.ByteStringVector::ptr’ may be used uninitialized in this function [-Wmaybe-uninitialized]
1160 | annptr = annY.ptr[iY];
| ~~~~~~~~~~~^
GappyPairC.cpp:3409:34: note: ‘annY.ByteStringVector::ptr’ was declared here
3409 | ByteStringVector x, y, annX, annY, annCharset;
| ^~~~
GappyPairC.cpp:1156:34: warning: ‘y.ByteStringVector::ptr’ may be used uninitialized in this function [-Wmaybe-uninitialized]
1156 | seqptr = y.ptr[iY];
| ~~~~~~~~^
GappyPairC.cpp:3409:25: note: ‘y.ByteStringVector::ptr’ was declared here
3409 | ByteStringVector x, y, annX, annY, annCharset;
| ^
GappyPairC.cpp:1157:38: warning: ‘y.ByteStringVector::nchar’ may be used uninitialized in this function [-Wmaybe-uninitialized]
1157 | seqnchar = y.nchar[iY];
| ~~~~~~~~~~^
GappyPairC.cpp:3409:25: note: ‘y.ByteStringVector::nchar’ was declared here
3409 | ByteStringVector x, y, annX, annY, annCharset;
| ^
gcc -I"/home/biocbuild/bbs-3.19-bioc/R/include" -DNDEBUG -DSTRICT_R_HEADERS -I'/home/biocbuild/bbs-3.19-bioc/R/site-library/IRanges/include' -I'/home/biocbuild/bbs-3.19-bioc/R/site-library/XVector/include' -I'/home/biocbuild/bbs-3.19-bioc/R/site-library/Biostrings/include' -I'/home/biocbuild/bbs-3.19-bioc/R/site-library/Rcpp/include' -I'/home/biocbuild/bbs-3.19-bioc/R/site-library/S4Vectors/include' -I/usr/local/include -fpic -g -O2 -Wall -c IRanges_stubs.c -o IRanges_stubs.o
g++ -std=gnu++17 -I"/home/biocbuild/bbs-3.19-bioc/R/include" -DNDEBUG -DSTRICT_R_HEADERS -I'/home/biocbuild/bbs-3.19-bioc/R/site-library/IRanges/include' -I'/home/biocbuild/bbs-3.19-bioc/R/site-library/XVector/include' -I'/home/biocbuild/bbs-3.19-bioc/R/site-library/Biostrings/include' -I'/home/biocbuild/bbs-3.19-bioc/R/site-library/Rcpp/include' -I'/home/biocbuild/bbs-3.19-bioc/R/site-library/S4Vectors/include' -I/usr/local/include -fpic -g -O2 -Wall -c KernelUtils.cpp -o KernelUtils.o
g++ -std=gnu++17 -I"/home/biocbuild/bbs-3.19-bioc/R/include" -DNDEBUG -DSTRICT_R_HEADERS -I'/home/biocbuild/bbs-3.19-bioc/R/site-library/IRanges/include' -I'/home/biocbuild/bbs-3.19-bioc/R/site-library/XVector/include' -I'/home/biocbuild/bbs-3.19-bioc/R/site-library/Biostrings/include' -I'/home/biocbuild/bbs-3.19-bioc/R/site-library/Rcpp/include' -I'/home/biocbuild/bbs-3.19-bioc/R/site-library/S4Vectors/include' -I/usr/local/include -fpic -g -O2 -Wall -c MismatchC.cpp -o MismatchC.o
MismatchC.cpp: In function ‘SEXPREC* getMismatchKernelMatrix(Rcpp::NumericMatrix, ByteStringVector, ByteStringVector, int, int, Rcpp::IntegerVector, Rcpp::IntegerVector, bool, int, bool, bool, int, int, bool, bool, int, alphaInfo*)’:
MismatchC.cpp:432:41: warning: ‘currValSqrt’ may be used uninitialized in this function [-Wmaybe-uninitialized]
432 | km(i,j) = kernelVal / currValSqrt;
| ~~~~~~~~~~^~~~~~~~~~~~~
g++ -std=gnu++17 -I"/home/biocbuild/bbs-3.19-bioc/R/include" -DNDEBUG -DSTRICT_R_HEADERS -I'/home/biocbuild/bbs-3.19-bioc/R/site-library/IRanges/include' -I'/home/biocbuild/bbs-3.19-bioc/R/site-library/XVector/include' -I'/home/biocbuild/bbs-3.19-bioc/R/site-library/Biostrings/include' -I'/home/biocbuild/bbs-3.19-bioc/R/site-library/Rcpp/include' -I'/home/biocbuild/bbs-3.19-bioc/R/site-library/S4Vectors/include' -I/usr/local/include -fpic -g -O2 -Wall -c MotifC.cpp -o MotifC.o
MotifC.cpp: In function ‘void genPredProfileMotif(Rcpp::NumericMatrix, ByteStringVector, Rcpp::IntegerVector, int, ByteStringVector, ByteStringVector, int, bool, int, int, int, int, Rcpp::NumericMatrix, int, ByteStringVector, Rcpp::IntegerVector*, int, int, ByteStringVector, Rcpp::IntegerVector*, int, int, int, bool, bool, bool)’:
MotifC.cpp:3677:18: warning: ‘keyPool’ may be used uninitialized in this function [-Wmaybe-uninitialized]
3677 | pKeypool = keyPool;
| ~~~~~~~~~^~~~~~~~~
g++ -std=gnu++17 -I"/home/biocbuild/bbs-3.19-bioc/R/include" -DNDEBUG -DSTRICT_R_HEADERS -I'/home/biocbuild/bbs-3.19-bioc/R/site-library/IRanges/include' -I'/home/biocbuild/bbs-3.19-bioc/R/site-library/XVector/include' -I'/home/biocbuild/bbs-3.19-bioc/R/site-library/Biostrings/include' -I'/home/biocbuild/bbs-3.19-bioc/R/site-library/Rcpp/include' -I'/home/biocbuild/bbs-3.19-bioc/R/site-library/S4Vectors/include' -I/usr/local/include -fpic -g -O2 -Wall -c PredictionC.cpp -o PredictionC.o
g++ -std=gnu++17 -I"/home/biocbuild/bbs-3.19-bioc/R/include" -DNDEBUG -DSTRICT_R_HEADERS -I'/home/biocbuild/bbs-3.19-bioc/R/site-library/IRanges/include' -I'/home/biocbuild/bbs-3.19-bioc/R/site-library/XVector/include' -I'/home/biocbuild/bbs-3.19-bioc/R/site-library/Biostrings/include' -I'/home/biocbuild/bbs-3.19-bioc/R/site-library/Rcpp/include' -I'/home/biocbuild/bbs-3.19-bioc/R/site-library/S4Vectors/include' -I/usr/local/include -fpic -g -O2 -Wall -c PredictionProfileC.cpp -o PredictionProfileC.o
g++ -std=gnu++17 -I"/home/biocbuild/bbs-3.19-bioc/R/include" -DNDEBUG -DSTRICT_R_HEADERS -I'/home/biocbuild/bbs-3.19-bioc/R/site-library/IRanges/include' -I'/home/biocbuild/bbs-3.19-bioc/R/site-library/XVector/include' -I'/home/biocbuild/bbs-3.19-bioc/R/site-library/Biostrings/include' -I'/home/biocbuild/bbs-3.19-bioc/R/site-library/Rcpp/include' -I'/home/biocbuild/bbs-3.19-bioc/R/site-library/S4Vectors/include' -I/usr/local/include -fpic -g -O2 -Wall -c R_init_kebabs.cpp -o R_init_kebabs.o
gcc -I"/home/biocbuild/bbs-3.19-bioc/R/include" -DNDEBUG -DSTRICT_R_HEADERS -I'/home/biocbuild/bbs-3.19-bioc/R/site-library/IRanges/include' -I'/home/biocbuild/bbs-3.19-bioc/R/site-library/XVector/include' -I'/home/biocbuild/bbs-3.19-bioc/R/site-library/Biostrings/include' -I'/home/biocbuild/bbs-3.19-bioc/R/site-library/Rcpp/include' -I'/home/biocbuild/bbs-3.19-bioc/R/site-library/S4Vectors/include' -I/usr/local/include -fpic -g -O2 -Wall -c Rsvm.c -o Rsvm.o
g++ -std=gnu++17 -I"/home/biocbuild/bbs-3.19-bioc/R/include" -DNDEBUG -DSTRICT_R_HEADERS -I'/home/biocbuild/bbs-3.19-bioc/R/site-library/IRanges/include' -I'/home/biocbuild/bbs-3.19-bioc/R/site-library/XVector/include' -I'/home/biocbuild/bbs-3.19-bioc/R/site-library/Biostrings/include' -I'/home/biocbuild/bbs-3.19-bioc/R/site-library/Rcpp/include' -I'/home/biocbuild/bbs-3.19-bioc/R/site-library/S4Vectors/include' -I/usr/local/include -fpic -g -O2 -Wall -c SparseMatrixHash.cpp -o SparseMatrixHash.o
g++ -std=gnu++17 -I"/home/biocbuild/bbs-3.19-bioc/R/include" -DNDEBUG -DSTRICT_R_HEADERS -I'/home/biocbuild/bbs-3.19-bioc/R/site-library/IRanges/include' -I'/home/biocbuild/bbs-3.19-bioc/R/site-library/XVector/include' -I'/home/biocbuild/bbs-3.19-bioc/R/site-library/Biostrings/include' -I'/home/biocbuild/bbs-3.19-bioc/R/site-library/Rcpp/include' -I'/home/biocbuild/bbs-3.19-bioc/R/site-library/S4Vectors/include' -I/usr/local/include -fpic -g -O2 -Wall -c SpectrumC.cpp -o SpectrumC.o
SpectrumC.cpp: In function ‘SEXPREC* spectrumKernelMatrixC(SEXP, SEXP, SEXP, SEXP, SEXP, SEXP, SEXP, SEXP, SEXP, SEXP, SEXP, SEXP, SEXP, SEXP, SEXP, SEXP, SEXP, SEXP, SEXP, SEXP, SEXP, SEXP, SEXP)’:
SpectrumC.cpp:679:37: warning: ‘annX.ByteStringVector::ptr’ may be used uninitialized in this function [-Wmaybe-uninitialized]
679 | annptr = annX.ptr[iX];
| ~~~~~~~~~~~^
SpectrumC.cpp:3158:28: note: ‘annX.ByteStringVector::ptr’ was declared here
3158 | ByteStringVector x, y, annX, annY, annCharset;
| ^~~~
SpectrumC.cpp:835:41: warning: ‘annY.ByteStringVector::ptr’ may be used uninitialized in this function [-Wmaybe-uninitialized]
835 | annptr = annY.ptr[iY];
| ~~~~~~~~~~~^
SpectrumC.cpp:3158:34: note: ‘annY.ByteStringVector::ptr’ was declared here
3158 | ByteStringVector x, y, annX, annY, annCharset;
| ^~~~
SpectrumC.cpp:831:34: warning: ‘y.ByteStringVector::ptr’ may be used uninitialized in this function [-Wmaybe-uninitialized]
831 | seqptr = y.ptr[iY];
| ~~~~~~~~^
SpectrumC.cpp:3158:25: note: ‘y.ByteStringVector::ptr’ was declared here
3158 | ByteStringVector x, y, annX, annY, annCharset;
| ^
SpectrumC.cpp:832:38: warning: ‘y.ByteStringVector::nchar’ may be used uninitialized in this function [-Wmaybe-uninitialized]
832 | seqnchar = y.nchar[iY];
| ~~~~~~~~~~^
SpectrumC.cpp:3158:25: note: ‘y.ByteStringVector::nchar’ was declared here
3158 | ByteStringVector x, y, annX, annY, annCharset;
| ^
g++ -std=gnu++17 -I"/home/biocbuild/bbs-3.19-bioc/R/include" -DNDEBUG -DSTRICT_R_HEADERS -I'/home/biocbuild/bbs-3.19-bioc/R/site-library/IRanges/include' -I'/home/biocbuild/bbs-3.19-bioc/R/site-library/XVector/include' -I'/home/biocbuild/bbs-3.19-bioc/R/site-library/Biostrings/include' -I'/home/biocbuild/bbs-3.19-bioc/R/site-library/Rcpp/include' -I'/home/biocbuild/bbs-3.19-bioc/R/site-library/S4Vectors/include' -I/usr/local/include -fpic -g -O2 -Wall -c SymmetricPairC.cpp -o SymmetricPairC.o
g++ -std=gnu++17 -I"/home/biocbuild/bbs-3.19-bioc/R/include" -DNDEBUG -DSTRICT_R_HEADERS -I'/home/biocbuild/bbs-3.19-bioc/R/site-library/IRanges/include' -I'/home/biocbuild/bbs-3.19-bioc/R/site-library/XVector/include' -I'/home/biocbuild/bbs-3.19-bioc/R/site-library/Biostrings/include' -I'/home/biocbuild/bbs-3.19-bioc/R/site-library/Rcpp/include' -I'/home/biocbuild/bbs-3.19-bioc/R/site-library/S4Vectors/include' -I/usr/local/include -fpic -g -O2 -Wall -c Utils.cpp -o Utils.o
gcc -I"/home/biocbuild/bbs-3.19-bioc/R/include" -DNDEBUG -DSTRICT_R_HEADERS -I'/home/biocbuild/bbs-3.19-bioc/R/site-library/IRanges/include' -I'/home/biocbuild/bbs-3.19-bioc/R/site-library/XVector/include' -I'/home/biocbuild/bbs-3.19-bioc/R/site-library/Biostrings/include' -I'/home/biocbuild/bbs-3.19-bioc/R/site-library/Rcpp/include' -I'/home/biocbuild/bbs-3.19-bioc/R/site-library/S4Vectors/include' -I/usr/local/include -fpic -g -O2 -Wall -c XVector_stubs.c -o XVector_stubs.o
g++ -std=gnu++17 -I"/home/biocbuild/bbs-3.19-bioc/R/include" -DNDEBUG -DSTRICT_R_HEADERS -I'/home/biocbuild/bbs-3.19-bioc/R/site-library/IRanges/include' -I'/home/biocbuild/bbs-3.19-bioc/R/site-library/XVector/include' -I'/home/biocbuild/bbs-3.19-bioc/R/site-library/Biostrings/include' -I'/home/biocbuild/bbs-3.19-bioc/R/site-library/Rcpp/include' -I'/home/biocbuild/bbs-3.19-bioc/R/site-library/S4Vectors/include' -I/usr/local/include -fpic -g -O2 -Wall -c svm.cpp -o svm.o
g++ -std=gnu++17 -shared -L/home/biocbuild/bbs-3.19-bioc/R/lib -L/usr/local/lib -o kebabs.so Biostrings_stubs.o ByteStringVector.o ExplicitRepC.o FeatureWeightsPosDepC.o GappyPairC.o IRanges_stubs.o KernelUtils.o MismatchC.o MotifC.o PredictionC.o PredictionProfileC.o R_init_kebabs.o Rsvm.o SparseMatrixHash.o SpectrumC.o SymmetricPairC.o Utils.o XVector_stubs.o svm.o -L/home/biocbuild/bbs-3.19-bioc/R/lib -lR
installing to /home/biocbuild/bbs-3.19-bioc/R/site-library/00LOCK-kebabs/00new/kebabs/libs
** R
** data
** inst
** byte-compile and prepare package for lazy loading
** help
*** installing help indices
** building package indices
** installing vignettes
** testing if installed package can be loaded from temporary location
** checking absolute paths in shared objects and dynamic libraries
** testing if installed package can be loaded from final location
** testing if installed package keeps a record of temporary installation path
* DONE (kebabs)
kebabs.Rcheck/kebabs-Ex.timings
| name | user | system | elapsed | |
| BioVector | 0.471 | 0.040 | 0.511 | |
| CrossValidationResultAccessors | 0.002 | 0.000 | 0.002 | |
| KBModelAccessors | 0.001 | 0.000 | 0.001 | |
| KernelMatrixAccessors | 0.001 | 0.000 | 0.000 | |
| LinearKernel | 7.152 | 0.024 | 7.178 | |
| ModelSelectionResultAccessors | 0.001 | 0.000 | 0.001 | |
| PredictionProfileAccessors | 0.002 | 0.000 | 0.002 | |
| ROCDataAccessors | 0.000 | 0.000 | 0.001 | |
| SVMAccess | 0.078 | 0.008 | 0.086 | |
| annotationSpecificKernel | 0.109 | 0.000 | 0.110 | |
| computeROCandAUC | 0.421 | 0.012 | 0.432 | |
| evaluatePrediction | 0.724 | 0.028 | 0.752 | |
| explicitRepresentation | 0.148 | 0.000 | 0.147 | |
| featureWeights | 0.135 | 0.009 | 0.144 | |
| gappyPairKernel | 0.007 | 0.001 | 0.008 | |
| genRandBioSeqs | 0.048 | 0.008 | 0.055 | |
| getPredProfMixture-methods | 2.495 | 0.208 | 2.703 | |
| getPredictionProfile-methods | 0.554 | 0.032 | 0.586 | |
| heatmap-methods | 0.350 | 0.064 | 0.414 | |
| kbsvm-methods | 0.132 | 0.025 | 0.156 | |
| kebabsCollectInfo | 0.013 | 0.008 | 0.022 | |
| kebabsOverview | 0.195 | 0.012 | 0.207 | |
| mismatchKernel | 0.008 | 0.000 | 0.008 | |
| motifKernel | 0.007 | 0.000 | 0.007 | |
| performCrossValidation-methods | 0.153 | 0.000 | 0.152 | |
| performGridSearch | 3.298 | 0.020 | 3.318 | |
| performModelSelection | 6.165 | 0.004 | 6.168 | |
| plot-methods | 0.214 | 0.008 | 0.222 | |
| positionDependentKernel | 0.009 | 0.001 | 0.011 | |
| predict-methods | 0.161 | 0.006 | 0.166 | |
| sequenceKernel | 0.028 | 0.004 | 0.032 | |
| show-methods | 0.022 | 0.000 | 0.022 | |
| spectrumKernel | 0.002 | 0.004 | 0.005 | |
| symmetricPairKernel | 0.106 | 0.008 | 0.114 | |