Back to Multiple platform build/check report for BioC 3.19:   simplified   long
ABCDEFGHIJKLMNOPQR[S]TUVWXYZ

This page was generated on 2024-10-18 20:41 -0400 (Fri, 18 Oct 2024).

HostnameOSArch (*)R versionInstalled pkgs
nebbiolo1Linux (Ubuntu 22.04.3 LTS)x86_644.4.1 (2024-06-14) -- "Race for Your Life" 4763
palomino7Windows Server 2022 Datacenterx644.4.1 (2024-06-14 ucrt) -- "Race for Your Life" 4500
merida1macOS 12.7.5 Montereyx86_644.4.1 (2024-06-14) -- "Race for Your Life" 4530
kjohnson1macOS 13.6.6 Venturaarm644.4.1 (2024-06-14) -- "Race for Your Life" 4480
Click on any hostname to see more info about the system (e.g. compilers)      (*) as reported by 'uname -p', except on Windows and Mac OS X

Package 2054/2300HostnameOS / ArchINSTALLBUILDCHECKBUILD BIN
SpliceWiz 1.6.6  (landing page)
Alex Chit Hei Wong
Snapshot Date: 2024-10-16 14:00 -0400 (Wed, 16 Oct 2024)
git_url: https://git.bioconductor.org/packages/SpliceWiz
git_branch: RELEASE_3_19
git_last_commit: 224053d
git_last_commit_date: 2024-10-12 18:58:41 -0400 (Sat, 12 Oct 2024)
nebbiolo1Linux (Ubuntu 22.04.3 LTS) / x86_64  OK    OK    OK  YES
palomino7Windows Server 2022 Datacenter / x64  OK    OK    OK    OK  YES
merida1macOS 12.7.5 Monterey / x86_64  OK    OK    OK    OK  YES
kjohnson1macOS 13.6.6 Ventura / arm64  OK    OK    OK    NA  


CHECK results for SpliceWiz on merida1

To the developers/maintainers of the SpliceWiz package:
- Allow up to 24 hours (and sometimes 48 hours) for your latest push to git@git.bioconductor.org:packages/SpliceWiz.git to reflect on this report. See Troubleshooting Build Report for more information.
- Use the following Renviron settings to reproduce errors and warnings.
- If 'R CMD check' started to fail recently on the Linux builder(s) over a missing dependency, add the missing dependency to 'Suggests:' in your DESCRIPTION file. See Renviron.bioc for more information.

raw results


Summary

Package: SpliceWiz
Version: 1.6.6
Command: /Library/Frameworks/R.framework/Resources/bin/R CMD check --install=check:SpliceWiz.install-out.txt --library=/Library/Frameworks/R.framework/Resources/library --no-vignettes --timings SpliceWiz_1.6.6.tar.gz
StartedAt: 2024-10-17 13:43:43 -0400 (Thu, 17 Oct 2024)
EndedAt: 2024-10-17 14:22:35 -0400 (Thu, 17 Oct 2024)
EllapsedTime: 2331.7 seconds
RetCode: 0
Status:   OK  
CheckDir: SpliceWiz.Rcheck
Warnings: 0

Command output

##############################################################################
##############################################################################
###
### Running command:
###
###   /Library/Frameworks/R.framework/Resources/bin/R CMD check --install=check:SpliceWiz.install-out.txt --library=/Library/Frameworks/R.framework/Resources/library --no-vignettes --timings SpliceWiz_1.6.6.tar.gz
###
##############################################################################
##############################################################################


* using log directory ‘/Users/biocbuild/bbs-3.19-bioc/meat/SpliceWiz.Rcheck’
* using R version 4.4.1 (2024-06-14)
* using platform: x86_64-apple-darwin20
* R was compiled by
    Apple clang version 14.0.0 (clang-1400.0.29.202)
    GNU Fortran (GCC) 12.2.0
* running under: macOS Monterey 12.7.6
* using session charset: UTF-8
* using option ‘--no-vignettes’
* checking for file ‘SpliceWiz/DESCRIPTION’ ... OK
* this is package ‘SpliceWiz’ version ‘1.6.6’
* package encoding: UTF-8
* checking package namespace information ... OK
* checking package dependencies ... OK
* checking if this is a source package ... OK
* checking if there is a namespace ... OK
* checking for hidden files and directories ... OK
* checking for portable file names ... OK
* checking for sufficient/correct file permissions ... OK
* checking whether package ‘SpliceWiz’ can be installed ... OK
* used C++ compiler: ‘Apple clang version 14.0.0 (clang-1400.0.29.202)’
* used SDK: ‘MacOSX11.3.sdk’
* checking C++ specification ... NOTE
  Specified C++11: please drop specification unless essential
* checking installed package size ... OK
* checking package directory ... OK
* checking ‘build’ directory ... OK
* checking DESCRIPTION meta-information ... NOTE
License stub is invalid DCF.
* checking top-level files ... OK
* checking for left-over files ... OK
* checking index information ... OK
* checking package subdirectories ... OK
* checking code files for non-ASCII characters ... OK
* checking R files for syntax errors ... OK
* checking whether the package can be loaded ... OK
* checking whether the package can be loaded with stated dependencies ... OK
* checking whether the package can be unloaded cleanly ... OK
* checking whether the namespace can be loaded with stated dependencies ... OK
* checking whether the namespace can be unloaded cleanly ... OK
* checking whether startup messages can be suppressed ... OK
* checking dependencies in R code ... OK
* checking S3 generic/method consistency ... OK
* checking replacement functions ... OK
* checking foreign function calls ... OK
* checking R code for possible problems ... OK
* checking Rd files ... OK
* checking Rd metadata ... OK
* checking Rd cross-references ... OK
* checking for missing documentation entries ... OK
* checking for code/documentation mismatches ... OK
* checking Rd \usage sections ... OK
* checking Rd contents ... OK
* checking for unstated dependencies in examples ... OK
* checking line endings in shell scripts ... OK
* checking line endings in C/C++/Fortran sources/headers ... OK
* checking line endings in Makefiles ... OK
* checking compilation flags in Makevars ... OK
* checking for GNU extensions in Makefiles ... OK
* checking for portable use of $(BLAS_LIBS) and $(LAPACK_LIBS) ... OK
* checking use of PKG_*FLAGS in Makefiles ... OK
* checking compiled code ... NOTE
Note: information on .o files is not available
* checking files in ‘vignettes’ ... OK
* checking examples ... OK
Examples with CPU (user + system) or elapsed time > 5s
                          user system elapsed
Build-Reference-methods 81.691  3.361  98.732
NxtSE-class             69.560  2.016  82.537
ASE-methods             49.706  0.663  58.053
covPlotObject-class     45.151  0.823  54.055
plotCoverage            32.763  0.375  38.185
Run_SpliceWiz_Filters    8.992  0.075  10.565
processBAM               6.160  1.406   5.610
ASE-GLM-edgeR            5.257  0.315   6.313
* checking for unstated dependencies in ‘tests’ ... OK
* checking tests ...
  Running ‘testthat.R’
 OK
* checking for unstated dependencies in vignettes ... OK
* checking package vignettes ... OK
* checking running R code from vignettes ... SKIPPED
* checking re-building of vignette outputs ... SKIPPED
* checking PDF version of manual ... OK
* DONE

Status: 3 NOTEs
See
  ‘/Users/biocbuild/bbs-3.19-bioc/meat/SpliceWiz.Rcheck/00check.log’
for details.


Installation output

SpliceWiz.Rcheck/00install.out

##############################################################################
##############################################################################
###
### Running command:
###
###   /Library/Frameworks/R.framework/Resources/bin/R CMD INSTALL SpliceWiz
###
##############################################################################
##############################################################################


* installing to library ‘/Library/Frameworks/R.framework/Versions/4.4-x86_64/Resources/library’
* installing *source* package ‘SpliceWiz’ ...
** using staged installation
Configuring without OpenMP for MacOS
** libs
using C++ compiler: ‘Apple clang version 14.0.0 (clang-1400.0.29.202)’
using C++11
using SDK: ‘MacOSX11.3.sdk’
clang++ -arch x86_64 -std=gnu++11 -I"/Library/Frameworks/R.framework/Resources/include" -DNDEBUG  -I'/Library/Frameworks/R.framework/Versions/4.4-x86_64/Resources/library/ompBAM/include' -I'/Library/Frameworks/R.framework/Versions/4.4-x86_64/Resources/library/Rcpp/include' -I'/Library/Frameworks/R.framework/Versions/4.4-x86_64/Resources/library/RcppProgress/include' -I/opt/R/x86_64/include    -DSPLICEWIZ -fPIC  -falign-functions=64 -Wall -g -O2   -c BAM2blocks.cpp -o BAM2blocks.o
clang++ -arch x86_64 -std=gnu++11 -I"/Library/Frameworks/R.framework/Resources/include" -DNDEBUG  -I'/Library/Frameworks/R.framework/Versions/4.4-x86_64/Resources/library/ompBAM/include' -I'/Library/Frameworks/R.framework/Versions/4.4-x86_64/Resources/library/Rcpp/include' -I'/Library/Frameworks/R.framework/Versions/4.4-x86_64/Resources/library/RcppProgress/include' -I/opt/R/x86_64/include    -DSPLICEWIZ -fPIC  -falign-functions=64 -Wall -g -O2   -c FastaReader.cpp -o FastaReader.o
clang++ -arch x86_64 -std=gnu++11 -I"/Library/Frameworks/R.framework/Resources/include" -DNDEBUG  -I'/Library/Frameworks/R.framework/Versions/4.4-x86_64/Resources/library/ompBAM/include' -I'/Library/Frameworks/R.framework/Versions/4.4-x86_64/Resources/library/Rcpp/include' -I'/Library/Frameworks/R.framework/Versions/4.4-x86_64/Resources/library/RcppProgress/include' -I/opt/R/x86_64/include    -DSPLICEWIZ -fPIC  -falign-functions=64 -Wall -g -O2   -c FragmentBlocks.cpp -o FragmentBlocks.o
clang++ -arch x86_64 -std=gnu++11 -I"/Library/Frameworks/R.framework/Resources/include" -DNDEBUG  -I'/Library/Frameworks/R.framework/Versions/4.4-x86_64/Resources/library/ompBAM/include' -I'/Library/Frameworks/R.framework/Versions/4.4-x86_64/Resources/library/Rcpp/include' -I'/Library/Frameworks/R.framework/Versions/4.4-x86_64/Resources/library/RcppProgress/include' -I/opt/R/x86_64/include    -DSPLICEWIZ -fPIC  -falign-functions=64 -Wall -g -O2   -c GZTools.cpp -o GZTools.o
clang++ -arch x86_64 -std=gnu++11 -I"/Library/Frameworks/R.framework/Resources/include" -DNDEBUG  -I'/Library/Frameworks/R.framework/Versions/4.4-x86_64/Resources/library/ompBAM/include' -I'/Library/Frameworks/R.framework/Versions/4.4-x86_64/Resources/library/Rcpp/include' -I'/Library/Frameworks/R.framework/Versions/4.4-x86_64/Resources/library/RcppProgress/include' -I/opt/R/x86_64/include    -DSPLICEWIZ -fPIC  -falign-functions=64 -Wall -g -O2   -c RcppExports.cpp -o RcppExports.o
clang++ -arch x86_64 -std=gnu++11 -I"/Library/Frameworks/R.framework/Resources/include" -DNDEBUG  -I'/Library/Frameworks/R.framework/Versions/4.4-x86_64/Resources/library/ompBAM/include' -I'/Library/Frameworks/R.framework/Versions/4.4-x86_64/Resources/library/Rcpp/include' -I'/Library/Frameworks/R.framework/Versions/4.4-x86_64/Resources/library/RcppProgress/include' -I/opt/R/x86_64/include    -DSPLICEWIZ -fPIC  -falign-functions=64 -Wall -g -O2   -c ReadBlockProcessor.cpp -o ReadBlockProcessor.o
clang++ -arch x86_64 -std=gnu++11 -I"/Library/Frameworks/R.framework/Resources/include" -DNDEBUG  -I'/Library/Frameworks/R.framework/Versions/4.4-x86_64/Resources/library/ompBAM/include' -I'/Library/Frameworks/R.framework/Versions/4.4-x86_64/Resources/library/Rcpp/include' -I'/Library/Frameworks/R.framework/Versions/4.4-x86_64/Resources/library/RcppProgress/include' -I/opt/R/x86_64/include    -DSPLICEWIZ -fPIC  -falign-functions=64 -Wall -g -O2   -c ReadBlockProcessor_CoverageBlocks.cpp -o ReadBlockProcessor_CoverageBlocks.o
ReadBlockProcessor_CoverageBlocks.cpp:251:16: warning: variable 'len' set but not used [-Wunused-but-set-variable]
                unsigned int len=0;
                             ^
1 warning generated.
clang++ -arch x86_64 -std=gnu++11 -I"/Library/Frameworks/R.framework/Resources/include" -DNDEBUG  -I'/Library/Frameworks/R.framework/Versions/4.4-x86_64/Resources/library/ompBAM/include' -I'/Library/Frameworks/R.framework/Versions/4.4-x86_64/Resources/library/Rcpp/include' -I'/Library/Frameworks/R.framework/Versions/4.4-x86_64/Resources/library/RcppProgress/include' -I/opt/R/x86_64/include    -DSPLICEWIZ -fPIC  -falign-functions=64 -Wall -g -O2   -c ReadBlockProcessor_FragmentsMap.cpp -o ReadBlockProcessor_FragmentsMap.o
clang++ -arch x86_64 -std=gnu++11 -I"/Library/Frameworks/R.framework/Resources/include" -DNDEBUG  -I'/Library/Frameworks/R.framework/Versions/4.4-x86_64/Resources/library/ompBAM/include' -I'/Library/Frameworks/R.framework/Versions/4.4-x86_64/Resources/library/Rcpp/include' -I'/Library/Frameworks/R.framework/Versions/4.4-x86_64/Resources/library/RcppProgress/include' -I/opt/R/x86_64/include    -DSPLICEWIZ -fPIC  -falign-functions=64 -Wall -g -O2   -c ReadBlockProcessor_TandemJunctions.cpp -o ReadBlockProcessor_TandemJunctions.o
clang++ -arch x86_64 -std=gnu++11 -I"/Library/Frameworks/R.framework/Resources/include" -DNDEBUG  -I'/Library/Frameworks/R.framework/Versions/4.4-x86_64/Resources/library/ompBAM/include' -I'/Library/Frameworks/R.framework/Versions/4.4-x86_64/Resources/library/Rcpp/include' -I'/Library/Frameworks/R.framework/Versions/4.4-x86_64/Resources/library/RcppProgress/include' -I/opt/R/x86_64/include    -DSPLICEWIZ -fPIC  -falign-functions=64 -Wall -g -O2   -c covTools.cpp -o covTools.o
clang++ -arch x86_64 -std=gnu++11 -I"/Library/Frameworks/R.framework/Resources/include" -DNDEBUG  -I'/Library/Frameworks/R.framework/Versions/4.4-x86_64/Resources/library/ompBAM/include' -I'/Library/Frameworks/R.framework/Versions/4.4-x86_64/Resources/library/Rcpp/include' -I'/Library/Frameworks/R.framework/Versions/4.4-x86_64/Resources/library/RcppProgress/include' -I/opt/R/x86_64/include    -DSPLICEWIZ -fPIC  -falign-functions=64 -Wall -g -O2   -c main.cpp -o main.o
clang++ -arch x86_64 -std=gnu++11 -I"/Library/Frameworks/R.framework/Resources/include" -DNDEBUG  -I'/Library/Frameworks/R.framework/Versions/4.4-x86_64/Resources/library/ompBAM/include' -I'/Library/Frameworks/R.framework/Versions/4.4-x86_64/Resources/library/Rcpp/include' -I'/Library/Frameworks/R.framework/Versions/4.4-x86_64/Resources/library/RcppProgress/include' -I/opt/R/x86_64/include    -DSPLICEWIZ -fPIC  -falign-functions=64 -Wall -g -O2   -c swEngine.cpp -o swEngine.o
clang++ -arch x86_64 -std=gnu++11 -I"/Library/Frameworks/R.framework/Resources/include" -DNDEBUG  -I'/Library/Frameworks/R.framework/Versions/4.4-x86_64/Resources/library/ompBAM/include' -I'/Library/Frameworks/R.framework/Versions/4.4-x86_64/Resources/library/Rcpp/include' -I'/Library/Frameworks/R.framework/Versions/4.4-x86_64/Resources/library/RcppProgress/include' -I/opt/R/x86_64/include    -DSPLICEWIZ -fPIC  -falign-functions=64 -Wall -g -O2   -c synthReadGenerator.cpp -o synthReadGenerator.o
clang++ -arch x86_64 -std=gnu++11 -dynamiclib -Wl,-headerpad_max_install_names -undefined dynamic_lookup -L/Library/Frameworks/R.framework/Resources/lib -L/opt/R/x86_64/lib -o SpliceWiz.so BAM2blocks.o FastaReader.o FragmentBlocks.o GZTools.o RcppExports.o ReadBlockProcessor.o ReadBlockProcessor_CoverageBlocks.o ReadBlockProcessor_FragmentsMap.o ReadBlockProcessor_TandemJunctions.o covTools.o main.o swEngine.o synthReadGenerator.o -DSPLICEWIZ -F/Library/Frameworks/R.framework/.. -framework R -Wl,-framework -Wl,CoreFoundation
installing to /Library/Frameworks/R.framework/Versions/4.4-x86_64/Resources/library/00LOCK-SpliceWiz/00new/SpliceWiz/libs
** R
** inst
** byte-compile and prepare package for lazy loading
** help
*** installing help indices
** building package indices
** installing vignettes
** testing if installed package can be loaded from temporary location
** checking absolute paths in shared objects and dynamic libraries
** testing if installed package can be loaded from final location
** testing if installed package keeps a record of temporary installation path
* DONE (SpliceWiz)

Tests output

SpliceWiz.Rcheck/tests/testthat.Rout


R version 4.4.1 (2024-06-14) -- "Race for Your Life"
Copyright (C) 2024 The R Foundation for Statistical Computing
Platform: x86_64-apple-darwin20

R is free software and comes with ABSOLUTELY NO WARRANTY.
You are welcome to redistribute it under certain conditions.
Type 'license()' or 'licence()' for distribution details.

R is a collaborative project with many contributors.
Type 'contributors()' for more information and
'citation()' on how to cite R or R packages in publications.

Type 'demo()' for some demos, 'help()' for on-line help, or
'help.start()' for an HTML browser interface to help.
Type 'q()' to quit R.

> library(testthat)
> library(SpliceWiz)
Loading required package: NxtIRFdata
SpliceWiz package loaded with 2 threads
Use setSWthreads() to set the number of SpliceWiz threads
> 
> test_check("SpliceWiz")
Loading required package: Rsubread
Oct 17 14:03:39 Converting FASTA to local TwoBitFile...done
Oct 17 14:03:41 Connecting to genome TwoBitFile...done
Oct 17 14:03:41 Making local copy of GTF file...done
Oct 17 14:03:41 Extracting temp genome FASTA from TwoBit file
Oct 17 14:03:42 Generating synthetic reads, saving to /private/tmp/RtmpnMSgwF/refWithMapExcl/Mappability/Reads.fa
0%   10   20   30   40   50   60   70   80   90   100%
[----|----|----|----|----|----|----|----|----|----|
**************************************************|
10145 synthetic reads generated
Oct 17 14:03:43 Cleaning temp genome / gene annotation files

        ==========     _____ _    _ ____  _____  ______          _____  
        =====         / ____| |  | |  _ \|  __ \|  ____|   /\   |  __ \ 
          =====      | (___ | |  | | |_) | |__) | |__     /  \  | |  | |
            ====      \___ \| |  | |  _ <|  _  /|  __|   / /\ \ | |  | |
              ====    ____) | |__| | |_) | | \ \| |____ / ____ \| |__| |
        ==========   |_____/ \____/|____/|_|  \_\______/_/    \_\_____/
       Rsubread 2.18.0

//================================= setting ==================================\\
||                                                                            ||
||                Index name : reference_index                                ||
||               Index space : base space                                     ||
||               Index split : no-split                                       ||
||          Repeat threshold : 100 repeats                                    ||
||              Gapped index : no                                             ||
||                                                                            ||
||       Free / total memory : 32.9GB / 64.0GB                                ||
||                                                                            ||
||               Input files : 1 file in total                                ||
||                             o genome.fa                                    ||
||                                                                            ||
\\============================================================================//

//================================= Running ==================================\\
||                                                                            ||
|| Check the integrity of provided reference sequences ...                    ||
|| No format issues were found                                                ||
|| Scan uninformative subreads in reference sequences ...                     ||
|| Estimate the index size...                                                 ||
||    8%,   0 mins elapsed, rate=20.1k bps/s                                  ||
||   16%,   0 mins elapsed, rate=39.8k bps/s                                  ||
||   24%,   0 mins elapsed, rate=59.1k bps/s                                  ||
||   33%,   0 mins elapsed, rate=78.1k bps/s                                  ||
||   41%,   0 mins elapsed, rate=96.8k bps/s                                  ||
||   49%,   0 mins elapsed, rate=115.1k bps/s                                 ||
||   58%,   0 mins elapsed, rate=133.0k bps/s                                 ||
||   66%,   0 mins elapsed, rate=150.6k bps/s                                 ||
||   74%,   0 mins elapsed, rate=168.1k bps/s                                 ||
||   83%,   0 mins elapsed, rate=185.4k bps/s                                 ||
||   91%,   0 mins elapsed, rate=202.0k bps/s                                 ||
|| 3.0 GB of memory is needed for index building.                             ||
|| Build the index...                                                         ||
||    8%,   0 mins elapsed, rate=2.3k bps/s                                   ||
||   16%,   0 mins elapsed, rate=4.6k bps/s                                   ||
||   24%,   0 mins elapsed, rate=6.9k bps/s                                   ||
||   33%,   0 mins elapsed, rate=9.1k bps/s                                   ||
||   41%,   0 mins elapsed, rate=11.4k bps/s                                  ||
||   49%,   0 mins elapsed, rate=13.7k bps/s                                  ||
||   58%,   0 mins elapsed, rate=15.9k bps/s                                  ||
||   66%,   0 mins elapsed, rate=18.2k bps/s                                  ||
||   74%,   0 mins elapsed, rate=20.4k bps/s                                  ||
||   83%,   0 mins elapsed, rate=22.6k bps/s                                  ||
||   91%,   0 mins elapsed, rate=24.9k bps/s                                  ||
|| Save current index block...                                                ||
||  [ 0.0% finished ]                                                         ||
||  [ 10.0% finished ]                                                        ||
||  [ 20.0% finished ]                                                        ||
||  [ 30.0% finished ]                                                        ||
||  [ 40.0% finished ]                                                        ||
||  [ 50.0% finished ]                                                        ||
||  [ 60.0% finished ]                                                        ||
||  [ 70.0% finished ]                                                        ||
||  [ 80.0% finished ]                                                        ||
||  [ 90.0% finished ]                                                        ||
||  [ 100.0% finished ]                                                       ||
||                                                                            ||
||                      Total running time: 0.7 minutes.                      ||
||              Index ./reference_index was successfully built.               ||
||                                                                            ||
\\============================================================================//


        ==========     _____ _    _ ____  _____  ______          _____  
        =====         / ____| |  | |  _ \|  __ \|  ____|   /\   |  __ \ 
          =====      | (___ | |  | | |_) | |__) | |__     /  \  | |  | |
            ====      \___ \| |  | |  _ <|  _  /|  __|   / /\ \ | |  | |
              ====    ____) | |__| | |_) | | \ \| |____ / ____ \| |__| |
        ==========   |_____/ \____/|____/|_|  \_\______/_/    \_\_____/
       Rsubread 2.18.0

//================================= setting ==================================\\
||                                                                            ||
|| Function      : Read alignment + Junction detection (RNA-Seq)              ||
|| Input file    : Reads.fa                                                   ||
|| Output file   : AlignedReads.bam (BAM)                                     ||
|| Index name    : reference_index                                            ||
||                                                                            ||
||                    ------------------------------------                    ||
||                                                                            ||
||                               Threads : 1                                  ||
||                          Phred offset : 33                                 ||
||                             Min votes : 1 / 14                             ||
||                        Max mismatches : 3                                  ||
||                      Max indel length : 5                                  ||
||            Report multi-mapping reads : yes                                ||
|| Max alignments per multi-mapping read : 1                                  ||
||                           Annotations : transcripts.gtf (GTF)              ||
||                                                                            ||
\\============================================================================//

//================ Running (17-Oct-2024 14:04:24, pid=10522) =================\\
||                                                                            ||
|| Check the input reads.                                                     ||
|| The input file contains base space reads.                                  ||
|| Initialise the memory objects.                                             ||
|| Estimate the mean read length.                                             ||
|| Create the output BAM file.                                                ||
|| Check the index.                                                           ||
|| Init the voting space.                                                     ||
|| Load the annotation file.                                                  ||
|| 538 annotation records were loaded.                                        ||
|| Global environment is initialised.                                         ||
|| Load the 1-th index block...                                               ||
|| The index block has been loaded.                                           ||
|| Start read mapping in chunk.                                               ||
||   65% completed,  12 mins elapsed, rate=15.1k reads per second             ||
||   83% completed,  12 mins elapsed, rate=0.0k reads per second              ||
||   99% completed,  12 mins elapsed, rate=0.0k reads per second              ||
||                                                                            ||
||                           Completed successfully.                          ||
||                                                                            ||
\\====================================    ====================================//

//================================   Summary =================================\\
||                                                                            ||
||                 Total reads : 10,145                                       ||
||                      Mapped : 10,145 (100.0%)                              ||
||             Uniquely mapped : 10,145                                       ||
||               Multi-mapping : 0                                            ||
||                                                                            ||
||                    Unmapped : 0                                            ||
||                                                                            ||
||                   Junctions : 0                                            ||
||                      Indels : 1                                            ||
||                                                                            ||
||                Running time : 12.1 minutes                                 ||
||                                                                            ||
\\============================================================================//

Oct 17 14:16:31 Calculating Mappability Exclusion regions from: /tmp/RtmpnMSgwF/refWithMapExcl/Mappability/AlignedReads.bam
Calculating Mappability Exclusions: /private/tmp/RtmpnMSgwF/refWithMapExcl/Mappability/AlignedReads.bam
0%   10   20   30   40   50   60   70   80   90   100%
[----|----|----|----|----|----|----|----|----|----|
**************************************************|
Performing final sort of fragment maps
Writing Mappability Exclusions
**************************************************|
0%   10   20   30   40   50   60   70   80   90   100%
[----|----|----|----|----|----|----|----|----|----|
**************************************************|
SpliceWiz was compiled without OpenMP
Oct 17 14:16:40 Reference generated without non-polyA reference
Oct 17 14:16:40 Reference generated without Mappability reference
Oct 17 14:16:40 Reference generated without Blacklist exclusion
Oct 17 14:16:40 Converting FASTA to local TwoBitFile...done
Oct 17 14:16:41 Connecting to genome TwoBitFile...done
Oct 17 14:16:41 Making local copy of GTF file...done
Oct 17 14:16:41 Reading source GTF file...done
Oct 17 14:16:42 Processing gtf file...
...genes
...transcripts
...CDS
...exons
done
Oct 17 14:16:45 Gene ontology not prepared for this reference
Oct 17 14:16:48 Processing introns...
...data
...basic annotations
...splice motifs
...other info
...defining flanking exon clusters
done
Oct 17 14:16:54 Generating processBAM reference
...prepping data
...determining measurable introns (directional)
...determining measurable introns (non-directional)
...writing ref-cover.bed
...writing ref-ROI.bed
...writing ref-read-continues.ref
...writing ref-sj.ref
...writing ref-tj.ref
processBAM reference generated
Oct 17 14:17:07 Predicting NMD transcripts from genome sequence
...exonic transcripts
...retained introns

  |                                                                            
  |                                                                      |   0%
  |                                                                            
  |======================================================================| 100%
done
Oct 17 14:17:10 Annotating Splice Events
Annotating Mutually-Exclusive-Exon Splice Events...done
Annotating Skipped-Exon Splice Events...done
Annotating Alternate 5' / 3' Splice Site Splice Events...done
Annotating Alternate First / Last Exon Splice Events...done
Annotating known retained introns...done
Oct 17 14:17:12 Splice Annotations Filtered
Oct 17 14:17:14 Translating Alternate Splice Peptides...done
Oct 17 14:17:14 Splice Annotations finished

Reference build finished
Oct 17 14:17:16 Running SpliceWiz processBAM
Oct 17 14:17:17 Using MulticoreParam 1 threads
Reading reference file
Allocating memory to 1 threads for SpliceWiz (ompBAM)...initialized (1 milliseconds)
Processing BAM file /private/tmp/RtmpnMSgwF/02H003.bam
0%   10   20   30   40   50   60   70   80   90   100%
[----|----|----|----|----|----|----|----|----|----|
**************************************************|
Performing final sort of fragment maps
Writing COV file
**************************************************|
0%   10   20   30   40   50   60   70   80   90   100%
[----|----|----|----|----|----|----|----|----|----|
**************************************************|
Writing output file
/private/tmp/RtmpnMSgwF/02H003.bam processed (856 milliseconds)
Oct 17 14:17:18 SpliceWiz processBAM processed RtmpnMSgwF/02H003.bam
Oct 17 14:17:18 Running SpliceWiz processBAM
Oct 17 14:17:19 Using MulticoreParam 1 threads
Reading reference file
Allocating memory to 1 threads for SpliceWiz (ompBAM)...initialized (1 milliseconds)
Processing BAM file /private/tmp/RtmpnMSgwF/02H003.bam
0%   10   20   30   40   50   60   70   80   90   100%
[----|----|----|----|----|----|----|----|----|----|
**************************************************|
Performing final sort of fragment maps
Writing COV file
**************************************************|
0%   10   20   30   40   50   60   70   80   90   100%
[----|----|----|----|----|----|----|----|----|----|
**************************************************|
Writing output file
/private/tmp/RtmpnMSgwF/02H003.bam processed (856 milliseconds)
Oct 17 14:17:20 SpliceWiz processBAM processed RtmpnMSgwF/02H003.bam
Oct 17 14:17:21 Reference generated without non-polyA reference
Oct 17 14:17:21 Reference generated without Mappability reference
Oct 17 14:17:21 Reference generated without Blacklist exclusion
Oct 17 14:17:21 Converting FASTA to local TwoBitFile...done
Oct 17 14:17:22 Connecting to genome TwoBitFile...done
Oct 17 14:17:22 Making local copy of GTF file...done
Oct 17 14:17:22 Reading source GTF file...done
Oct 17 14:17:23 Processing gtf file...
...genes
...transcripts
...CDS
Oct 17 14:17:24 No protein information detected in reference! For full functionality, ensure there are valid entries with type == `CDS` in the gtf file. Protein reference and NMD annotation is skipped.
...exons
done
Oct 17 14:17:26 Gene ontology not prepared for this reference
Oct 17 14:17:28 Processing introns...
...data
...basic annotations
...splice motifs
...other info
...defining flanking exon clusters
done
Oct 17 14:17:34 Generating processBAM reference
...prepping data
...determining measurable introns (directional)
...determining measurable introns (non-directional)
...writing ref-cover.bed
...writing ref-ROI.bed
...writing ref-read-continues.ref
...writing ref-sj.ref
...writing ref-tj.ref
processBAM reference generated
Oct 17 14:17:46 Annotating Splice Events
Annotating Mutually-Exclusive-Exon Splice Events...done
Annotating Skipped-Exon Splice Events...done
Annotating Alternate 5' / 3' Splice Site Splice Events...done
Annotating Alternate First / Last Exon Splice Events...done
Annotating known retained introns...done
Oct 17 14:17:48 Splice Annotations Filtered
Reference build finished
Oct 17 14:17:50 Running SpliceWiz processBAM
Oct 17 14:17:52 Using MulticoreParam 1 threads
Allocating memory to 1 threads for SpliceWiz (ompBAM)...initialized (1 milliseconds)
/private/tmp/RtmpnMSgwF/02H003.bam processed (821 milliseconds)
Oct 17 14:17:53 SpliceWiz processBAM processed RtmpnMSgwF/02H003.bam
Allocating memory to 1 threads for SpliceWiz (ompBAM)...initialized (1 milliseconds)
/private/tmp/RtmpnMSgwF/02H025.bam processed (658 milliseconds)
Oct 17 14:17:53 SpliceWiz processBAM processed RtmpnMSgwF/02H025.bam
Allocating memory to 1 threads for SpliceWiz (ompBAM)...initialized (1 milliseconds)
/private/tmp/RtmpnMSgwF/02H026.bam processed (1043 milliseconds)
Oct 17 14:17:54 SpliceWiz processBAM processed RtmpnMSgwF/02H026.bam
Allocating memory to 1 threads for SpliceWiz (ompBAM)...initialized (1 milliseconds)
/private/tmp/RtmpnMSgwF/02H033.bam processed (1020 milliseconds)
Oct 17 14:17:55 SpliceWiz processBAM processed RtmpnMSgwF/02H033.bam
Allocating memory to 1 threads for SpliceWiz (ompBAM)...initialized (3 milliseconds)
/private/tmp/RtmpnMSgwF/02H043.bam processed (644 milliseconds)
Oct 17 14:17:56 SpliceWiz processBAM processed RtmpnMSgwF/02H043.bam
Allocating memory to 1 threads for SpliceWiz (ompBAM)...initialized (1 milliseconds)
/private/tmp/RtmpnMSgwF/02H046.bam processed (945 milliseconds)
Oct 17 14:17:57 SpliceWiz processBAM processed RtmpnMSgwF/02H046.bam
Oct 17 14:17:58 Using MulticoreParam 1 threads
Oct 17 14:17:58 Validating Experiment; checking COV files...
Oct 17 14:17:58 Compiling Sample Stats
Oct 17 14:17:59 Compiling Junction List...merging...done
Oct 17 14:18:00 Compiling Junction Stats...merging...done
Oct 17 14:18:09 Compiling Intron Retention List...done
Oct 17 14:18:11 Tidying up splice junctions and intron retentions...
...annotating splice junctions
...copying splicing reference
...grouping splice junctions
...grouping introns
...loading splice events
...compiling rowEvents
done

Oct 17 14:18:26 Generating NxtSE assays
Oct 17 14:18:27 Using MulticoreParam 1 threads

  |                                                                            
  |                                                                      |   0%
  |                                                                            
  |============                                                          |  17%
  |                                                                            
  |=======================                                               |  33%
  |                                                                            
  |===================================                                   |  50%
  |                                                                            
  |===============================================                       |  67%
  |                                                                            
  |==========================================================            |  83%
  |                                                                            
  |======================================================================| 100%

Oct 17 14:18:48 Building Final NxtSE Object
Oct 17 14:18:48 ...consolidating assays to H5 file
Oct 17 14:18:51 ...packaging reference
Oct 17 14:18:51 ...synthesising NxtSE
Oct 17 14:18:52 ...determining how overlapping introns should be removed
Oct 17 14:18:56 SpliceWiz (NxtSE) Collation Finished
Oct 17 14:18:56 Loading NxtSE object from file...
Oct 17 14:18:56 ...loading reference (NxtSE)
Oct 17 14:18:56 ...linking assays
Oct 17 14:18:56 ...linking COV files
Oct 17 14:18:56 ...loading rowData
Oct 17 14:18:57 ...removing overlapping introns...
Oct 17 14:18:57 NxtSE loaded
Oct 17 14:18:58 SpliceWiz reference already exists in given directory
Oct 17 14:18:58 Running SpliceWiz processBAM
Oct 17 14:18:59 Using MulticoreParam 1 threads
Allocating memory to 1 threads for SpliceWiz (ompBAM)...initialized (2 milliseconds)
/private/tmp/RtmpnMSgwF/02H003.bam processed (844 milliseconds)
Oct 17 14:19:00 SpliceWiz processBAM processed RtmpnMSgwF/02H003.bam
Allocating memory to 1 threads for SpliceWiz (ompBAM)...initialized (1 milliseconds)
/private/tmp/RtmpnMSgwF/02H025.bam processed (681 milliseconds)
Oct 17 14:19:01 SpliceWiz processBAM processed RtmpnMSgwF/02H025.bam
Allocating memory to 1 threads for SpliceWiz (ompBAM)...initialized (1 milliseconds)
/private/tmp/RtmpnMSgwF/02H026.bam processed (1025 milliseconds)
Oct 17 14:19:02 SpliceWiz processBAM processed RtmpnMSgwF/02H026.bam
Allocating memory to 1 threads for SpliceWiz (ompBAM)...initialized (1 milliseconds)
/private/tmp/RtmpnMSgwF/02H033.bam processed (1008 milliseconds)
Oct 17 14:19:03 SpliceWiz processBAM processed RtmpnMSgwF/02H033.bam
Allocating memory to 1 threads for SpliceWiz (ompBAM)...initialized (1 milliseconds)
/private/tmp/RtmpnMSgwF/02H043.bam processed (634 milliseconds)
Oct 17 14:19:04 SpliceWiz processBAM processed RtmpnMSgwF/02H043.bam
Allocating memory to 1 threads for SpliceWiz (ompBAM)...initialized (1 milliseconds)
/private/tmp/RtmpnMSgwF/02H046.bam processed (951 milliseconds)
Oct 17 14:19:05 SpliceWiz processBAM processed RtmpnMSgwF/02H046.bam
Oct 17 14:19:06 Using MulticoreParam 1 threads
Oct 17 14:19:06 Validating Experiment; checking COV files...
Oct 17 14:19:06 Compiling Sample Stats
Oct 17 14:19:06 Compiling Junction List...merging...done
Oct 17 14:19:08 Compiling Junction Stats...merging...done
Oct 17 14:19:17 Compiling Intron Retention List...done
Oct 17 14:19:18 Compiling Tandem Junction List...merging...done
Oct 17 14:19:20 Tidying up splice junctions and intron retentions...
...annotating splice junctions
...looking for novel exons
Oct 17 14:19:24 Assembling novel splicing reference:
...loading reference FASTA/GTF
...injecting novel transcripts to GTF
...processing GTF
...processing introns from GTF
...annotating alternative splicing events
done
Oct 17 14:19:41 Tidying up splice junctions and intron retentions (part 2)...
...grouping splice junctions
...grouping introns
...loading splice events
...compiling rowEvents
done

Oct 17 14:19:54 Generating NxtSE assays
Oct 17 14:19:55 Using MulticoreParam 1 threads

  |                                                                            
  |                                                                      |   0%
  |                                                                            
  |============                                                          |  17%
  |                                                                            
  |=======================                                               |  33%
  |                                                                            
  |===================================                                   |  50%
  |                                                                            
  |===============================================                       |  67%
  |                                                                            
  |==========================================================            |  83%
  |                                                                            
  |======================================================================| 100%

Oct 17 14:20:17 Building Final NxtSE Object
Oct 17 14:20:17 ...consolidating assays to H5 file
Oct 17 14:20:19 ...packaging reference
Oct 17 14:20:19 ...synthesising NxtSE
Oct 17 14:20:20 ...determining how overlapping introns should be removed
Oct 17 14:20:24 SpliceWiz (NxtSE) Collation Finished
Oct 17 14:20:24 Loading NxtSE object from file...
Oct 17 14:20:24 ...loading reference (NxtSE)
Oct 17 14:20:24 ...linking assays
Oct 17 14:20:25 ...linking COV files
Oct 17 14:20:25 ...loading rowData
Oct 17 14:20:25 ...removing overlapping introns...
Oct 17 14:20:25 NxtSE loaded
Oct 17 14:20:26 SpliceWiz reference already exists in given directory
Oct 17 14:20:26 Running SpliceWiz processBAM
Oct 17 14:20:27 Using MulticoreParam 1 threads
Allocating memory to 1 threads for SpliceWiz (ompBAM)...initialized (1 milliseconds)
/private/tmp/RtmpnMSgwF/02H003.bam processed (828 milliseconds)
Oct 17 14:20:28 SpliceWiz processBAM processed RtmpnMSgwF/02H003.bam
Allocating memory to 1 threads for SpliceWiz (ompBAM)...initialized (1 milliseconds)
/private/tmp/RtmpnMSgwF/02H025.bam processed (681 milliseconds)
Oct 17 14:20:29 SpliceWiz processBAM processed RtmpnMSgwF/02H025.bam
Allocating memory to 1 threads for SpliceWiz (ompBAM)...initialized (1 milliseconds)
/private/tmp/RtmpnMSgwF/02H026.bam processed (1024 milliseconds)
Oct 17 14:20:30 SpliceWiz processBAM processed RtmpnMSgwF/02H026.bam
Allocating memory to 1 threads for SpliceWiz (ompBAM)...initialized (1 milliseconds)
/private/tmp/RtmpnMSgwF/02H033.bam processed (1015 milliseconds)
Oct 17 14:20:31 SpliceWiz processBAM processed RtmpnMSgwF/02H033.bam
Allocating memory to 1 threads for SpliceWiz (ompBAM)...initialized (1 milliseconds)
/private/tmp/RtmpnMSgwF/02H043.bam processed (650 milliseconds)
Oct 17 14:20:32 SpliceWiz processBAM processed RtmpnMSgwF/02H043.bam
Allocating memory to 1 threads for SpliceWiz (ompBAM)...initialized (1 milliseconds)
/private/tmp/RtmpnMSgwF/02H046.bam processed (967 milliseconds)
Oct 17 14:20:33 SpliceWiz processBAM processed RtmpnMSgwF/02H046.bam
Oct 17 14:20:34 Using MulticoreParam 1 threads
Oct 17 14:20:34 Validating Experiment; checking COV files...
Oct 17 14:20:34 Compiling Sample Stats
Oct 17 14:20:34 Compiling Junction List...merging...done
Oct 17 14:20:36 Compiling Junction Stats...merging...done
Oct 17 14:20:45 Compiling Intron Retention List...done
Oct 17 14:20:46 Tidying up splice junctions and intron retentions...
...annotating splice junctions
...copying splicing reference
...grouping splice junctions
...grouping introns
...loading splice events
...compiling rowEvents
done

Oct 17 14:21:01 Generating NxtSE assays
Oct 17 14:21:03 Using MulticoreParam 1 threads

  |                                                                            
  |                                                                      |   0%
  |                                                                            
  |============                                                          |  17%
  |                                                                            
  |=======================                                               |  33%
  |                                                                            
  |===================================                                   |  50%
  |                                                                            
  |===============================================                       |  67%
  |                                                                            
  |==========================================================            |  83%
  |                                                                            
  |======================================================================| 100%

Oct 17 14:21:24 Building Final NxtSE Object
Oct 17 14:21:24 ...consolidating assays to H5 file
Oct 17 14:21:26 ...packaging reference
Oct 17 14:21:26 ...synthesising NxtSE
Oct 17 14:21:27 ...determining how overlapping introns should be removed
Oct 17 14:21:31 SpliceWiz (NxtSE) Collation Finished
Oct 17 14:21:31 Loading NxtSE object from file...
Oct 17 14:21:31 ...loading reference (NxtSE)
Oct 17 14:21:31 ...linking assays
Oct 17 14:21:31 ...linking COV files
Oct 17 14:21:31 ...loading rowData
Oct 17 14:21:31 ...removing overlapping introns...
Oct 17 14:21:32 NxtSE loaded
                                    path paired strand  depth mean_frag_size
02H003 ../SpliceWiz_Output/02H003.txt.gz   TRUE     -1 106256       149.3108
02H025 ../SpliceWiz_Output/02H025.txt.gz   TRUE     -1  84872       151.5914
02H026 ../SpliceWiz_Output/02H026.txt.gz   TRUE     -1 131514       150.3238
02H033 ../SpliceWiz_Output/02H033.txt.gz   TRUE     -1 129013       153.9754
02H043 ../SpliceWiz_Output/02H043.txt.gz   TRUE     -1  80254       155.4004
02H046 ../SpliceWiz_Output/02H046.txt.gz   TRUE     -1 120174       151.2840
       directionality_strength Intergenic_Fraction rRNA_Fraction
02H003                    9850                   0             0
02H025                    9848                   0             0
02H026                    9848                   0             0
02H033                    9855                   0             0
02H043                    9841                   0             0
02H046                    9857                   0             0
       NonPolyA_Fraction Mitochondrial_Fraction Unanno_Jn_Fraction
02H003                 0                      0        0.013449472
02H025                 0                      0        0.011203515
02H026                 0                      0        0.007282382
02H033                 0                      0        0.006310241
02H043                 0                      0        0.005871040
02H046                 0                      0        0.009819533
       NMD_Jn_Fraction Fraction_Splice_Reads Fraction_Span_Reads IRBurden_clean
02H003     0.019509970             0.3506908           0.1735243     0.05796583
02H025     0.019360162             0.3712414           0.1591691     0.03963531
02H026     0.004298323             0.3980261           0.1615037     0.02576549
02H033     0.007705562             0.4003550           0.1734089     0.03090263
02H043     0.028069104             0.3671219           0.1807511     0.03762138
02H046     0.010542303             0.3725598           0.1603508     0.05099352
       IRBurden_exitrons IRBurden_clean_unstranded IRBurden_exitrons_unstranded
02H003         0.1291810                0.03844293                    0.1296020
02H025         0.1192351                0.02730399                    0.1194005
02H026         0.1231055                0.02010410                    0.1231939
02H033         0.1378958                0.02300500                    0.1380215
02H043         0.1392935                0.02286515                    0.1397365
02H046         0.1132136                0.03359077                    0.1133852
       IRBurden_antisense
02H003        0.021393335
02H025        0.013191532
02H026        0.006007119
02H033        0.008453742
02H043        0.015837096
02H046        0.019043703
MD5 is fcdc53e0f7fbd843529077ebd26dd058
Oct 17 14:21:36 Reference generated without non-polyA reference
Oct 17 14:21:36 Reference generated without Mappability reference
Oct 17 14:21:36 Reference generated without Blacklist exclusion
Oct 17 14:21:36 Converting FASTA to local TwoBitFile...done
Oct 17 14:21:37 Connecting to genome TwoBitFile...done
Oct 17 14:21:37 Making local copy of GTF file...done
Oct 17 14:21:38 Reading source GTF file...done
Oct 17 14:21:38 Processing gtf file...
...genes
...transcripts
...CDS
...exons
done
Oct 17 14:21:40 Gene ontology not prepared for this reference
Oct 17 14:21:43 Processing introns...
...data
...basic annotations
...splice motifs
...other info
...defining flanking exon clusters
done
Oct 17 14:21:49 Generating processBAM reference
...prepping data
...determining measurable introns (directional)
...determining measurable introns (non-directional)
...writing ref-cover.bed
...writing ref-ROI.bed
...writing ref-read-continues.ref
...writing ref-sj.ref
...writing ref-tj.ref
processBAM reference generated
Oct 17 14:22:01 Predicting NMD transcripts from genome sequence
...exonic transcripts
...retained introns

  |                                                                            
  |                                                                      |   0%
  |                                                                            
  |======================================================================| 100%
done
Oct 17 14:22:04 Annotating Splice Events
Annotating Mutually-Exclusive-Exon Splice Events...done
Annotating Skipped-Exon Splice Events...done
Annotating Alternate 5' / 3' Splice Site Splice Events...done
Annotating Alternate First / Last Exon Splice Events...done
Annotating known retained introns...done
Oct 17 14:22:06 Splice Annotations Filtered
Oct 17 14:22:07 Translating Alternate Splice Peptides...done
Oct 17 14:22:08 Splice Annotations finished

Reference build finished
[ FAIL 0 | WARN 0 | SKIP 0 | PASS 47 ]
> 
> # bump to trigger r cmd check
> 
> proc.time()
    user   system  elapsed 
 579.776  363.665 1147.966 

Example timings

SpliceWiz.Rcheck/SpliceWiz-Ex.timings

nameusersystemelapsed
ASE-GLM-edgeR5.2570.3156.313
ASE-methods49.706 0.66358.053
ASEFilter-class0.1210.0080.143
Build-Reference-methods81.691 3.36198.732
Coverage2.0790.0512.427
Gene-ontology-methods4.2950.0924.916
Graphics-User-Interface0.0000.0010.001
Mappability-methods2.6510.0623.055
NxtSE-class69.560 2.01682.537
Run_SpliceWiz_Filters 8.992 0.07510.565
STAR-methods0.0070.0170.052
View-Reference-methods0.3380.0500.466
collateData3.1400.1093.882
coord2GR0.0470.0030.051
covDataObject-class3.7790.0744.653
covPlotObject-class45.151 0.82354.055
covPlotly-class2.4820.0412.968
example-SpliceWiz-data0.0260.0050.036
findSamples0.0120.0090.027
isCOV0.0250.0060.037
makeSE2.8500.1873.733
make_plot_data0.1130.0060.137
plotCoverage32.763 0.37538.185
processBAM6.1601.4065.610
setSWthreads0.0050.0150.025
theme_white0.3300.1150.499