| Back to Multiple platform build/check report for BioC 3.19: simplified long |
|
This page was generated on 2024-10-18 20:42 -0400 (Fri, 18 Oct 2024).
| Hostname | OS | Arch (*) | R version | Installed pkgs |
|---|---|---|---|---|
| nebbiolo1 | Linux (Ubuntu 22.04.3 LTS) | x86_64 | 4.4.1 (2024-06-14) -- "Race for Your Life" | 4763 |
| palomino7 | Windows Server 2022 Datacenter | x64 | 4.4.1 (2024-06-14 ucrt) -- "Race for Your Life" | 4500 |
| merida1 | macOS 12.7.5 Monterey | x86_64 | 4.4.1 (2024-06-14) -- "Race for Your Life" | 4530 |
| kjohnson1 | macOS 13.6.6 Ventura | arm64 | 4.4.1 (2024-06-14) -- "Race for Your Life" | 4480 |
| Click on any hostname to see more info about the system (e.g. compilers) (*) as reported by 'uname -p', except on Windows and Mac OS X | ||||
| Package 2054/2300 | Hostname | OS / Arch | INSTALL | BUILD | CHECK | BUILD BIN | ||||||||
| SpliceWiz 1.6.6 (landing page) Alex Chit Hei Wong
| nebbiolo1 | Linux (Ubuntu 22.04.3 LTS) / x86_64 | OK | OK | OK | |||||||||
| palomino7 | Windows Server 2022 Datacenter / x64 | OK | OK | OK | OK | |||||||||
| merida1 | macOS 12.7.5 Monterey / x86_64 | OK | OK | OK | OK | |||||||||
| kjohnson1 | macOS 13.6.6 Ventura / arm64 | OK | OK | OK | NA | |||||||||
|
To the developers/maintainers of the SpliceWiz package: - Allow up to 24 hours (and sometimes 48 hours) for your latest push to git@git.bioconductor.org:packages/SpliceWiz.git to reflect on this report. See Troubleshooting Build Report for more information. - Use the following Renviron settings to reproduce errors and warnings. - If 'R CMD check' started to fail recently on the Linux builder(s) over a missing dependency, add the missing dependency to 'Suggests:' in your DESCRIPTION file. See Renviron.bioc for more information. |
| Package: SpliceWiz |
| Version: 1.6.6 |
| Command: /Library/Frameworks/R.framework/Resources/bin/R CMD check --install=check:SpliceWiz.install-out.txt --library=/Library/Frameworks/R.framework/Resources/library --no-vignettes --timings SpliceWiz_1.6.6.tar.gz |
| StartedAt: 2024-10-18 13:41:06 -0400 (Fri, 18 Oct 2024) |
| EndedAt: 2024-10-18 14:05:07 -0400 (Fri, 18 Oct 2024) |
| EllapsedTime: 1440.2 seconds |
| RetCode: 0 |
| Status: OK |
| CheckDir: SpliceWiz.Rcheck |
| Warnings: 0 |
##############################################################################
##############################################################################
###
### Running command:
###
### /Library/Frameworks/R.framework/Resources/bin/R CMD check --install=check:SpliceWiz.install-out.txt --library=/Library/Frameworks/R.framework/Resources/library --no-vignettes --timings SpliceWiz_1.6.6.tar.gz
###
##############################################################################
##############################################################################
* using log directory ‘/Users/biocbuild/bbs-3.19-bioc/meat/SpliceWiz.Rcheck’
* using R version 4.4.1 (2024-06-14)
* using platform: aarch64-apple-darwin20
* R was compiled by
Apple clang version 14.0.0 (clang-1400.0.29.202)
GNU Fortran (GCC) 12.2.0
* running under: macOS Ventura 13.6.6
* using session charset: UTF-8
* using option ‘--no-vignettes’
* checking for file ‘SpliceWiz/DESCRIPTION’ ... OK
* this is package ‘SpliceWiz’ version ‘1.6.6’
* package encoding: UTF-8
* checking package namespace information ... OK
* checking package dependencies ... OK
* checking if this is a source package ... OK
* checking if there is a namespace ... OK
* checking for hidden files and directories ... OK
* checking for portable file names ... OK
* checking for sufficient/correct file permissions ... OK
* checking whether package ‘SpliceWiz’ can be installed ... OK
* used C++ compiler: ‘Apple clang version 15.0.0 (clang-1500.0.40.1)’
* used SDK: ‘MacOSX11.3.sdk’
* checking C++ specification ... NOTE
Specified C++11: please drop specification unless essential
* checking installed package size ... OK
* checking package directory ... OK
* checking ‘build’ directory ... OK
* checking DESCRIPTION meta-information ... NOTE
License stub is invalid DCF.
* checking top-level files ... OK
* checking for left-over files ... OK
* checking index information ... OK
* checking package subdirectories ... OK
* checking code files for non-ASCII characters ... OK
* checking R files for syntax errors ... OK
* checking whether the package can be loaded ... OK
* checking whether the package can be loaded with stated dependencies ... OK
* checking whether the package can be unloaded cleanly ... OK
* checking whether the namespace can be loaded with stated dependencies ... OK
* checking whether the namespace can be unloaded cleanly ... OK
* checking whether startup messages can be suppressed ... OK
* checking dependencies in R code ... OK
* checking S3 generic/method consistency ... OK
* checking replacement functions ... OK
* checking foreign function calls ... OK
* checking R code for possible problems ... OK
* checking Rd files ... OK
* checking Rd metadata ... OK
* checking Rd cross-references ... OK
* checking for missing documentation entries ... OK
* checking for code/documentation mismatches ... OK
* checking Rd \usage sections ... OK
* checking Rd contents ... OK
* checking for unstated dependencies in examples ... OK
* checking line endings in shell scripts ... OK
* checking line endings in C/C++/Fortran sources/headers ... OK
* checking line endings in Makefiles ... OK
* checking compilation flags in Makevars ... OK
* checking for GNU extensions in Makefiles ... OK
* checking for portable use of $(BLAS_LIBS) and $(LAPACK_LIBS) ... OK
* checking use of PKG_*FLAGS in Makefiles ... OK
* checking compiled code ... NOTE
Note: information on .o files is not available
* checking files in ‘vignettes’ ... OK
* checking examples ... OK
Examples with CPU (user + system) or elapsed time > 5s
user system elapsed
NxtSE-class 68.834 1.266 73.901
Build-Reference-methods 66.499 1.668 73.308
ASE-methods 37.663 0.453 39.176
covPlotObject-class 22.303 0.705 24.171
plotCoverage 14.575 0.191 16.422
Run_SpliceWiz_Filters 9.968 0.060 11.279
processBAM 5.155 1.039 4.669
* checking for unstated dependencies in ‘tests’ ... OK
* checking tests ...
Running ‘testthat.R’
OK
* checking for unstated dependencies in vignettes ... OK
* checking package vignettes ... OK
* checking running R code from vignettes ... SKIPPED
* checking re-building of vignette outputs ... SKIPPED
* checking PDF version of manual ... OK
* DONE
Status: 3 NOTEs
See
‘/Users/biocbuild/bbs-3.19-bioc/meat/SpliceWiz.Rcheck/00check.log’
for details.
SpliceWiz.Rcheck/00install.out
##############################################################################
##############################################################################
###
### Running command:
###
### /Library/Frameworks/R.framework/Resources/bin/R CMD INSTALL SpliceWiz
###
##############################################################################
##############################################################################
* installing to library ‘/Library/Frameworks/R.framework/Versions/4.4-arm64/Resources/library’
* installing *source* package ‘SpliceWiz’ ...
** using staged installation
Configuring without OpenMP for MacOS
** libs
using C++ compiler: ‘Apple clang version 15.0.0 (clang-1500.0.40.1)’
using C++11
using SDK: ‘MacOSX11.3.sdk’
clang++ -arch arm64 -std=gnu++11 -I"/Library/Frameworks/R.framework/Resources/include" -DNDEBUG -I'/Library/Frameworks/R.framework/Versions/4.4-arm64/Resources/library/ompBAM/include' -I'/Library/Frameworks/R.framework/Versions/4.4-arm64/Resources/library/Rcpp/include' -I'/Library/Frameworks/R.framework/Versions/4.4-arm64/Resources/library/RcppProgress/include' -I/opt/R/arm64/include -DSPLICEWIZ -fPIC -falign-functions=64 -Wall -g -O2 -c BAM2blocks.cpp -o BAM2blocks.o
clang++ -arch arm64 -std=gnu++11 -I"/Library/Frameworks/R.framework/Resources/include" -DNDEBUG -I'/Library/Frameworks/R.framework/Versions/4.4-arm64/Resources/library/ompBAM/include' -I'/Library/Frameworks/R.framework/Versions/4.4-arm64/Resources/library/Rcpp/include' -I'/Library/Frameworks/R.framework/Versions/4.4-arm64/Resources/library/RcppProgress/include' -I/opt/R/arm64/include -DSPLICEWIZ -fPIC -falign-functions=64 -Wall -g -O2 -c FastaReader.cpp -o FastaReader.o
clang++ -arch arm64 -std=gnu++11 -I"/Library/Frameworks/R.framework/Resources/include" -DNDEBUG -I'/Library/Frameworks/R.framework/Versions/4.4-arm64/Resources/library/ompBAM/include' -I'/Library/Frameworks/R.framework/Versions/4.4-arm64/Resources/library/Rcpp/include' -I'/Library/Frameworks/R.framework/Versions/4.4-arm64/Resources/library/RcppProgress/include' -I/opt/R/arm64/include -DSPLICEWIZ -fPIC -falign-functions=64 -Wall -g -O2 -c FragmentBlocks.cpp -o FragmentBlocks.o
clang++ -arch arm64 -std=gnu++11 -I"/Library/Frameworks/R.framework/Resources/include" -DNDEBUG -I'/Library/Frameworks/R.framework/Versions/4.4-arm64/Resources/library/ompBAM/include' -I'/Library/Frameworks/R.framework/Versions/4.4-arm64/Resources/library/Rcpp/include' -I'/Library/Frameworks/R.framework/Versions/4.4-arm64/Resources/library/RcppProgress/include' -I/opt/R/arm64/include -DSPLICEWIZ -fPIC -falign-functions=64 -Wall -g -O2 -c GZTools.cpp -o GZTools.o
clang++ -arch arm64 -std=gnu++11 -I"/Library/Frameworks/R.framework/Resources/include" -DNDEBUG -I'/Library/Frameworks/R.framework/Versions/4.4-arm64/Resources/library/ompBAM/include' -I'/Library/Frameworks/R.framework/Versions/4.4-arm64/Resources/library/Rcpp/include' -I'/Library/Frameworks/R.framework/Versions/4.4-arm64/Resources/library/RcppProgress/include' -I/opt/R/arm64/include -DSPLICEWIZ -fPIC -falign-functions=64 -Wall -g -O2 -c RcppExports.cpp -o RcppExports.o
clang++ -arch arm64 -std=gnu++11 -I"/Library/Frameworks/R.framework/Resources/include" -DNDEBUG -I'/Library/Frameworks/R.framework/Versions/4.4-arm64/Resources/library/ompBAM/include' -I'/Library/Frameworks/R.framework/Versions/4.4-arm64/Resources/library/Rcpp/include' -I'/Library/Frameworks/R.framework/Versions/4.4-arm64/Resources/library/RcppProgress/include' -I/opt/R/arm64/include -DSPLICEWIZ -fPIC -falign-functions=64 -Wall -g -O2 -c ReadBlockProcessor.cpp -o ReadBlockProcessor.o
clang++ -arch arm64 -std=gnu++11 -I"/Library/Frameworks/R.framework/Resources/include" -DNDEBUG -I'/Library/Frameworks/R.framework/Versions/4.4-arm64/Resources/library/ompBAM/include' -I'/Library/Frameworks/R.framework/Versions/4.4-arm64/Resources/library/Rcpp/include' -I'/Library/Frameworks/R.framework/Versions/4.4-arm64/Resources/library/RcppProgress/include' -I/opt/R/arm64/include -DSPLICEWIZ -fPIC -falign-functions=64 -Wall -g -O2 -c ReadBlockProcessor_CoverageBlocks.cpp -o ReadBlockProcessor_CoverageBlocks.o
ReadBlockProcessor_CoverageBlocks.cpp:251:16: warning: variable 'len' set but not used [-Wunused-but-set-variable]
unsigned int len=0;
^
1 warning generated.
clang++ -arch arm64 -std=gnu++11 -I"/Library/Frameworks/R.framework/Resources/include" -DNDEBUG -I'/Library/Frameworks/R.framework/Versions/4.4-arm64/Resources/library/ompBAM/include' -I'/Library/Frameworks/R.framework/Versions/4.4-arm64/Resources/library/Rcpp/include' -I'/Library/Frameworks/R.framework/Versions/4.4-arm64/Resources/library/RcppProgress/include' -I/opt/R/arm64/include -DSPLICEWIZ -fPIC -falign-functions=64 -Wall -g -O2 -c ReadBlockProcessor_FragmentsMap.cpp -o ReadBlockProcessor_FragmentsMap.o
clang++ -arch arm64 -std=gnu++11 -I"/Library/Frameworks/R.framework/Resources/include" -DNDEBUG -I'/Library/Frameworks/R.framework/Versions/4.4-arm64/Resources/library/ompBAM/include' -I'/Library/Frameworks/R.framework/Versions/4.4-arm64/Resources/library/Rcpp/include' -I'/Library/Frameworks/R.framework/Versions/4.4-arm64/Resources/library/RcppProgress/include' -I/opt/R/arm64/include -DSPLICEWIZ -fPIC -falign-functions=64 -Wall -g -O2 -c ReadBlockProcessor_TandemJunctions.cpp -o ReadBlockProcessor_TandemJunctions.o
clang++ -arch arm64 -std=gnu++11 -I"/Library/Frameworks/R.framework/Resources/include" -DNDEBUG -I'/Library/Frameworks/R.framework/Versions/4.4-arm64/Resources/library/ompBAM/include' -I'/Library/Frameworks/R.framework/Versions/4.4-arm64/Resources/library/Rcpp/include' -I'/Library/Frameworks/R.framework/Versions/4.4-arm64/Resources/library/RcppProgress/include' -I/opt/R/arm64/include -DSPLICEWIZ -fPIC -falign-functions=64 -Wall -g -O2 -c covTools.cpp -o covTools.o
clang++ -arch arm64 -std=gnu++11 -I"/Library/Frameworks/R.framework/Resources/include" -DNDEBUG -I'/Library/Frameworks/R.framework/Versions/4.4-arm64/Resources/library/ompBAM/include' -I'/Library/Frameworks/R.framework/Versions/4.4-arm64/Resources/library/Rcpp/include' -I'/Library/Frameworks/R.framework/Versions/4.4-arm64/Resources/library/RcppProgress/include' -I/opt/R/arm64/include -DSPLICEWIZ -fPIC -falign-functions=64 -Wall -g -O2 -c main.cpp -o main.o
clang++ -arch arm64 -std=gnu++11 -I"/Library/Frameworks/R.framework/Resources/include" -DNDEBUG -I'/Library/Frameworks/R.framework/Versions/4.4-arm64/Resources/library/ompBAM/include' -I'/Library/Frameworks/R.framework/Versions/4.4-arm64/Resources/library/Rcpp/include' -I'/Library/Frameworks/R.framework/Versions/4.4-arm64/Resources/library/RcppProgress/include' -I/opt/R/arm64/include -DSPLICEWIZ -fPIC -falign-functions=64 -Wall -g -O2 -c swEngine.cpp -o swEngine.o
clang++ -arch arm64 -std=gnu++11 -I"/Library/Frameworks/R.framework/Resources/include" -DNDEBUG -I'/Library/Frameworks/R.framework/Versions/4.4-arm64/Resources/library/ompBAM/include' -I'/Library/Frameworks/R.framework/Versions/4.4-arm64/Resources/library/Rcpp/include' -I'/Library/Frameworks/R.framework/Versions/4.4-arm64/Resources/library/RcppProgress/include' -I/opt/R/arm64/include -DSPLICEWIZ -fPIC -falign-functions=64 -Wall -g -O2 -c synthReadGenerator.cpp -o synthReadGenerator.o
clang++ -arch arm64 -std=gnu++11 -dynamiclib -Wl,-headerpad_max_install_names -undefined dynamic_lookup -L/Library/Frameworks/R.framework/Resources/lib -L/opt/R/arm64/lib -o SpliceWiz.so BAM2blocks.o FastaReader.o FragmentBlocks.o GZTools.o RcppExports.o ReadBlockProcessor.o ReadBlockProcessor_CoverageBlocks.o ReadBlockProcessor_FragmentsMap.o ReadBlockProcessor_TandemJunctions.o covTools.o main.o swEngine.o synthReadGenerator.o -DSPLICEWIZ -F/Library/Frameworks/R.framework/.. -framework R -Wl,-framework -Wl,CoreFoundation
installing to /Library/Frameworks/R.framework/Versions/4.4-arm64/Resources/library/00LOCK-SpliceWiz/00new/SpliceWiz/libs
** R
** inst
** byte-compile and prepare package for lazy loading
** help
*** installing help indices
** building package indices
** installing vignettes
** testing if installed package can be loaded from temporary location
** checking absolute paths in shared objects and dynamic libraries
** testing if installed package can be loaded from final location
** testing if installed package keeps a record of temporary installation path
* DONE (SpliceWiz)
SpliceWiz.Rcheck/tests/testthat.Rout
R version 4.4.1 (2024-06-14) -- "Race for Your Life"
Copyright (C) 2024 The R Foundation for Statistical Computing
Platform: aarch64-apple-darwin20
R is free software and comes with ABSOLUTELY NO WARRANTY.
You are welcome to redistribute it under certain conditions.
Type 'license()' or 'licence()' for distribution details.
R is a collaborative project with many contributors.
Type 'contributors()' for more information and
'citation()' on how to cite R or R packages in publications.
Type 'demo()' for some demos, 'help()' for on-line help, or
'help.start()' for an HTML browser interface to help.
Type 'q()' to quit R.
> library(testthat)
> library(SpliceWiz)
Loading required package: NxtIRFdata
SpliceWiz package loaded with 2 threads
Use setSWthreads() to set the number of SpliceWiz threads
>
> test_check("SpliceWiz")
Loading required package: Rsubread
Oct 18 13:53:00 Converting FASTA to local TwoBitFile...done
Oct 18 13:53:02 Connecting to genome TwoBitFile...done
Oct 18 13:53:02 Making local copy of GTF file...done
Oct 18 13:53:02 Extracting temp genome FASTA from TwoBit file
Oct 18 13:53:03 Generating synthetic reads, saving to /private/tmp/RtmplvHVYN/refWithMapExcl/Mappability/Reads.fa
0% 10 20 30 40 50 60 70 80 90 100%
[----|----|----|----|----|----|----|----|----|----|
**************************************************|
10145 synthetic reads generated
Oct 18 13:53:03 Cleaning temp genome / gene annotation files
========== _____ _ _ ____ _____ ______ _____
===== / ____| | | | _ \| __ \| ____| /\ | __ \
===== | (___ | | | | |_) | |__) | |__ / \ | | | |
==== \___ \| | | | _ <| _ /| __| / /\ \ | | | |
==== ____) | |__| | |_) | | \ \| |____ / ____ \| |__| |
========== |_____/ \____/|____/|_| \_\______/_/ \_\_____/
Rsubread 2.18.0
//================================= setting ==================================\\
|| ||
|| Index name : reference_index ||
|| Index space : base space ||
|| Index split : no-split ||
|| Repeat threshold : 100 repeats ||
|| Gapped index : no ||
|| ||
|| Free / total memory : 25.7GB / 64.0GB ||
|| ||
|| Input files : 1 file in total ||
|| o genome.fa ||
|| ||
\\============================================================================//
//================================= Running ==================================\\
|| ||
|| Check the integrity of provided reference sequences ... ||
|| No format issues were found ||
|| Scan uninformative subreads in reference sequences ... ||
|| Estimate the index size... ||
|| 8%, 0 mins elapsed, rate=81.7k bps/s ||
|| 16%, 0 mins elapsed, rate=154.7k bps/s ||
|| 24%, 0 mins elapsed, rate=213.0k bps/s ||
|| 33%, 0 mins elapsed, rate=272.4k bps/s ||
|| 41%, 0 mins elapsed, rate=331.0k bps/s ||
|| 49%, 0 mins elapsed, rate=387.6k bps/s ||
|| 58%, 0 mins elapsed, rate=442.7k bps/s ||
|| 66%, 0 mins elapsed, rate=495.9k bps/s ||
|| 74%, 0 mins elapsed, rate=540.7k bps/s ||
|| 83%, 0 mins elapsed, rate=588.0k bps/s ||
|| 91%, 0 mins elapsed, rate=635.1k bps/s ||
|| 3.0 GB of memory is needed for index building. ||
|| Build the index... ||
|| 8%, 0 mins elapsed, rate=5.6k bps/s ||
|| 16%, 0 mins elapsed, rate=11.1k bps/s ||
|| 24%, 0 mins elapsed, rate=16.6k bps/s ||
|| 33%, 0 mins elapsed, rate=22.0k bps/s ||
|| 41%, 0 mins elapsed, rate=27.4k bps/s ||
|| 49%, 0 mins elapsed, rate=32.7k bps/s ||
|| 58%, 0 mins elapsed, rate=38.0k bps/s ||
|| 66%, 0 mins elapsed, rate=43.2k bps/s ||
|| 74%, 0 mins elapsed, rate=48.3k bps/s ||
|| 83%, 0 mins elapsed, rate=53.5k bps/s ||
|| 91%, 0 mins elapsed, rate=58.6k bps/s ||
|| Save current index block... ||
|| [ 0.0% finished ] ||
|| [ 10.0% finished ] ||
|| [ 20.0% finished ] ||
|| [ 30.0% finished ] ||
|| [ 40.0% finished ] ||
|| [ 50.0% finished ] ||
|| [ 60.0% finished ] ||
|| [ 70.0% finished ] ||
|| [ 80.0% finished ] ||
|| [ 90.0% finished ] ||
|| [ 100.0% finished ] ||
|| ||
|| Total running time: 0.3 minutes. ||
|| Index ./reference_index was successfully built. ||
|| ||
\\============================================================================//
========== _____ _ _ ____ _____ ______ _____
===== / ____| | | | _ \| __ \| ____| /\ | __ \
===== | (___ | | | | |_) | |__) | |__ / \ | | | |
==== \___ \| | | | _ <| _ /| __| / /\ \ | | | |
==== ____) | |__| | |_) | | \ \| |____ / ____ \| |__| |
========== |_____/ \____/|____/|_| \_\______/_/ \_\_____/
Rsubread 2.18.0
//================================= setting ==================================\\
|| ||
|| Function : Read alignment + Junction detection (RNA-Seq) ||
|| Input file : Reads.fa ||
|| Output file : AlignedReads.bam (BAM) ||
|| Index name : reference_index ||
|| ||
|| ------------------------------------ ||
|| ||
|| Threads : 1 ||
|| Phred offset : 33 ||
|| Min votes : 1 / 14 ||
|| Max mismatches : 3 ||
|| Max indel length : 5 ||
|| Report multi-mapping reads : yes ||
|| Max alignments per multi-mapping read : 1 ||
|| Annotations : transcripts.gtf (GTF) ||
|| ||
\\============================================================================//
//================ Running (18-Oct-2024 13:53:23, pid=70673) =================\\
|| ||
|| Check the input reads. ||
|| The input file contains base space reads. ||
|| Initialise the memory objects. ||
|| Estimate the mean read length. ||
|| Create the output BAM file. ||
|| Check the index. ||
|| Init the voting space. ||
|| Load the annotation file. ||
|| 538 annotation records were loaded. ||
|| Global environment is initialised. ||
|| Load the 1-th index block... ||
|| The index block has been loaded. ||
|| Start read mapping in chunk. ||
|| 65% completed, 6.5 mins elapsed, rate=10.5k reads per second ||
|| 83% completed, 6.5 mins elapsed, rate=0.0k reads per second ||
|| 99% completed, 6.5 mins elapsed, rate=0.0k reads per second ||
|| ||
|| Completed successfully. ||
|| ||
\\==================================== ====================================//
//================================ Summary =================================\\
|| ||
|| Total reads : 10,145 ||
|| Mapped : 10,145 (100.0%) ||
|| Uniquely mapped : 10,145 ||
|| Multi-mapping : 0 ||
|| ||
|| Unmapped : 0 ||
|| ||
|| Junctions : 0 ||
|| Indels : 1 ||
|| ||
|| Running time : 6.5 minutes ||
|| ||
\\============================================================================//
Oct 18 13:59:51 Calculating Mappability Exclusion regions from: /tmp/RtmplvHVYN/refWithMapExcl/Mappability/AlignedReads.bam
Calculating Mappability Exclusions: /private/tmp/RtmplvHVYN/refWithMapExcl/Mappability/AlignedReads.bam
0% 10 20 30 40 50 60 70 80 90 100%
[----|----|----|----|----|----|----|----|----|----|
**************************************************|
Performing final sort of fragment maps
Writing Mappability Exclusions
**************************************************|
0% 10 20 30 40 50 60 70 80 90 100%
[----|----|----|----|----|----|----|----|----|----|
**************************************************|
SpliceWiz was compiled without OpenMP
Oct 18 13:59:56 Reference generated without non-polyA reference
Oct 18 13:59:56 Reference generated without Mappability reference
Oct 18 13:59:56 Reference generated without Blacklist exclusion
Oct 18 13:59:56 Converting FASTA to local TwoBitFile...done
Oct 18 13:59:57 Connecting to genome TwoBitFile...done
Oct 18 13:59:57 Making local copy of GTF file...done
Oct 18 13:59:57 Reading source GTF file...done
Oct 18 13:59:58 Processing gtf file...
...genes
...transcripts
...CDS
...exons
done
Oct 18 13:59:59 Gene ontology not prepared for this reference
Oct 18 14:00:02 Processing introns...
...data
...basic annotations
...splice motifs
...other info
...defining flanking exon clusters
done
Oct 18 14:00:07 Generating processBAM reference
...prepping data
...determining measurable introns (directional)
...determining measurable introns (non-directional)
...writing ref-cover.bed
...writing ref-ROI.bed
...writing ref-read-continues.ref
...writing ref-sj.ref
...writing ref-tj.ref
processBAM reference generated
Oct 18 14:00:16 Predicting NMD transcripts from genome sequence
...exonic transcripts
...retained introns
|
| | 0%
|
|======================================================================| 100%
done
Oct 18 14:00:19 Annotating Splice Events
Annotating Mutually-Exclusive-Exon Splice Events...done
Annotating Skipped-Exon Splice Events...done
Annotating Alternate 5' / 3' Splice Site Splice Events...done
Annotating Alternate First / Last Exon Splice Events...done
Annotating known retained introns...done
Oct 18 14:00:21 Splice Annotations Filtered
Oct 18 14:00:22 Translating Alternate Splice Peptides...done
Oct 18 14:00:23 Splice Annotations finished
Reference build finished
Oct 18 14:00:24 Running SpliceWiz processBAM
Oct 18 14:00:26 Using MulticoreParam 1 threads
Reading reference file
Allocating memory to 1 threads for SpliceWiz (ompBAM)...initialized (0 milliseconds)
Processing BAM file /private/tmp/RtmplvHVYN/02H003.bam
0% 10 20 30 40 50 60 70 80 90 100%
[----|----|----|----|----|----|----|----|----|----|
**************************************************|
Performing final sort of fragment maps
Writing COV file
**************************************************|
0% 10 20 30 40 50 60 70 80 90 100%
[----|----|----|----|----|----|----|----|----|----|
**************************************************|
Writing output file
/private/tmp/RtmplvHVYN/02H003.bam processed (572 milliseconds)
Oct 18 14:00:26 SpliceWiz processBAM processed RtmplvHVYN/02H003.bam
Oct 18 14:00:26 Running SpliceWiz processBAM
Oct 18 14:00:28 Using MulticoreParam 1 threads
Reading reference file
Allocating memory to 1 threads for SpliceWiz (ompBAM)...initialized (0 milliseconds)
Processing BAM file /private/tmp/RtmplvHVYN/02H003.bam
0% 10 20 30 40 50 60 70 80 90 100%
[----|----|----|----|----|----|----|----|----|----|
**************************************************|
Performing final sort of fragment maps
Writing COV file
**************************************************|
0% 10 20 30 40 50 60 70 80 90 100%
[----|----|----|----|----|----|----|----|----|----|
**************************************************|
Writing output file
/private/tmp/RtmplvHVYN/02H003.bam processed (559 milliseconds)
Oct 18 14:00:28 SpliceWiz processBAM processed RtmplvHVYN/02H003.bam
Oct 18 14:00:29 Reference generated without non-polyA reference
Oct 18 14:00:29 Reference generated without Mappability reference
Oct 18 14:00:29 Reference generated without Blacklist exclusion
Oct 18 14:00:29 Converting FASTA to local TwoBitFile...done
Oct 18 14:00:30 Connecting to genome TwoBitFile...done
Oct 18 14:00:30 Making local copy of GTF file...done
Oct 18 14:00:30 Reading source GTF file...done
Oct 18 14:00:31 Processing gtf file...
...genes
...transcripts
...CDS
Oct 18 14:00:31 No protein information detected in reference! For full functionality, ensure there are valid entries with type == `CDS` in the gtf file. Protein reference and NMD annotation is skipped.
...exons
done
Oct 18 14:00:31 Gene ontology not prepared for this reference
Oct 18 14:00:34 Processing introns...
...data
...basic annotations
...splice motifs
...other info
...defining flanking exon clusters
done
Oct 18 14:00:40 Generating processBAM reference
...prepping data
...determining measurable introns (directional)
...determining measurable introns (non-directional)
...writing ref-cover.bed
...writing ref-ROI.bed
...writing ref-read-continues.ref
...writing ref-sj.ref
...writing ref-tj.ref
processBAM reference generated
Oct 18 14:00:48 Annotating Splice Events
Annotating Mutually-Exclusive-Exon Splice Events...done
Annotating Skipped-Exon Splice Events...done
Annotating Alternate 5' / 3' Splice Site Splice Events...done
Annotating Alternate First / Last Exon Splice Events...done
Annotating known retained introns...done
Oct 18 14:00:50 Splice Annotations Filtered
Reference build finished
Oct 18 14:00:53 Running SpliceWiz processBAM
Oct 18 14:00:54 Using MulticoreParam 1 threads
Allocating memory to 1 threads for SpliceWiz (ompBAM)...initialized (0 milliseconds)
/private/tmp/RtmplvHVYN/02H003.bam processed (547 milliseconds)
Oct 18 14:00:55 SpliceWiz processBAM processed RtmplvHVYN/02H003.bam
Allocating memory to 1 threads for SpliceWiz (ompBAM)...initialized (1 milliseconds)
/private/tmp/RtmplvHVYN/02H025.bam processed (450 milliseconds)
Oct 18 14:00:55 SpliceWiz processBAM processed RtmplvHVYN/02H025.bam
Allocating memory to 1 threads for SpliceWiz (ompBAM)...initialized (0 milliseconds)
/private/tmp/RtmplvHVYN/02H026.bam processed (668 milliseconds)
Oct 18 14:00:56 SpliceWiz processBAM processed RtmplvHVYN/02H026.bam
Allocating memory to 1 threads for SpliceWiz (ompBAM)...initialized (0 milliseconds)
/private/tmp/RtmplvHVYN/02H033.bam processed (678 milliseconds)
Oct 18 14:00:57 SpliceWiz processBAM processed RtmplvHVYN/02H033.bam
Allocating memory to 1 threads for SpliceWiz (ompBAM)...initialized (1 milliseconds)
/private/tmp/RtmplvHVYN/02H043.bam processed (415 milliseconds)
Oct 18 14:00:57 SpliceWiz processBAM processed RtmplvHVYN/02H043.bam
Allocating memory to 1 threads for SpliceWiz (ompBAM)...initialized (0 milliseconds)
/private/tmp/RtmplvHVYN/02H046.bam processed (626 milliseconds)
Oct 18 14:00:58 SpliceWiz processBAM processed RtmplvHVYN/02H046.bam
Oct 18 14:00:59 Using MulticoreParam 1 threads
Oct 18 14:00:59 Validating Experiment; checking COV files...
Oct 18 14:00:59 Compiling Sample Stats
Oct 18 14:00:59 Compiling Junction List...merging...done
Oct 18 14:01:01 Compiling Junction Stats...merging...done
Oct 18 14:01:11 Compiling Intron Retention List...done
Oct 18 14:01:13 Tidying up splice junctions and intron retentions...
...annotating splice junctions
...copying splicing reference
...grouping splice junctions
...grouping introns
...loading splice events
...compiling rowEvents
done
Oct 18 14:01:27 Generating NxtSE assays
Oct 18 14:01:28 Using MulticoreParam 1 threads
|
| | 0%
|
|============ | 17%
|
|======================= | 33%
|
|=================================== | 50%
|
|=============================================== | 67%
|
|========================================================== | 83%
|
|======================================================================| 100%
Oct 18 14:01:48 Building Final NxtSE Object
Oct 18 14:01:48 ...consolidating assays to H5 file
Oct 18 14:01:50 ...packaging reference
Oct 18 14:01:50 ...synthesising NxtSE
Oct 18 14:01:51 ...determining how overlapping introns should be removed
Oct 18 14:01:54 SpliceWiz (NxtSE) Collation Finished
Oct 18 14:01:54 Loading NxtSE object from file...
Oct 18 14:01:54 ...loading reference (NxtSE)
Oct 18 14:01:54 ...linking assays
Oct 18 14:01:54 ...linking COV files
Oct 18 14:01:54 ...loading rowData
Oct 18 14:01:55 ...removing overlapping introns...
Oct 18 14:01:55 NxtSE loaded
Oct 18 14:01:55 SpliceWiz reference already exists in given directory
Oct 18 14:01:55 Running SpliceWiz processBAM
Oct 18 14:01:56 Using MulticoreParam 1 threads
Allocating memory to 1 threads for SpliceWiz (ompBAM)...initialized (0 milliseconds)
/private/tmp/RtmplvHVYN/02H003.bam processed (576 milliseconds)
Oct 18 14:01:57 SpliceWiz processBAM processed RtmplvHVYN/02H003.bam
Allocating memory to 1 threads for SpliceWiz (ompBAM)...initialized (0 milliseconds)
/private/tmp/RtmplvHVYN/02H025.bam processed (446 milliseconds)
Oct 18 14:01:57 SpliceWiz processBAM processed RtmplvHVYN/02H025.bam
Allocating memory to 1 threads for SpliceWiz (ompBAM)...initialized (0 milliseconds)
/private/tmp/RtmplvHVYN/02H026.bam processed (668 milliseconds)
Oct 18 14:01:58 SpliceWiz processBAM processed RtmplvHVYN/02H026.bam
Allocating memory to 1 threads for SpliceWiz (ompBAM)...initialized (0 milliseconds)
/private/tmp/RtmplvHVYN/02H033.bam processed (673 milliseconds)
Oct 18 14:01:59 SpliceWiz processBAM processed RtmplvHVYN/02H033.bam
Allocating memory to 1 threads for SpliceWiz (ompBAM)...initialized (0 milliseconds)
/private/tmp/RtmplvHVYN/02H043.bam processed (447 milliseconds)
Oct 18 14:01:59 SpliceWiz processBAM processed RtmplvHVYN/02H043.bam
Allocating memory to 1 threads for SpliceWiz (ompBAM)...initialized (0 milliseconds)
/private/tmp/RtmplvHVYN/02H046.bam processed (618 milliseconds)
Oct 18 14:02:00 SpliceWiz processBAM processed RtmplvHVYN/02H046.bam
Oct 18 14:02:01 Using MulticoreParam 1 threads
Oct 18 14:02:01 Validating Experiment; checking COV files...
Oct 18 14:02:01 Compiling Sample Stats
Oct 18 14:02:01 Compiling Junction List...merging...done
Oct 18 14:02:03 Compiling Junction Stats...merging...done
Oct 18 14:02:14 Compiling Intron Retention List...done
Oct 18 14:02:15 Compiling Tandem Junction List...merging...done
Oct 18 14:02:17 Tidying up splice junctions and intron retentions...
...annotating splice junctions
...looking for novel exons
Oct 18 14:02:21 Assembling novel splicing reference:
...loading reference FASTA/GTF
...injecting novel transcripts to GTF
...processing GTF
...processing introns from GTF
...annotating alternative splicing events
done
Oct 18 14:02:35 Tidying up splice junctions and intron retentions (part 2)...
...grouping splice junctions
...grouping introns
...loading splice events
...compiling rowEvents
done
Oct 18 14:02:46 Generating NxtSE assays
Oct 18 14:02:48 Using MulticoreParam 1 threads
|
| | 0%
|
|============ | 17%
|
|======================= | 33%
|
|=================================== | 50%
|
|=============================================== | 67%
|
|========================================================== | 83%
|
|======================================================================| 100%
Oct 18 14:03:08 Building Final NxtSE Object
Oct 18 14:03:08 ...consolidating assays to H5 file
Oct 18 14:03:10 ...packaging reference
Oct 18 14:03:10 ...synthesising NxtSE
Oct 18 14:03:10 ...determining how overlapping introns should be removed
Oct 18 14:03:14 SpliceWiz (NxtSE) Collation Finished
Oct 18 14:03:14 Loading NxtSE object from file...
Oct 18 14:03:14 ...loading reference (NxtSE)
Oct 18 14:03:14 ...linking assays
Oct 18 14:03:14 ...linking COV files
Oct 18 14:03:14 ...loading rowData
Oct 18 14:03:14 ...removing overlapping introns...
Oct 18 14:03:14 NxtSE loaded
Oct 18 14:03:14 SpliceWiz reference already exists in given directory
Oct 18 14:03:14 Running SpliceWiz processBAM
Oct 18 14:03:16 Using MulticoreParam 1 threads
Allocating memory to 1 threads for SpliceWiz (ompBAM)...initialized (0 milliseconds)
/private/tmp/RtmplvHVYN/02H003.bam processed (542 milliseconds)
Oct 18 14:03:17 SpliceWiz processBAM processed RtmplvHVYN/02H003.bam
Allocating memory to 1 threads for SpliceWiz (ompBAM)...initialized (0 milliseconds)
/private/tmp/RtmplvHVYN/02H025.bam processed (438 milliseconds)
Oct 18 14:03:17 SpliceWiz processBAM processed RtmplvHVYN/02H025.bam
Allocating memory to 1 threads for SpliceWiz (ompBAM)...initialized (0 milliseconds)
/private/tmp/RtmplvHVYN/02H026.bam processed (651 milliseconds)
Oct 18 14:03:18 SpliceWiz processBAM processed RtmplvHVYN/02H026.bam
Allocating memory to 1 threads for SpliceWiz (ompBAM)...initialized (0 milliseconds)
/private/tmp/RtmplvHVYN/02H033.bam processed (660 milliseconds)
Oct 18 14:03:18 SpliceWiz processBAM processed RtmplvHVYN/02H033.bam
Allocating memory to 1 threads for SpliceWiz (ompBAM)...initialized (0 milliseconds)
/private/tmp/RtmplvHVYN/02H043.bam processed (443 milliseconds)
Oct 18 14:03:19 SpliceWiz processBAM processed RtmplvHVYN/02H043.bam
Allocating memory to 1 threads for SpliceWiz (ompBAM)...initialized (0 milliseconds)
/private/tmp/RtmplvHVYN/02H046.bam processed (636 milliseconds)
Oct 18 14:03:19 SpliceWiz processBAM processed RtmplvHVYN/02H046.bam
Oct 18 14:03:21 Using MulticoreParam 1 threads
Oct 18 14:03:21 Validating Experiment; checking COV files...
Oct 18 14:03:21 Compiling Sample Stats
Oct 18 14:03:21 Compiling Junction List...merging...done
Oct 18 14:03:23 Compiling Junction Stats...merging...done
Oct 18 14:03:33 Compiling Intron Retention List...done
Oct 18 14:03:34 Tidying up splice junctions and intron retentions...
...annotating splice junctions
...copying splicing reference
...grouping splice junctions
...grouping introns
...loading splice events
...compiling rowEvents
done
Oct 18 14:03:49 Generating NxtSE assays
Oct 18 14:03:50 Using MulticoreParam 1 threads
|
| | 0%
|
|============ | 17%
|
|======================= | 33%
|
|=================================== | 50%
|
|=============================================== | 67%
|
|========================================================== | 83%
|
|======================================================================| 100%
Oct 18 14:04:11 Building Final NxtSE Object
Oct 18 14:04:11 ...consolidating assays to H5 file
Oct 18 14:04:13 ...packaging reference
Oct 18 14:04:13 ...synthesising NxtSE
Oct 18 14:04:13 ...determining how overlapping introns should be removed
Oct 18 14:04:16 SpliceWiz (NxtSE) Collation Finished
Oct 18 14:04:16 Loading NxtSE object from file...
Oct 18 14:04:16 ...loading reference (NxtSE)
Oct 18 14:04:16 ...linking assays
Oct 18 14:04:16 ...linking COV files
Oct 18 14:04:16 ...loading rowData
Oct 18 14:04:16 ...removing overlapping introns...
Oct 18 14:04:17 NxtSE loaded
path paired strand depth mean_frag_size
02H003 ../SpliceWiz_Output/02H003.txt.gz TRUE -1 106256 149.3108
02H025 ../SpliceWiz_Output/02H025.txt.gz TRUE -1 84872 151.5914
02H026 ../SpliceWiz_Output/02H026.txt.gz TRUE -1 131514 150.3238
02H033 ../SpliceWiz_Output/02H033.txt.gz TRUE -1 129013 153.9754
02H043 ../SpliceWiz_Output/02H043.txt.gz TRUE -1 80254 155.4004
02H046 ../SpliceWiz_Output/02H046.txt.gz TRUE -1 120174 151.2840
directionality_strength Intergenic_Fraction rRNA_Fraction
02H003 9850 0 0
02H025 9848 0 0
02H026 9848 0 0
02H033 9855 0 0
02H043 9841 0 0
02H046 9857 0 0
NonPolyA_Fraction Mitochondrial_Fraction Unanno_Jn_Fraction
02H003 0 0 0.013449472
02H025 0 0 0.011203515
02H026 0 0 0.007282382
02H033 0 0 0.006310241
02H043 0 0 0.005871040
02H046 0 0 0.009819533
NMD_Jn_Fraction Fraction_Splice_Reads Fraction_Span_Reads IRBurden_clean
02H003 0.019509970 0.3506908 0.1735243 0.05796583
02H025 0.019360162 0.3712414 0.1591691 0.03963531
02H026 0.004298323 0.3980261 0.1615037 0.02576549
02H033 0.007705562 0.4003550 0.1734089 0.03090263
02H043 0.028069104 0.3671219 0.1807511 0.03762138
02H046 0.010542303 0.3725598 0.1603508 0.05099352
IRBurden_exitrons IRBurden_clean_unstranded IRBurden_exitrons_unstranded
02H003 0.1291810 0.03844293 0.1296020
02H025 0.1192351 0.02730399 0.1194005
02H026 0.1231055 0.02010410 0.1231939
02H033 0.1378958 0.02300500 0.1380215
02H043 0.1392935 0.02286515 0.1397365
02H046 0.1132136 0.03359077 0.1133852
IRBurden_antisense
02H003 0.021393335
02H025 0.013191532
02H026 0.006007119
02H033 0.008453742
02H043 0.015837096
02H046 0.019043703
MD5 is fcdc53e0f7fbd843529077ebd26dd058
Oct 18 14:04:21 Reference generated without non-polyA reference
Oct 18 14:04:21 Reference generated without Mappability reference
Oct 18 14:04:21 Reference generated without Blacklist exclusion
Oct 18 14:04:21 Converting FASTA to local TwoBitFile...done
Oct 18 14:04:22 Connecting to genome TwoBitFile...done
Oct 18 14:04:22 Making local copy of GTF file...done
Oct 18 14:04:22 Reading source GTF file...done
Oct 18 14:04:22 Processing gtf file...
...genes
...transcripts
...CDS
...exons
done
Oct 18 14:04:23 Gene ontology not prepared for this reference
Oct 18 14:04:26 Processing introns...
...data
...basic annotations
...splice motifs
...other info
...defining flanking exon clusters
done
Oct 18 14:04:31 Generating processBAM reference
...prepping data
...determining measurable introns (directional)
...determining measurable introns (non-directional)
...writing ref-cover.bed
...writing ref-ROI.bed
...writing ref-read-continues.ref
...writing ref-sj.ref
...writing ref-tj.ref
processBAM reference generated
Oct 18 14:04:40 Predicting NMD transcripts from genome sequence
...exonic transcripts
...retained introns
|
| | 0%
|
|======================================================================| 100%
done
Oct 18 14:04:43 Annotating Splice Events
Annotating Mutually-Exclusive-Exon Splice Events...done
Annotating Skipped-Exon Splice Events...done
Annotating Alternate 5' / 3' Splice Site Splice Events...done
Annotating Alternate First / Last Exon Splice Events...done
Annotating known retained introns...done
Oct 18 14:04:45 Splice Annotations Filtered
Oct 18 14:04:47 Translating Alternate Splice Peptides...done
Oct 18 14:04:47 Splice Annotations finished
Reference build finished
[ FAIL 0 | WARN 0 | SKIP 0 | PASS 47 ]
>
> # bump to trigger r cmd check
>
> proc.time()
user system elapsed
455.439 239.714 728.672
SpliceWiz.Rcheck/SpliceWiz-Ex.timings
| name | user | system | elapsed | |
| ASE-GLM-edgeR | 2.639 | 0.169 | 2.929 | |
| ASE-methods | 37.663 | 0.453 | 39.176 | |
| ASEFilter-class | 0.050 | 0.004 | 0.056 | |
| Build-Reference-methods | 66.499 | 1.668 | 73.308 | |
| Coverage | 0.986 | 0.056 | 1.069 | |
| Gene-ontology-methods | 2.021 | 0.091 | 2.166 | |
| Graphics-User-Interface | 0.000 | 0.000 | 0.001 | |
| Mappability-methods | 3.098 | 0.048 | 3.256 | |
| NxtSE-class | 68.834 | 1.266 | 73.901 | |
| Run_SpliceWiz_Filters | 9.968 | 0.060 | 11.279 | |
| STAR-methods | 0.006 | 0.015 | 0.028 | |
| View-Reference-methods | 0.302 | 0.025 | 0.331 | |
| collateData | 3.394 | 0.087 | 3.641 | |
| coord2GR | 0.028 | 0.003 | 0.032 | |
| covDataObject-class | 1.668 | 0.036 | 1.779 | |
| covPlotObject-class | 22.303 | 0.705 | 24.171 | |
| covPlotly-class | 1.152 | 0.029 | 1.224 | |
| example-SpliceWiz-data | 0.017 | 0.003 | 0.021 | |
| findSamples | 0.007 | 0.004 | 0.012 | |
| isCOV | 0.018 | 0.005 | 0.025 | |
| makeSE | 2.232 | 0.107 | 2.407 | |
| make_plot_data | 0.053 | 0.003 | 0.058 | |
| plotCoverage | 14.575 | 0.191 | 16.422 | |
| processBAM | 5.155 | 1.039 | 4.669 | |
| setSWthreads | 0.004 | 0.010 | 0.024 | |
| theme_white | 0.166 | 0.048 | 0.218 | |