| Back to Multiple platform build/check report for BioC 3.19: simplified long |
|
This page was generated on 2024-05-09 11:41:26 -0400 (Thu, 09 May 2024).
| Hostname | OS | Arch (*) | R version | Installed pkgs |
|---|---|---|---|---|
| nebbiolo1 | Linux (Ubuntu 22.04.3 LTS) | x86_64 | 4.4.0 (2024-04-24) -- "Puppy Cup" | 4748 |
| palomino3 | Windows Server 2022 Datacenter | x64 | 4.4.0 (2024-04-24 ucrt) -- "Puppy Cup" | 4484 |
| lconway | macOS 12.7.1 Monterey | x86_64 | 4.4.0 (2024-04-24) -- "Puppy Cup" | 4514 |
| kunpeng2 | Linux (openEuler 22.03 LTS-SP1) | aarch64 | 4.4.0 beta (2024-04-15 r86425) -- "Puppy Cup" | 4480 |
| Click on any hostname to see more info about the system (e.g. compilers) (*) as reported by 'uname -p', except on Windows and Mac OS X | ||||
| Package 1907/2300 | Hostname | OS / Arch | INSTALL | BUILD | CHECK | BUILD BIN | ||||||||
| Sconify 1.24.0 (landing page) Tyler J Burns
| nebbiolo1 | Linux (Ubuntu 22.04.3 LTS) / x86_64 | OK | OK | OK | |||||||||
| palomino3 | Windows Server 2022 Datacenter / x64 | OK | OK | OK | OK | |||||||||
| lconway | macOS 12.7.1 Monterey / x86_64 | OK | OK | OK | OK | |||||||||
| kunpeng2 | Linux (openEuler 22.03 LTS-SP1) / aarch64 | OK | OK | OK | ||||||||||
| kjohnson3 | macOS 13.6.5 Ventura / arm64 | see weekly results here | ||||||||||||
|
To the developers/maintainers of the Sconify package: - Allow up to 24 hours (and sometimes 48 hours) for your latest push to git@git.bioconductor.org:packages/Sconify.git to reflect on this report. See Troubleshooting Build Report for more information. - Use the following Renviron settings to reproduce errors and warnings. - If 'R CMD check' started to fail recently on the Linux builder(s) over a missing dependency, add the missing dependency to 'Suggests:' in your DESCRIPTION file. See Renviron.bioc for more information. - See Martin Grigorov's blog post for how to debug Linux ARM64 related issues on a x86_64 host. |
| Package: Sconify |
| Version: 1.24.0 |
| Command: /home/biocbuild/R/R-beta-2024-04-15_r86425/bin/R CMD check --install=check:Sconify.install-out.txt --library=/home/biocbuild/R/R-beta-2024-04-15_r86425/site-library --no-vignettes --timings Sconify_1.24.0.tar.gz |
| StartedAt: 2024-05-09 11:43:30 -0000 (Thu, 09 May 2024) |
| EndedAt: 2024-05-09 11:45:46 -0000 (Thu, 09 May 2024) |
| EllapsedTime: 136.2 seconds |
| RetCode: 0 |
| Status: OK |
| CheckDir: Sconify.Rcheck |
| Warnings: 0 |
##############################################################################
##############################################################################
###
### Running command:
###
### /home/biocbuild/R/R-beta-2024-04-15_r86425/bin/R CMD check --install=check:Sconify.install-out.txt --library=/home/biocbuild/R/R-beta-2024-04-15_r86425/site-library --no-vignettes --timings Sconify_1.24.0.tar.gz
###
##############################################################################
##############################################################################
* using log directory ‘/home/biocbuild/bbs-3.19-bioc/meat/Sconify.Rcheck’
* using R version 4.4.0 beta (2024-04-15 r86425)
* using platform: aarch64-unknown-linux-gnu
* R was compiled by
gcc (GCC) 10.3.1
GNU Fortran (GCC) 10.3.1
* running under: openEuler 22.03 (LTS-SP1)
* using session charset: UTF-8
* using option ‘--no-vignettes’
* checking for file ‘Sconify/DESCRIPTION’ ... OK
* checking extension type ... Package
* this is package ‘Sconify’ version ‘1.24.0’
* package encoding: UTF-8
* checking package namespace information ... OK
* checking package dependencies ... OK
* checking if this is a source package ... OK
* checking if there is a namespace ... OK
* checking for hidden files and directories ... OK
* checking for portable file names ... OK
* checking for sufficient/correct file permissions ... OK
* checking whether package ‘Sconify’ can be installed ... OK
* checking installed package size ... OK
* checking package directory ... OK
* checking ‘build’ directory ... OK
* checking DESCRIPTION meta-information ... OK
* checking top-level files ... OK
* checking for left-over files ... OK
* checking index information ... OK
* checking package subdirectories ... OK
* checking code files for non-ASCII characters ... OK
* checking R files for syntax errors ... OK
* checking whether the package can be loaded ... OK
* checking whether the package can be loaded with stated dependencies ... OK
* checking whether the package can be unloaded cleanly ... OK
* checking whether the namespace can be loaded with stated dependencies ... OK
* checking whether the namespace can be unloaded cleanly ... OK
* checking loading without being on the library search path ... OK
* checking dependencies in R code ... OK
* checking S3 generic/method consistency ... OK
* checking replacement functions ... OK
* checking foreign function calls ... OK
* checking R code for possible problems ... OK
* checking Rd files ... OK
* checking Rd metadata ... OK
* checking Rd cross-references ... OK
* checking for missing documentation entries ... OK
* checking for code/documentation mismatches ... OK
* checking Rd \usage sections ... OK
* checking Rd contents ... OK
* checking for unstated dependencies in examples ... OK
* checking contents of ‘data’ directory ... OK
* checking data for non-ASCII characters ... OK
* checking LazyData ... OK
* checking data for ASCII and uncompressed saves ... OK
* checking files in ‘vignettes’ ... OK
* checking examples ... OK
Examples with CPU (user + system) or elapsed time > 5s
user system elapsed
SconeValues 18.101 0.256 18.390
ImputeTesting 4.952 0.044 5.004
* checking for unstated dependencies in ‘tests’ ... OK
* checking tests ...
Running ‘testthat.R’
OK
* checking for unstated dependencies in vignettes ... OK
* checking package vignettes ... OK
* checking running R code from vignettes ... SKIPPED
* checking re-building of vignette outputs ... SKIPPED
* checking PDF version of manual ... OK
* DONE
Status: OK
Sconify.Rcheck/00install.out
############################################################################## ############################################################################## ### ### Running command: ### ### /home/biocbuild/R/R-beta-2024-04-15_r86425/bin/R CMD INSTALL Sconify ### ############################################################################## ############################################################################## * installing to library ‘/home/biocbuild/R/R-beta-2024-04-15_r86425/site-library’ * installing *source* package ‘Sconify’ ... ** using staged installation ** R ** data *** moving datasets to lazyload DB ** inst ** byte-compile and prepare package for lazy loading Note: wrong number of arguments to '/' Note: wrong number of arguments to 'asinh' ** help *** installing help indices ** building package indices ** installing vignettes ** testing if installed package can be loaded from temporary location ** testing if installed package can be loaded from final location ** testing if installed package keeps a record of temporary installation path * DONE (Sconify)
Sconify.Rcheck/tests/testthat.Rout
R version 4.4.0 beta (2024-04-15 r86425) -- "Puppy Cup"
Copyright (C) 2024 The R Foundation for Statistical Computing
Platform: aarch64-unknown-linux-gnu
R is free software and comes with ABSOLUTELY NO WARRANTY.
You are welcome to redistribute it under certain conditions.
Type 'license()' or 'licence()' for distribution details.
R is a collaborative project with many contributors.
Type 'contributors()' for more information and
'citation()' on how to cite R or R packages in publications.
Type 'demo()' for some demos, 'help()' for on-line help, or
'help.start()' for an HTML browser interface to help.
Type 'q()' to quit R.
> library(testthat)
> library(Sconify)
>
> test_check("Sconify")
Read the 100 x 27 data matrix successfully!
OpenMP is working. 1 threads.
Using no_dims = 2, perplexity = 30.000000, and theta = 0.500000
Computing input similarities...
Building tree...
Done in 0.01 seconds (sparsity = 0.967800)!
Learning embedding...
Iteration 50: error is 52.738739 (50 iterations in 0.01 seconds)
Iteration 100: error is 52.210438 (50 iterations in 0.02 seconds)
Iteration 150: error is 49.701348 (50 iterations in 0.02 seconds)
Iteration 200: error is 49.471997 (50 iterations in 0.02 seconds)
Iteration 250: error is 51.287371 (50 iterations in 0.02 seconds)
Iteration 300: error is 1.083016 (50 iterations in 0.01 seconds)
Iteration 350: error is 0.472116 (50 iterations in 0.01 seconds)
Iteration 400: error is 0.271302 (50 iterations in 0.01 seconds)
Iteration 450: error is 0.161506 (50 iterations in 0.01 seconds)
Iteration 500: error is 0.146902 (50 iterations in 0.01 seconds)
Iteration 550: error is 0.143184 (50 iterations in 0.01 seconds)
Iteration 600: error is 0.143501 (50 iterations in 0.01 seconds)
Iteration 650: error is 0.143183 (50 iterations in 0.01 seconds)
Iteration 700: error is 0.141107 (50 iterations in 0.01 seconds)
Iteration 750: error is 0.141219 (50 iterations in 0.01 seconds)
Iteration 800: error is 0.139673 (50 iterations in 0.01 seconds)
Iteration 850: error is 0.141741 (50 iterations in 0.01 seconds)
Iteration 900: error is 0.141089 (50 iterations in 0.01 seconds)
Iteration 950: error is 0.142487 (50 iterations in 0.01 seconds)
Iteration 1000: error is 0.142849 (50 iterations in 0.01 seconds)
Fitting performed in 0.25 seconds.
Read the 1000 x 27 data matrix successfully!
OpenMP is working. 1 threads.
Using no_dims = 2, perplexity = 30.000000, and theta = 0.500000
Computing input similarities...
Building tree...
Done in 0.16 seconds (sparsity = 0.129120)!
Learning embedding...
Iteration 50: error is 64.144377 (50 iterations in 0.58 seconds)
Iteration 100: error is 60.624639 (50 iterations in 0.33 seconds)
Iteration 150: error is 60.321661 (50 iterations in 0.36 seconds)
Iteration 200: error is 60.182711 (50 iterations in 0.38 seconds)
Iteration 250: error is 60.114330 (50 iterations in 0.39 seconds)
Iteration 300: error is 1.341687 (50 iterations in 0.29 seconds)
Iteration 350: error is 1.232959 (50 iterations in 0.29 seconds)
Iteration 400: error is 1.205469 (50 iterations in 0.28 seconds)
Iteration 450: error is 1.190291 (50 iterations in 0.29 seconds)
Iteration 500: error is 1.181112 (50 iterations in 0.29 seconds)
Iteration 550: error is 1.174922 (50 iterations in 0.29 seconds)
Iteration 600: error is 1.170423 (50 iterations in 0.28 seconds)
Iteration 650: error is 1.165463 (50 iterations in 0.27 seconds)
Iteration 700: error is 1.161871 (50 iterations in 0.29 seconds)
Iteration 750: error is 1.157845 (50 iterations in 0.31 seconds)
Iteration 800: error is 1.156111 (50 iterations in 0.31 seconds)
Iteration 850: error is 1.154515 (50 iterations in 0.29 seconds)
Iteration 900: error is 1.152393 (50 iterations in 0.29 seconds)
Iteration 950: error is 1.150913 (50 iterations in 0.30 seconds)
Iteration 1000: error is 1.149234 (50 iterations in 0.30 seconds)
Fitting performed in 6.41 seconds.
[ FAIL 0 | WARN 4 | SKIP 0 | PASS 72 ]
[ FAIL 0 | WARN 4 | SKIP 0 | PASS 72 ]
>
> proc.time()
user system elapsed
31.063 0.599 31.732
Sconify.Rcheck/Sconify-Ex.timings
| name | user | system | elapsed | |
| FcsToTibble | 0.175 | 0.000 | 0.177 | |
| Fnn | 0.303 | 0.144 | 0.448 | |
| GetKnnDe | 0.102 | 0.000 | 0.103 | |
| GetMarkerNames | 0.024 | 0.008 | 0.032 | |
| ImputeTesting | 4.952 | 0.044 | 5.004 | |
| MakeHist | 0.428 | 0.008 | 0.437 | |
| MakeKnnList | 0.501 | 0.028 | 0.530 | |
| MeaningOfLife | 0 | 0 | 0 | |
| ParseMarkers | 0.302 | 0.015 | 0.316 | |
| PostProcessing | 0.152 | 0.008 | 0.161 | |
| ProcessMultipleFiles | 0.150 | 0.000 | 0.151 | |
| QuantNormalizeElements | 0.306 | 0.000 | 0.307 | |
| SconeValues | 18.101 | 0.256 | 18.390 | |
| SplitFile | 0.115 | 0.008 | 0.123 | |
| StringToNumbers | 0 | 0 | 0 | |
| SubsampleAndTsne | 3.116 | 0.004 | 3.126 | |
| TsneVis | 0.241 | 0.004 | 0.245 | |