Back to Multiple platform build/check report for BioC 3.19: simplified long |
|
This page was generated on 2024-06-11 14:43 -0400 (Tue, 11 Jun 2024).
Hostname | OS | Arch (*) | R version | Installed pkgs |
---|---|---|---|---|
nebbiolo1 | Linux (Ubuntu 22.04.3 LTS) | x86_64 | 4.4.0 (2024-04-24) -- "Puppy Cup" | 4757 |
palomino3 | Windows Server 2022 Datacenter | x64 | 4.4.0 (2024-04-24 ucrt) -- "Puppy Cup" | 4491 |
lconway | macOS 12.7.1 Monterey | x86_64 | 4.4.0 (2024-04-24) -- "Puppy Cup" | 4522 |
kjohnson3 | macOS 13.6.5 Ventura | arm64 | 4.4.0 (2024-04-24) -- "Puppy Cup" | 4468 |
Click on any hostname to see more info about the system (e.g. compilers) (*) as reported by 'uname -p', except on Windows and Mac OS X |
Package 1907/2300 | Hostname | OS / Arch | INSTALL | BUILD | CHECK | BUILD BIN | ||||||||
Sconify 1.24.0 (landing page) Tyler J Burns
| nebbiolo1 | Linux (Ubuntu 22.04.3 LTS) / x86_64 | OK | OK | OK | |||||||||
palomino3 | Windows Server 2022 Datacenter / x64 | OK | OK | OK | OK | |||||||||
lconway | macOS 12.7.1 Monterey / x86_64 | OK | OK | OK | OK | |||||||||
kjohnson3 | macOS 13.6.5 Ventura / arm64 | OK | OK | OK | OK | |||||||||
To the developers/maintainers of the Sconify package: - Allow up to 24 hours (and sometimes 48 hours) for your latest push to git@git.bioconductor.org:packages/Sconify.git to reflect on this report. See Troubleshooting Build Report for more information. - Use the following Renviron settings to reproduce errors and warnings. - If 'R CMD check' started to fail recently on the Linux builder(s) over a missing dependency, add the missing dependency to 'Suggests:' in your DESCRIPTION file. See Renviron.bioc for more information. |
Package: Sconify |
Version: 1.24.0 |
Command: /Library/Frameworks/R.framework/Resources/bin/R CMD check --install=check:Sconify.install-out.txt --library=/Library/Frameworks/R.framework/Resources/library --no-vignettes --timings Sconify_1.24.0.tar.gz |
StartedAt: 2024-06-09 22:55:30 -0400 (Sun, 09 Jun 2024) |
EndedAt: 2024-06-09 22:57:30 -0400 (Sun, 09 Jun 2024) |
EllapsedTime: 120.5 seconds |
RetCode: 0 |
Status: OK |
CheckDir: Sconify.Rcheck |
Warnings: 0 |
############################################################################## ############################################################################## ### ### Running command: ### ### /Library/Frameworks/R.framework/Resources/bin/R CMD check --install=check:Sconify.install-out.txt --library=/Library/Frameworks/R.framework/Resources/library --no-vignettes --timings Sconify_1.24.0.tar.gz ### ############################################################################## ############################################################################## * using log directory ‘/Users/biocbuild/bbs-3.19-bioc/meat/Sconify.Rcheck’ * using R version 4.4.0 (2024-04-24) * using platform: x86_64-apple-darwin20 * R was compiled by Apple clang version 14.0.0 (clang-1400.0.29.202) GNU Fortran (GCC) 12.2.0 * running under: macOS Monterey 12.7.1 * using session charset: UTF-8 * using option ‘--no-vignettes’ * checking for file ‘Sconify/DESCRIPTION’ ... OK * checking extension type ... Package * this is package ‘Sconify’ version ‘1.24.0’ * package encoding: UTF-8 * checking package namespace information ... OK * checking package dependencies ... OK * checking if this is a source package ... OK * checking if there is a namespace ... OK * checking for hidden files and directories ... OK * checking for portable file names ... OK * checking for sufficient/correct file permissions ... OK * checking whether package ‘Sconify’ can be installed ... OK * checking installed package size ... OK * checking package directory ... OK * checking ‘build’ directory ... OK * checking DESCRIPTION meta-information ... OK * checking top-level files ... OK * checking for left-over files ... OK * checking index information ... OK * checking package subdirectories ... OK * checking code files for non-ASCII characters ... OK * checking R files for syntax errors ... OK * checking whether the package can be loaded ... OK * checking whether the package can be loaded with stated dependencies ... OK * checking whether the package can be unloaded cleanly ... OK * checking whether the namespace can be loaded with stated dependencies ... OK * checking whether the namespace can be unloaded cleanly ... OK * checking dependencies in R code ... OK * checking S3 generic/method consistency ... OK * checking replacement functions ... OK * checking foreign function calls ... OK * checking R code for possible problems ... OK * checking Rd files ... OK * checking Rd metadata ... OK * checking Rd cross-references ... OK * checking for missing documentation entries ... OK * checking for code/documentation mismatches ... OK * checking Rd \usage sections ... OK * checking Rd contents ... OK * checking for unstated dependencies in examples ... OK * checking contents of ‘data’ directory ... OK * checking data for non-ASCII characters ... OK * checking LazyData ... OK * checking data for ASCII and uncompressed saves ... OK * checking files in ‘vignettes’ ... OK * checking examples ... OK Examples with CPU (user + system) or elapsed time > 5s user system elapsed SconeValues 12.932 0.204 13.16 * checking for unstated dependencies in ‘tests’ ... OK * checking tests ... Running ‘testthat.R’ OK * checking for unstated dependencies in vignettes ... OK * checking package vignettes ... OK * checking running R code from vignettes ... SKIPPED * checking re-building of vignette outputs ... SKIPPED * checking PDF version of manual ... OK * DONE Status: OK
Sconify.Rcheck/00install.out
############################################################################## ############################################################################## ### ### Running command: ### ### /Library/Frameworks/R.framework/Resources/bin/R CMD INSTALL Sconify ### ############################################################################## ############################################################################## * installing to library ‘/Library/Frameworks/R.framework/Versions/4.4-x86_64/Resources/library’ * installing *source* package ‘Sconify’ ... ** using staged installation ** R ** data *** moving datasets to lazyload DB ** inst ** byte-compile and prepare package for lazy loading Note: wrong number of arguments to '/' Note: wrong number of arguments to 'asinh' ** help *** installing help indices ** building package indices ** installing vignettes ** testing if installed package can be loaded from temporary location ** testing if installed package can be loaded from final location ** testing if installed package keeps a record of temporary installation path * DONE (Sconify)
Sconify.Rcheck/tests/testthat.Rout
R version 4.4.0 (2024-04-24) -- "Puppy Cup" Copyright (C) 2024 The R Foundation for Statistical Computing Platform: x86_64-apple-darwin20 R is free software and comes with ABSOLUTELY NO WARRANTY. You are welcome to redistribute it under certain conditions. Type 'license()' or 'licence()' for distribution details. R is a collaborative project with many contributors. Type 'contributors()' for more information and 'citation()' on how to cite R or R packages in publications. Type 'demo()' for some demos, 'help()' for on-line help, or 'help.start()' for an HTML browser interface to help. Type 'q()' to quit R. > library(testthat) > library(Sconify) > > test_check("Sconify") Read the 100 x 27 data matrix successfully! Using no_dims = 2, perplexity = 30.000000, and theta = 0.500000 Computing input similarities... Building tree... Done in 0.01 seconds (sparsity = 0.962800)! Learning embedding... Iteration 50: error is 49.158283 (50 iterations in 0.01 seconds) Iteration 100: error is 48.858358 (50 iterations in 0.01 seconds) Iteration 150: error is 51.415467 (50 iterations in 0.01 seconds) Iteration 200: error is 50.604918 (50 iterations in 0.01 seconds) Iteration 250: error is 50.551588 (50 iterations in 0.01 seconds) Iteration 300: error is 1.220796 (50 iterations in 0.01 seconds) Iteration 350: error is 0.359728 (50 iterations in 0.01 seconds) Iteration 400: error is 0.177113 (50 iterations in 0.01 seconds) Iteration 450: error is 0.160342 (50 iterations in 0.01 seconds) Iteration 500: error is 0.158755 (50 iterations in 0.01 seconds) Iteration 550: error is 0.138892 (50 iterations in 0.01 seconds) Iteration 600: error is 0.139983 (50 iterations in 0.01 seconds) Iteration 650: error is 0.138910 (50 iterations in 0.01 seconds) Iteration 700: error is 0.141017 (50 iterations in 0.01 seconds) Iteration 750: error is 0.140985 (50 iterations in 0.01 seconds) Iteration 800: error is 0.141908 (50 iterations in 0.01 seconds) Iteration 850: error is 0.140616 (50 iterations in 0.01 seconds) Iteration 900: error is 0.140927 (50 iterations in 0.01 seconds) Iteration 950: error is 0.141668 (50 iterations in 0.01 seconds) Iteration 1000: error is 0.141062 (50 iterations in 0.01 seconds) Fitting performed in 0.17 seconds. Read the 1000 x 27 data matrix successfully! Using no_dims = 2, perplexity = 30.000000, and theta = 0.500000 Computing input similarities... Building tree... Done in 0.14 seconds (sparsity = 0.129120)! Learning embedding... Iteration 50: error is 66.080284 (50 iterations in 0.19 seconds) Iteration 100: error is 60.714895 (50 iterations in 0.12 seconds) Iteration 150: error is 60.302367 (50 iterations in 0.15 seconds) Iteration 200: error is 60.168735 (50 iterations in 0.13 seconds) Iteration 250: error is 60.120604 (50 iterations in 0.15 seconds) Iteration 300: error is 1.335284 (50 iterations in 0.12 seconds) Iteration 350: error is 1.228933 (50 iterations in 0.13 seconds) Iteration 400: error is 1.198481 (50 iterations in 0.13 seconds) Iteration 450: error is 1.186149 (50 iterations in 0.11 seconds) Iteration 500: error is 1.176981 (50 iterations in 0.12 seconds) Iteration 550: error is 1.171529 (50 iterations in 0.12 seconds) Iteration 600: error is 1.167605 (50 iterations in 0.12 seconds) Iteration 650: error is 1.164273 (50 iterations in 0.13 seconds) Iteration 700: error is 1.161800 (50 iterations in 0.13 seconds) Iteration 750: error is 1.158362 (50 iterations in 0.11 seconds) Iteration 800: error is 1.156764 (50 iterations in 0.09 seconds) Iteration 850: error is 1.155406 (50 iterations in 0.09 seconds) Iteration 900: error is 1.153085 (50 iterations in 0.11 seconds) Iteration 950: error is 1.151516 (50 iterations in 0.12 seconds) Iteration 1000: error is 1.148983 (50 iterations in 0.13 seconds) Fitting performed in 2.50 seconds. [ FAIL 0 | WARN 4 | SKIP 0 | PASS 72 ] [ FAIL 0 | WARN 4 | SKIP 0 | PASS 72 ] > > proc.time() user system elapsed 20.355 0.715 21.182
Sconify.Rcheck/Sconify-Ex.timings
name | user | system | elapsed | |
FcsToTibble | 0.139 | 0.008 | 0.148 | |
Fnn | 0.330 | 0.951 | 1.291 | |
GetKnnDe | 0.068 | 0.007 | 0.076 | |
GetMarkerNames | 0.035 | 0.003 | 0.038 | |
ImputeTesting | 3.434 | 0.021 | 3.460 | |
MakeHist | 0.333 | 0.012 | 0.346 | |
MakeKnnList | 0.318 | 0.008 | 0.325 | |
MeaningOfLife | 0.000 | 0.000 | 0.001 | |
ParseMarkers | 0.283 | 0.028 | 0.324 | |
PostProcessing | 0.116 | 0.006 | 0.123 | |
ProcessMultipleFiles | 0.145 | 0.007 | 0.153 | |
QuantNormalizeElements | 0.191 | 0.001 | 0.193 | |
SconeValues | 12.932 | 0.204 | 13.160 | |
SplitFile | 0.076 | 0.002 | 0.078 | |
StringToNumbers | 0.000 | 0.001 | 0.000 | |
SubsampleAndTsne | 1.509 | 0.062 | 1.578 | |
TsneVis | 0.169 | 0.005 | 0.175 | |