Back to Multiple platform build/check report for BioC 3.19: simplified long |
|
This page was generated on 2024-06-28 17:42 -0400 (Fri, 28 Jun 2024).
Hostname | OS | Arch (*) | R version | Installed pkgs |
---|---|---|---|---|
nebbiolo1 | Linux (Ubuntu 22.04.3 LTS) | x86_64 | 4.4.0 (2024-04-24) -- "Puppy Cup" | 4760 |
palomino3 | Windows Server 2022 Datacenter | x64 | 4.4.0 (2024-04-24 ucrt) -- "Puppy Cup" | 4494 |
merida1 | macOS 12.7.4 Monterey | x86_64 | 4.4.0 (2024-04-24) -- "Puppy Cup" | 4508 |
kjohnson1 | macOS 13.6.6 Ventura | arm64 | 4.4.0 (2024-04-24) -- "Puppy Cup" | 4466 |
palomino7 | Windows Server 2022 Datacenter | x64 | 4.4.1 (2024-06-14 ucrt) -- "Race for Your Life" | 4362 |
Click on any hostname to see more info about the system (e.g. compilers) (*) as reported by 'uname -p', except on Windows and Mac OS X |
Package 1713/2300 | Hostname | OS / Arch | INSTALL | BUILD | CHECK | BUILD BIN | ||||||||
ReactomeGSA 1.18.0 (landing page) Johannes Griss
| nebbiolo1 | Linux (Ubuntu 22.04.3 LTS) / x86_64 | OK | OK | OK | |||||||||
palomino3 | Windows Server 2022 Datacenter / x64 | OK | OK | OK | OK | |||||||||
merida1 | macOS 12.7.4 Monterey / x86_64 | OK | OK | OK | OK | |||||||||
kjohnson1 | macOS 13.6.6 Ventura / arm64 | OK | OK | OK | OK | |||||||||
palomino7 | Windows Server 2022 Datacenter / x64 | OK | OK | OK | OK | |||||||||
To the developers/maintainers of the ReactomeGSA package: - Allow up to 24 hours (and sometimes 48 hours) for your latest push to git@git.bioconductor.org:packages/ReactomeGSA.git to reflect on this report. See Troubleshooting Build Report for more information. - Use the following Renviron settings to reproduce errors and warnings. - If 'R CMD check' started to fail recently on the Linux builder(s) over a missing dependency, add the missing dependency to 'Suggests:' in your DESCRIPTION file. See Renviron.bioc for more information. |
Package: ReactomeGSA |
Version: 1.18.0 |
Command: F:\biocbuild\bbs-3.19-bioc\R\bin\R.exe CMD check --no-multiarch --install=check:ReactomeGSA.install-out.txt --library=F:\biocbuild\bbs-3.19-bioc\R\library --no-vignettes --timings ReactomeGSA_1.18.0.tar.gz |
StartedAt: 2024-06-27 05:12:27 -0400 (Thu, 27 Jun 2024) |
EndedAt: 2024-06-27 05:27:20 -0400 (Thu, 27 Jun 2024) |
EllapsedTime: 893.3 seconds |
RetCode: 0 |
Status: OK |
CheckDir: ReactomeGSA.Rcheck |
Warnings: 0 |
############################################################################## ############################################################################## ### ### Running command: ### ### F:\biocbuild\bbs-3.19-bioc\R\bin\R.exe CMD check --no-multiarch --install=check:ReactomeGSA.install-out.txt --library=F:\biocbuild\bbs-3.19-bioc\R\library --no-vignettes --timings ReactomeGSA_1.18.0.tar.gz ### ############################################################################## ############################################################################## * using log directory 'F:/biocbuild/bbs-3.19-bioc/meat/ReactomeGSA.Rcheck' * using R version 4.4.0 (2024-04-24 ucrt) * using platform: x86_64-w64-mingw32 * R was compiled by gcc.exe (GCC) 13.2.0 GNU Fortran (GCC) 13.2.0 * running under: Windows Server 2022 x64 (build 20348) * using session charset: UTF-8 * using option '--no-vignettes' * checking for file 'ReactomeGSA/DESCRIPTION' ... OK * checking extension type ... Package * this is package 'ReactomeGSA' version '1.18.0' * package encoding: UTF-8 * checking package namespace information ... OK * checking package dependencies ... OK * checking if this is a source package ... OK * checking if there is a namespace ... OK * checking for hidden files and directories ... OK * checking for portable file names ... OK * checking whether package 'ReactomeGSA' can be installed ... OK * checking installed package size ... OK * checking package directory ... OK * checking 'build' directory ... OK * checking DESCRIPTION meta-information ... OK * checking top-level files ... OK * checking for left-over files ... OK * checking index information ... OK * checking package subdirectories ... OK * checking code files for non-ASCII characters ... OK * checking R files for syntax errors ... OK * checking whether the package can be loaded ... OK * checking whether the package can be loaded with stated dependencies ... OK * checking whether the package can be unloaded cleanly ... OK * checking whether the namespace can be loaded with stated dependencies ... OK * checking whether the namespace can be unloaded cleanly ... OK * checking whether startup messages can be suppressed ... OK * checking dependencies in R code ... OK * checking S3 generic/method consistency ... OK * checking replacement functions ... OK * checking foreign function calls ... OK * checking R code for possible problems ... NOTE plot_correlations,ReactomeAnalysisResult: no visible binding for global variable 'combined_sig' plot_correlations,ReactomeAnalysisResult: no visible binding for global variable 'alpha' plot_gsva_pathway,ReactomeAnalysisResult: no visible binding for global variable 'cluster_id' plot_gsva_pathway,ReactomeAnalysisResult: no visible binding for global variable 'expr' plot_gsva_pca,ReactomeAnalysisResult: no visible binding for global variable 'gsva_result' plot_gsva_pca,ReactomeAnalysisResult: no visible binding for global variable 'PC1' plot_gsva_pca,ReactomeAnalysisResult: no visible binding for global variable 'PC2' plot_heatmap,ReactomeAnalysisResult: no visible global function definition for 'desc' plot_heatmap,ReactomeAnalysisResult: no visible binding for global variable 'n_sig' plot_heatmap,ReactomeAnalysisResult: no visible binding for global variable 'dataset' plot_heatmap,ReactomeAnalysisResult: no visible binding for global variable 'Name' plot_volcano,ReactomeAnalysisResult: no visible binding for global variable 'av_foldchange' plot_volcano,ReactomeAnalysisResult: no visible binding for global variable 'FDR' Undefined global functions or variables: FDR Name PC1 PC2 alpha av_foldchange cluster_id combined_sig dataset desc expr gsva_result n_sig * checking Rd files ... OK * checking Rd metadata ... OK * checking Rd cross-references ... OK * checking for missing documentation entries ... OK * checking for code/documentation mismatches ... OK * checking Rd \usage sections ... OK * checking Rd contents ... OK * checking for unstated dependencies in examples ... OK * checking files in 'vignettes' ... OK * checking examples ... OK Examples with CPU (user + system) or elapsed time > 5s user system elapsed analyse_sc_clusters-Seurat-method 38.93 3.40 115.52 plot_gsva_heatmap-ReactomeAnalysisResult-method 38.00 3.03 85.75 plot_gsva_heatmap 37.05 2.95 85.99 analyse_sc_clusters 35.60 3.14 84.04 analyse_sc_clusters-SingleCellExperiment-method 34.61 3.03 84.80 plot_gsva_pathway 34.45 2.69 82.86 plot_gsva_pathway-ReactomeAnalysisResult-method 33.49 2.44 80.86 plot_gsva_pca-ReactomeAnalysisResult-method 30.41 2.72 77.39 plot_gsva_pca 27.88 2.64 75.22 ReactomeAnalysisRequest 6.03 0.86 8.94 perform_reactome_analysis 2.27 0.23 16.71 * checking for unstated dependencies in 'tests' ... OK * checking tests ... Running 'testthat.R' OK * checking for unstated dependencies in vignettes ... OK * checking package vignettes ... OK * checking running R code from vignettes ... SKIPPED * checking re-building of vignette outputs ... SKIPPED * checking PDF version of manual ... OK * DONE Status: 1 NOTE See 'F:/biocbuild/bbs-3.19-bioc/meat/ReactomeGSA.Rcheck/00check.log' for details.
ReactomeGSA.Rcheck/00install.out
############################################################################## ############################################################################## ### ### Running command: ### ### F:\biocbuild\bbs-3.19-bioc\R\bin\R.exe CMD INSTALL ReactomeGSA ### ############################################################################## ############################################################################## * installing to library 'F:/biocbuild/bbs-3.19-bioc/R/library' * installing *source* package 'ReactomeGSA' ... ** using staged installation ** R ** inst ** byte-compile and prepare package for lazy loading in method for 'analyse_sc_clusters' with signature 'object="Seurat"': no definition for class "Seurat" in method for 'analyse_sc_clusters' with signature 'object="SingleCellExperiment"': no definition for class "SingleCellExperiment" in method for 'add_dataset' with signature 'request="ReactomeAnalysisRequest",expression_values="EList"': no definition for class "EList" in method for 'add_dataset' with signature 'request="ReactomeAnalysisRequest",expression_values="DGEList"': no definition for class "DGEList" ** help *** installing help indices ** building package indices ** installing vignettes ** testing if installed package can be loaded from temporary location ** testing if installed package can be loaded from final location ** testing if installed package keeps a record of temporary installation path * DONE (ReactomeGSA)
ReactomeGSA.Rcheck/tests/testthat.Rout
R version 4.4.0 (2024-04-24 ucrt) -- "Puppy Cup" Copyright (C) 2024 The R Foundation for Statistical Computing Platform: x86_64-w64-mingw32/x64 R is free software and comes with ABSOLUTELY NO WARRANTY. You are welcome to redistribute it under certain conditions. Type 'license()' or 'licence()' for distribution details. R is a collaborative project with many contributors. Type 'contributors()' for more information and 'citation()' on how to cite R or R packages in publications. Type 'demo()' for some demos, 'help()' for on-line help, or 'help.start()' for an HTML browser interface to help. Type 'q()' to quit R. > library(testthat) > library(ReactomeGSA) > > test_check("ReactomeGSA") [ FAIL 0 | WARN 0 | SKIP 0 | PASS 17 ] > > proc.time() user system elapsed 1.45 0.17 2.57
ReactomeGSA.Rcheck/ReactomeGSA-Ex.timings
name | user | system | elapsed | |
ReactomeAnalysisRequest | 6.03 | 0.86 | 8.94 | |
ReactomeAnalysisResult-class | 1.63 | 0.02 | 1.66 | |
add_dataset-ReactomeAnalysisRequest-DGEList-method | 0.91 | 0.06 | 0.97 | |
add_dataset-ReactomeAnalysisRequest-EList-method | 0.77 | 0.06 | 0.83 | |
add_dataset-ReactomeAnalysisRequest-ExpressionSet-method | 1.29 | 0.14 | 1.44 | |
add_dataset-ReactomeAnalysisRequest-data.frame-method | 0.99 | 0.08 | 1.06 | |
add_dataset-ReactomeAnalysisRequest-matrix-method | 0.93 | 0.05 | 0.99 | |
add_dataset | 0.91 | 0.12 | 1.03 | |
analyse_sc_clusters-Seurat-method | 38.93 | 3.40 | 115.52 | |
analyse_sc_clusters-SingleCellExperiment-method | 34.61 | 3.03 | 84.80 | |
analyse_sc_clusters | 35.60 | 3.14 | 84.04 | |
find_public_datasets | 0.03 | 0.03 | 2.06 | |
get_public_species | 0.00 | 0.00 | 0.29 | |
get_reactome_data_types | 0.00 | 0.00 | 0.82 | |
get_reactome_methods | 0.04 | 0.01 | 0.88 | |
get_result-ReactomeAnalysisResult-method | 0.21 | 0.05 | 0.25 | |
get_result | 0.17 | 0.08 | 0.25 | |
load_public_dataset | 2.14 | 0.03 | 4.58 | |
names-ReactomeAnalysisResult-method | 0.25 | 0.02 | 0.27 | |
open_reactome-ReactomeAnalysisResult-method | 0.19 | 0.00 | 0.19 | |
open_reactome | 0.23 | 0.03 | 0.27 | |
pathways-ReactomeAnalysisResult-method | 2.05 | 0.23 | 2.28 | |
pathways | 1.33 | 0.05 | 1.37 | |
perform_reactome_analysis | 2.27 | 0.23 | 16.71 | |
plot_correlations-ReactomeAnalysisResult-method | 1.78 | 0.13 | 1.90 | |
plot_correlations | 1.82 | 0.03 | 1.86 | |
plot_gsva_heatmap-ReactomeAnalysisResult-method | 38.00 | 3.03 | 85.75 | |
plot_gsva_heatmap | 37.05 | 2.95 | 85.99 | |
plot_gsva_pathway-ReactomeAnalysisResult-method | 33.49 | 2.44 | 80.86 | |
plot_gsva_pathway | 34.45 | 2.69 | 82.86 | |
plot_gsva_pca-ReactomeAnalysisResult-method | 30.41 | 2.72 | 77.39 | |
plot_gsva_pca | 27.88 | 2.64 | 75.22 | |
plot_heatmap-ReactomeAnalysisResult-method | 1.28 | 0.06 | 1.39 | |
plot_heatmap | 1.40 | 0.03 | 1.44 | |
plot_volcano-ReactomeAnalysisResult-method | 0.18 | 0.03 | 0.20 | |
plot_volcano | 0.18 | 0.03 | 0.22 | |
print-ReactomeAnalysisRequest-method | 0 | 0 | 0 | |
print-ReactomeAnalysisResult-method | 0.17 | 0.02 | 0.19 | |
reactome_links-ReactomeAnalysisResult-method | 0.18 | 0.02 | 0.19 | |
reactome_links | 0.17 | 0.01 | 0.18 | |
result_types-ReactomeAnalysisResult-method | 0.14 | 0.05 | 0.19 | |
result_types | 0.16 | 0.03 | 0.19 | |
set_method-ReactomeAnalysisRequest-method | 0.00 | 0.01 | 0.01 | |
set_method | 0.00 | 0.02 | 0.02 | |
set_parameters-ReactomeAnalysisRequest-method | 0 | 0 | 0 | |
set_parameters | 0 | 0 | 0 | |
show-ReactomeAnalysisRequest-method | 0 | 0 | 0 | |
show-ReactomeAnalysisResult-method | 0.15 | 0.05 | 0.20 | |