Back to Multiple platform build/check report for BioC 3.19:   simplified   long
ABCDEFGHIJKLMNOPQ[R]STUVWXYZ

This page was generated on 2024-10-18 20:38 -0400 (Fri, 18 Oct 2024).

HostnameOSArch (*)R versionInstalled pkgs
nebbiolo1Linux (Ubuntu 22.04.3 LTS)x86_644.4.1 (2024-06-14) -- "Race for Your Life" 4763
palomino7Windows Server 2022 Datacenterx644.4.1 (2024-06-14 ucrt) -- "Race for Your Life" 4500
merida1macOS 12.7.5 Montereyx86_644.4.1 (2024-06-14) -- "Race for Your Life" 4530
kjohnson1macOS 13.6.6 Venturaarm644.4.1 (2024-06-14) -- "Race for Your Life" 4480
Click on any hostname to see more info about the system (e.g. compilers)      (*) as reported by 'uname -p', except on Windows and Mac OS X

Package 1713/2300HostnameOS / ArchINSTALLBUILDCHECKBUILD BIN
ReactomeGSA 1.18.0  (landing page)
Johannes Griss
Snapshot Date: 2024-10-16 14:00 -0400 (Wed, 16 Oct 2024)
git_url: https://git.bioconductor.org/packages/ReactomeGSA
git_branch: RELEASE_3_19
git_last_commit: 4bfdb0f
git_last_commit_date: 2024-04-30 11:17:23 -0400 (Tue, 30 Apr 2024)
nebbiolo1Linux (Ubuntu 22.04.3 LTS) / x86_64  OK    OK    OK  UNNEEDED, same version is already published
palomino7Windows Server 2022 Datacenter / x64  OK    OK    OK    OK  UNNEEDED, same version is already published
merida1macOS 12.7.5 Monterey / x86_64  OK    OK    OK    OK  UNNEEDED, same version is already published
kjohnson1macOS 13.6.6 Ventura / arm64  OK    OK    OK    OK  UNNEEDED, same version is already published


CHECK results for ReactomeGSA on nebbiolo1

To the developers/maintainers of the ReactomeGSA package:
- Allow up to 24 hours (and sometimes 48 hours) for your latest push to git@git.bioconductor.org:packages/ReactomeGSA.git to reflect on this report. See Troubleshooting Build Report for more information.
- Use the following Renviron settings to reproduce errors and warnings.
- If 'R CMD check' started to fail recently on the Linux builder(s) over a missing dependency, add the missing dependency to 'Suggests:' in your DESCRIPTION file. See Renviron.bioc for more information.

raw results


Summary

Package: ReactomeGSA
Version: 1.18.0
Command: /home/biocbuild/bbs-3.19-bioc/R/bin/R CMD check --install=check:ReactomeGSA.install-out.txt --library=/home/biocbuild/bbs-3.19-bioc/R/site-library --timings ReactomeGSA_1.18.0.tar.gz
StartedAt: 2024-10-17 04:12:49 -0400 (Thu, 17 Oct 2024)
EndedAt: 2024-10-17 04:29:43 -0400 (Thu, 17 Oct 2024)
EllapsedTime: 1014.6 seconds
RetCode: 0
Status:   OK  
CheckDir: ReactomeGSA.Rcheck
Warnings: 0

Command output

##############################################################################
##############################################################################
###
### Running command:
###
###   /home/biocbuild/bbs-3.19-bioc/R/bin/R CMD check --install=check:ReactomeGSA.install-out.txt --library=/home/biocbuild/bbs-3.19-bioc/R/site-library --timings ReactomeGSA_1.18.0.tar.gz
###
##############################################################################
##############################################################################


* using log directory ‘/home/biocbuild/bbs-3.19-bioc/meat/ReactomeGSA.Rcheck’
* using R version 4.4.1 (2024-06-14)
* using platform: x86_64-pc-linux-gnu
* R was compiled by
    gcc (Ubuntu 11.4.0-1ubuntu1~22.04) 11.4.0
    GNU Fortran (Ubuntu 11.4.0-1ubuntu1~22.04) 11.4.0
* running under: Ubuntu 22.04.5 LTS
* using session charset: UTF-8
* checking for file ‘ReactomeGSA/DESCRIPTION’ ... OK
* checking extension type ... Package
* this is package ‘ReactomeGSA’ version ‘1.18.0’
* package encoding: UTF-8
* checking package namespace information ... OK
* checking package dependencies ... OK
* checking if this is a source package ... OK
* checking if there is a namespace ... OK
* checking for hidden files and directories ... OK
* checking for portable file names ... OK
* checking for sufficient/correct file permissions ... OK
* checking whether package ‘ReactomeGSA’ can be installed ... OK
* checking installed package size ... OK
* checking package directory ... OK
* checking ‘build’ directory ... OK
* checking DESCRIPTION meta-information ... OK
* checking top-level files ... OK
* checking for left-over files ... OK
* checking index information ... OK
* checking package subdirectories ... OK
* checking code files for non-ASCII characters ... OK
* checking R files for syntax errors ... OK
* checking whether the package can be loaded ... OK
* checking whether the package can be loaded with stated dependencies ... OK
* checking whether the package can be unloaded cleanly ... OK
* checking whether the namespace can be loaded with stated dependencies ... OK
* checking whether the namespace can be unloaded cleanly ... OK
* checking loading without being on the library search path ... OK
* checking whether startup messages can be suppressed ... OK
* checking dependencies in R code ... OK
* checking S3 generic/method consistency ... OK
* checking replacement functions ... OK
* checking foreign function calls ... OK
* checking R code for possible problems ... NOTE
plot_correlations,ReactomeAnalysisResult: no visible binding for global
  variable ‘combined_sig’
plot_correlations,ReactomeAnalysisResult: no visible binding for global
  variable ‘alpha’
plot_gsva_pathway,ReactomeAnalysisResult: no visible binding for global
  variable ‘cluster_id’
plot_gsva_pathway,ReactomeAnalysisResult: no visible binding for global
  variable ‘expr’
plot_gsva_pca,ReactomeAnalysisResult: no visible binding for global
  variable ‘gsva_result’
plot_gsva_pca,ReactomeAnalysisResult: no visible binding for global
  variable ‘PC1’
plot_gsva_pca,ReactomeAnalysisResult: no visible binding for global
  variable ‘PC2’
plot_heatmap,ReactomeAnalysisResult: no visible global function
  definition for ‘desc’
plot_heatmap,ReactomeAnalysisResult: no visible binding for global
  variable ‘n_sig’
plot_heatmap,ReactomeAnalysisResult: no visible binding for global
  variable ‘dataset’
plot_heatmap,ReactomeAnalysisResult: no visible binding for global
  variable ‘Name’
plot_volcano,ReactomeAnalysisResult: no visible binding for global
  variable ‘av_foldchange’
plot_volcano,ReactomeAnalysisResult: no visible binding for global
  variable ‘FDR’
Undefined global functions or variables:
  FDR Name PC1 PC2 alpha av_foldchange cluster_id combined_sig dataset
  desc expr gsva_result n_sig
* checking Rd files ... OK
* checking Rd metadata ... OK
* checking Rd cross-references ... OK
* checking for missing documentation entries ... OK
* checking for code/documentation mismatches ... OK
* checking Rd \usage sections ... OK
* checking Rd contents ... OK
* checking for unstated dependencies in examples ... OK
* checking files in ‘vignettes’ ... OK
* checking examples ... OK
Examples with CPU (user + system) or elapsed time > 5s
                                                  user system elapsed
analyse_sc_clusters-SingleCellExperiment-method 34.295  1.263 109.431
plot_gsva_heatmap                               32.092  1.332  66.379
plot_gsva_pathway                               31.846  1.123  66.304
plot_gsva_heatmap-ReactomeAnalysisResult-method 31.597  1.259  74.932
analyse_sc_clusters-Seurat-method               31.627  1.039  65.892
plot_gsva_pathway-ReactomeAnalysisResult-method 30.899  1.253  65.540
plot_gsva_pca                                   30.508  1.137  65.539
plot_gsva_pca-ReactomeAnalysisResult-method     30.264  1.105  65.408
analyse_sc_clusters                             30.005  1.068  62.784
ReactomeAnalysisRequest                          4.777  0.385   5.163
load_public_dataset                              4.220  0.146  37.144
perform_reactome_analysis                        3.134  0.234  19.715
get_reactome_methods                             0.538  0.008   7.659
find_public_datasets                             0.498  0.007   5.321
* checking for unstated dependencies in ‘tests’ ... OK
* checking tests ...
  Running ‘testthat.R’
 OK
* checking for unstated dependencies in vignettes ... OK
* checking package vignettes ... OK
* checking re-building of vignette outputs ... OK
* checking PDF version of manual ... OK
* DONE

Status: 1 NOTE
See
  ‘/home/biocbuild/bbs-3.19-bioc/meat/ReactomeGSA.Rcheck/00check.log’
for details.


Installation output

ReactomeGSA.Rcheck/00install.out

##############################################################################
##############################################################################
###
### Running command:
###
###   /home/biocbuild/bbs-3.19-bioc/R/bin/R CMD INSTALL ReactomeGSA
###
##############################################################################
##############################################################################


* installing to library ‘/home/biocbuild/bbs-3.19-bioc/R/site-library’
* installing *source* package ‘ReactomeGSA’ ...
** using staged installation
** R
** inst
** byte-compile and prepare package for lazy loading
in method for ‘analyse_sc_clusters’ with signature ‘object="Seurat"’: no definition for class “Seurat”
in method for ‘analyse_sc_clusters’ with signature ‘object="SingleCellExperiment"’: no definition for class “SingleCellExperiment”
in method for ‘add_dataset’ with signature ‘request="ReactomeAnalysisRequest",expression_values="EList"’: no definition for class “EList”
in method for ‘add_dataset’ with signature ‘request="ReactomeAnalysisRequest",expression_values="DGEList"’: no definition for class “DGEList”
** help
*** installing help indices
** building package indices
** installing vignettes
** testing if installed package can be loaded from temporary location
** testing if installed package can be loaded from final location
** testing if installed package keeps a record of temporary installation path
* DONE (ReactomeGSA)

Tests output

ReactomeGSA.Rcheck/tests/testthat.Rout


R version 4.4.1 (2024-06-14) -- "Race for Your Life"
Copyright (C) 2024 The R Foundation for Statistical Computing
Platform: x86_64-pc-linux-gnu

R is free software and comes with ABSOLUTELY NO WARRANTY.
You are welcome to redistribute it under certain conditions.
Type 'license()' or 'licence()' for distribution details.

R is a collaborative project with many contributors.
Type 'contributors()' for more information and
'citation()' on how to cite R or R packages in publications.

Type 'demo()' for some demos, 'help()' for on-line help, or
'help.start()' for an HTML browser interface to help.
Type 'q()' to quit R.

> library(testthat)
> library(ReactomeGSA)
> 
> test_check("ReactomeGSA")
[ FAIL 0 | WARN 0 | SKIP 0 | PASS 17 ]
> 
> proc.time()
   user  system elapsed 
  1.420   0.088   1.500 

Example timings

ReactomeGSA.Rcheck/ReactomeGSA-Ex.timings

nameusersystemelapsed
ReactomeAnalysisRequest4.7770.3855.163
ReactomeAnalysisResult-class1.2580.1591.420
add_dataset-ReactomeAnalysisRequest-DGEList-method0.7640.0280.792
add_dataset-ReactomeAnalysisRequest-EList-method0.6450.0120.657
add_dataset-ReactomeAnalysisRequest-ExpressionSet-method0.6250.0110.636
add_dataset-ReactomeAnalysisRequest-data.frame-method0.9370.0801.017
add_dataset-ReactomeAnalysisRequest-matrix-method0.5960.0190.616
add_dataset0.6000.0080.608
analyse_sc_clusters-Seurat-method31.627 1.03965.892
analyse_sc_clusters-SingleCellExperiment-method 34.295 1.263109.431
analyse_sc_clusters30.005 1.06862.784
find_public_datasets0.4980.0075.321
get_public_species0.1760.0000.624
get_reactome_data_types0.3110.0061.333
get_reactome_methods0.5380.0087.659
get_result-ReactomeAnalysisResult-method0.1820.0280.211
get_result0.1760.0080.185
load_public_dataset 4.220 0.14637.144
names-ReactomeAnalysisResult-method0.1910.0160.207
open_reactome-ReactomeAnalysisResult-method0.1740.0080.181
open_reactome0.1770.0040.181
pathways-ReactomeAnalysisResult-method1.5050.0801.585
pathways1.3240.0401.364
perform_reactome_analysis 3.134 0.23419.715
plot_correlations-ReactomeAnalysisResult-method1.7650.1441.909
plot_correlations1.2240.0201.244
plot_gsva_heatmap-ReactomeAnalysisResult-method31.597 1.25974.932
plot_gsva_heatmap32.092 1.33266.379
plot_gsva_pathway-ReactomeAnalysisResult-method30.899 1.25365.540
plot_gsva_pathway31.846 1.12366.304
plot_gsva_pca-ReactomeAnalysisResult-method30.264 1.10565.408
plot_gsva_pca30.508 1.13765.539
plot_heatmap-ReactomeAnalysisResult-method1.5120.0321.544
plot_heatmap1.5710.0441.616
plot_volcano-ReactomeAnalysisResult-method0.1740.0000.174
plot_volcano0.1940.0200.215
print-ReactomeAnalysisRequest-method0.0020.0000.001
print-ReactomeAnalysisResult-method0.1690.0080.177
reactome_links-ReactomeAnalysisResult-method0.160.020.18
reactome_links0.1720.0000.172
result_types-ReactomeAnalysisResult-method0.1740.0080.181
result_types0.1680.0040.172
set_method-ReactomeAnalysisRequest-method0.0020.0000.003
set_method0.0020.0000.001
set_parameters-ReactomeAnalysisRequest-method0.0020.0000.002
set_parameters0.0010.0000.001
show-ReactomeAnalysisRequest-method0.0010.0000.001
show-ReactomeAnalysisResult-method0.1720.0160.187