| Back to Multiple platform build/check report for BioC 3.19: simplified long |
|
This page was generated on 2024-06-11 14:43 -0400 (Tue, 11 Jun 2024).
| Hostname | OS | Arch (*) | R version | Installed pkgs |
|---|---|---|---|---|
| nebbiolo1 | Linux (Ubuntu 22.04.3 LTS) | x86_64 | 4.4.0 (2024-04-24) -- "Puppy Cup" | 4757 |
| palomino3 | Windows Server 2022 Datacenter | x64 | 4.4.0 (2024-04-24 ucrt) -- "Puppy Cup" | 4491 |
| lconway | macOS 12.7.1 Monterey | x86_64 | 4.4.0 (2024-04-24) -- "Puppy Cup" | 4522 |
| kjohnson3 | macOS 13.6.5 Ventura | arm64 | 4.4.0 (2024-04-24) -- "Puppy Cup" | 4468 |
| Click on any hostname to see more info about the system (e.g. compilers) (*) as reported by 'uname -p', except on Windows and Mac OS X | ||||
| Package 750/2300 | Hostname | OS / Arch | INSTALL | BUILD | CHECK | BUILD BIN | ||||||||
| FlowSOM 2.12.0 (landing page) Sofie Van Gassen
| nebbiolo1 | Linux (Ubuntu 22.04.3 LTS) / x86_64 | OK | OK | OK | |||||||||
| palomino3 | Windows Server 2022 Datacenter / x64 | OK | OK | OK | OK | |||||||||
| lconway | macOS 12.7.1 Monterey / x86_64 | OK | OK | OK | OK | |||||||||
| kjohnson3 | macOS 13.6.5 Ventura / arm64 | OK | OK | OK | OK | |||||||||
|
To the developers/maintainers of the FlowSOM package: - Allow up to 24 hours (and sometimes 48 hours) for your latest push to git@git.bioconductor.org:packages/FlowSOM.git to reflect on this report. See Troubleshooting Build Report for more information. - Use the following Renviron settings to reproduce errors and warnings. - If 'R CMD check' started to fail recently on the Linux builder(s) over a missing dependency, add the missing dependency to 'Suggests:' in your DESCRIPTION file. See Renviron.bioc for more information. |
| Package: FlowSOM |
| Version: 2.12.0 |
| Command: /Library/Frameworks/R.framework/Resources/bin/R CMD check --install=check:FlowSOM.install-out.txt --library=/Library/Frameworks/R.framework/Resources/library --no-vignettes --timings FlowSOM_2.12.0.tar.gz |
| StartedAt: 2024-06-10 16:00:20 -0400 (Mon, 10 Jun 2024) |
| EndedAt: 2024-06-10 16:13:53 -0400 (Mon, 10 Jun 2024) |
| EllapsedTime: 813.6 seconds |
| RetCode: 0 |
| Status: OK |
| CheckDir: FlowSOM.Rcheck |
| Warnings: 0 |
##############################################################################
##############################################################################
###
### Running command:
###
### /Library/Frameworks/R.framework/Resources/bin/R CMD check --install=check:FlowSOM.install-out.txt --library=/Library/Frameworks/R.framework/Resources/library --no-vignettes --timings FlowSOM_2.12.0.tar.gz
###
##############################################################################
##############################################################################
* using log directory ‘/Users/biocbuild/bbs-3.19-bioc/meat/FlowSOM.Rcheck’
* using R version 4.4.0 (2024-04-24)
* using platform: aarch64-apple-darwin20
* R was compiled by
Apple clang version 14.0.0 (clang-1400.0.29.202)
GNU Fortran (GCC) 12.2.0
* running under: macOS Ventura 13.6.5
* using session charset: UTF-8
* using option ‘--no-vignettes’
* checking for file ‘FlowSOM/DESCRIPTION’ ... OK
* this is package ‘FlowSOM’ version ‘2.12.0’
* package encoding: UTF-8
* checking package namespace information ... OK
* checking package dependencies ... OK
* checking if this is a source package ... OK
* checking if there is a namespace ... OK
* checking for hidden files and directories ... OK
* checking for portable file names ... OK
* checking for sufficient/correct file permissions ... OK
* checking whether package ‘FlowSOM’ can be installed ... OK
* used C compiler: ‘Apple clang version 15.0.0 (clang-1500.1.0.2.5)’
* used SDK: ‘MacOSX11.3.sdk’
* checking installed package size ... OK
* checking package directory ... OK
* checking ‘build’ directory ... OK
* checking DESCRIPTION meta-information ... OK
* checking top-level files ... OK
* checking for left-over files ... OK
* checking index information ... OK
* checking package subdirectories ... OK
* checking code files for non-ASCII characters ... OK
* checking R files for syntax errors ... OK
* checking whether the package can be loaded ... OK
* checking whether the package can be loaded with stated dependencies ... OK
* checking whether the package can be unloaded cleanly ... OK
* checking whether the namespace can be loaded with stated dependencies ... OK
* checking whether the namespace can be unloaded cleanly ... OK
* checking whether startup messages can be suppressed ... OK
* checking dependencies in R code ... OK
* checking S3 generic/method consistency ... OK
* checking replacement functions ... OK
* checking foreign function calls ... OK
* checking R code for possible problems ... OK
* checking Rd files ... NOTE
checkRd: (-1) PlotDimRed.Rd:55: Lost braces
55 | of the dimred default = function(dimred){dimred$Y}.}
| ^
* checking Rd metadata ... OK
* checking Rd cross-references ... OK
* checking for missing documentation entries ... OK
* checking for code/documentation mismatches ... OK
* checking Rd \usage sections ... OK
* checking Rd contents ... OK
* checking for unstated dependencies in examples ... OK
* checking line endings in C/C++/Fortran sources/headers ... OK
* checking compiled code ... NOTE
Note: information on .o files is not available
* checking sizes of PDF files under ‘inst/doc’ ... OK
* checking files in ‘vignettes’ ... OK
* checking examples ... OK
Examples with CPU (user + system) or elapsed time > 5s
user system elapsed
FlowSOMmary 53.076 1.730 71.373
PlotDimRed 39.223 1.669 57.191
PlotOutliers 20.101 0.601 27.959
PlotMarker 19.160 1.022 25.855
UpdateMetaclusters 18.414 0.892 26.084
PlotStars 15.693 0.762 20.988
GroupStats 14.520 0.766 20.552
FlowSOM 14.101 0.760 19.301
PlotGroups 12.539 0.810 17.715
AddAnnotation 10.757 0.488 14.699
QueryMultiple 10.720 0.427 15.190
query_multiple 10.567 0.404 14.598
Plot2DScatters 9.304 0.582 15.963
PlotManualBars 8.697 0.595 12.436
GetFlowJoLabels 8.520 0.487 12.105
PlotNumbers 8.291 0.684 10.783
QueryStarPlot 8.440 0.332 12.787
PlotNode 7.967 0.654 10.686
PlotVariable 7.762 0.544 10.640
PlotPies 7.570 0.526 11.361
CountGroups 7.319 0.437 10.427
PlotFlowSOM 6.741 0.615 9.322
PlotOverview2D 6.813 0.459 10.267
PlotLabels 6.613 0.524 10.248
SaveClustersToFCS 6.539 0.512 9.754
UpdateNodeSize 6.573 0.162 9.534
GetFeatures 6.416 0.300 9.406
NMetaclusters 6.101 0.589 7.623
print.FlowSOM 6.078 0.588 8.889
NClusters 6.081 0.578 8.630
MetaclusterMFIs 5.955 0.615 8.345
TestOutliers 6.074 0.472 8.448
GetCounts 6.036 0.357 8.932
GetMetaclusterPercentagesPositive 5.663 0.566 8.867
FlowSOMSubset 5.936 0.272 8.190
GetMetaclusters 5.563 0.559 8.658
MetaclusterCVs 5.620 0.466 7.871
GetPercentages 5.598 0.486 8.676
GetMetaclusterMFIs 5.548 0.498 7.859
GetMFIs 5.510 0.490 7.870
GetMetaclusterCVs 5.344 0.491 7.165
GetClusterMFIs 5.173 0.360 8.313
GetClusterPercentagesPositive 5.159 0.345 8.109
GetClusters 5.130 0.363 8.256
NewData 5.019 0.375 7.021
ReadInput 4.029 0.407 6.050
* checking for unstated dependencies in vignettes ... OK
* checking package vignettes ... OK
* checking running R code from vignettes ... SKIPPED
* checking re-building of vignette outputs ... SKIPPED
* checking PDF version of manual ... OK
* DONE
Status: 2 NOTEs
See
‘/Users/biocbuild/bbs-3.19-bioc/meat/FlowSOM.Rcheck/00check.log’
for details.
FlowSOM.Rcheck/00install.out
############################################################################## ############################################################################## ### ### Running command: ### ### /Library/Frameworks/R.framework/Resources/bin/R CMD INSTALL FlowSOM ### ############################################################################## ############################################################################## * installing to library ‘/Library/Frameworks/R.framework/Versions/4.4-arm64/Resources/library’ * installing *source* package ‘FlowSOM’ ... ** using staged installation ** libs using C compiler: ‘Apple clang version 15.0.0 (clang-1500.1.0.2.5)’ using SDK: ‘MacOSX11.3.sdk’ clang -arch arm64 -I"/Library/Frameworks/R.framework/Resources/include" -DNDEBUG -I/opt/R/arm64/include -fPIC -falign-functions=64 -Wall -g -O2 -c som.c -o som.o clang -arch arm64 -dynamiclib -Wl,-headerpad_max_install_names -undefined dynamic_lookup -L/Library/Frameworks/R.framework/Resources/lib -L/opt/R/arm64/lib -o FlowSOM.so som.o -F/Library/Frameworks/R.framework/.. -framework R -Wl,-framework -Wl,CoreFoundation installing to /Library/Frameworks/R.framework/Versions/4.4-arm64/Resources/library/00LOCK-FlowSOM/00new/FlowSOM/libs ** R ** inst ** byte-compile and prepare package for lazy loading ** help *** installing help indices ** building package indices ** installing vignettes ** testing if installed package can be loaded from temporary location ** checking absolute paths in shared objects and dynamic libraries ** testing if installed package can be loaded from final location ** testing if installed package keeps a record of temporary installation path * DONE (FlowSOM)
FlowSOM.Rcheck/FlowSOM-Ex.timings
| name | user | system | elapsed | |
| AddAnnotation | 10.757 | 0.488 | 14.699 | |
| AggregateFlowFrames | 0.100 | 0.006 | 0.138 | |
| BuildMST | 1.410 | 0.066 | 2.012 | |
| BuildSOM | 1.333 | 0.074 | 1.979 | |
| CountGroups | 7.319 | 0.437 | 10.427 | |
| FMeasure | 0.002 | 0.000 | 0.002 | |
| FlowSOM | 14.101 | 0.760 | 19.301 | |
| FlowSOMSubset | 5.936 | 0.272 | 8.190 | |
| FlowSOMmary | 53.076 | 1.730 | 71.373 | |
| GetChannels | 0.044 | 0.003 | 0.061 | |
| GetClusterMFIs | 5.173 | 0.360 | 8.313 | |
| GetClusterPercentagesPositive | 5.159 | 0.345 | 8.109 | |
| GetClusters | 5.130 | 0.363 | 8.256 | |
| GetCounts | 6.036 | 0.357 | 8.932 | |
| GetFeatures | 6.416 | 0.300 | 9.406 | |
| GetFlowJoLabels | 8.520 | 0.487 | 12.105 | |
| GetMFIs | 5.51 | 0.49 | 7.87 | |
| GetMarkers | 0.041 | 0.003 | 0.056 | |
| GetMetaclusterCVs | 5.344 | 0.491 | 7.165 | |
| GetMetaclusterMFIs | 5.548 | 0.498 | 7.859 | |
| GetMetaclusterPercentagesPositive | 5.663 | 0.566 | 8.867 | |
| GetMetaclusters | 5.563 | 0.559 | 8.658 | |
| GetPercentages | 5.598 | 0.486 | 8.676 | |
| GroupStats | 14.520 | 0.766 | 20.552 | |
| Initialize_KWSP | 0.004 | 0.000 | 0.004 | |
| Initialize_PCA | 0.001 | 0.000 | 0.001 | |
| MetaClustering | 3.353 | 0.418 | 4.816 | |
| MetaclusterCVs | 5.620 | 0.466 | 7.871 | |
| MetaclusterMFIs | 5.955 | 0.615 | 8.345 | |
| NClusters | 6.081 | 0.578 | 8.630 | |
| NMetaclusters | 6.101 | 0.589 | 7.623 | |
| NewData | 5.019 | 0.375 | 7.021 | |
| Plot2DScatters | 9.304 | 0.582 | 15.963 | |
| PlotCenters | 1.908 | 0.088 | 3.324 | |
| PlotClusters2D | 1.271 | 0.125 | 2.576 | |
| PlotDimRed | 39.223 | 1.669 | 57.191 | |
| PlotFileScatters | 0.879 | 0.033 | 1.191 | |
| PlotFlowSOM | 6.741 | 0.615 | 9.322 | |
| PlotGroups | 12.539 | 0.810 | 17.715 | |
| PlotLabels | 6.613 | 0.524 | 10.248 | |
| PlotManualBars | 8.697 | 0.595 | 12.436 | |
| PlotMarker | 19.160 | 1.022 | 25.855 | |
| PlotNode | 7.967 | 0.654 | 10.686 | |
| PlotNumbers | 8.291 | 0.684 | 10.783 | |
| PlotOutliers | 20.101 | 0.601 | 27.959 | |
| PlotOverview2D | 6.813 | 0.459 | 10.267 | |
| PlotPies | 7.570 | 0.526 | 11.361 | |
| PlotSD | 2.221 | 0.105 | 3.233 | |
| PlotStars | 15.693 | 0.762 | 20.988 | |
| PlotVariable | 7.762 | 0.544 | 10.640 | |
| Purity | 0.002 | 0.001 | 0.001 | |
| QueryMultiple | 10.720 | 0.427 | 15.190 | |
| QueryStarPlot | 8.440 | 0.332 | 12.787 | |
| ReadInput | 4.029 | 0.407 | 6.050 | |
| SaveClustersToFCS | 6.539 | 0.512 | 9.754 | |
| TestOutliers | 6.074 | 0.472 | 8.448 | |
| UpdateMetaclusters | 18.414 | 0.892 | 26.084 | |
| UpdateNodeSize | 6.573 | 0.162 | 9.534 | |
| get_channels | 0.045 | 0.003 | 0.059 | |
| get_markers | 0.044 | 0.004 | 0.072 | |
| metaClustering_consensus | 2.960 | 0.194 | 4.694 | |
| plotStarLegend | 0.431 | 0.006 | 0.600 | |
| print.FlowSOM | 6.078 | 0.588 | 8.889 | |
| query_multiple | 10.567 | 0.404 | 14.598 | |