Back to Multiple platform build/check report for BioC 3.19:   simplified   long
ABCDE[F]GHIJKLMNOPQRSTUVWXYZ

This page was generated on 2024-10-18 20:38 -0400 (Fri, 18 Oct 2024).

HostnameOSArch (*)R versionInstalled pkgs
nebbiolo1Linux (Ubuntu 22.04.3 LTS)x86_644.4.1 (2024-06-14) -- "Race for Your Life" 4763
palomino7Windows Server 2022 Datacenterx644.4.1 (2024-06-14 ucrt) -- "Race for Your Life" 4500
merida1macOS 12.7.5 Montereyx86_644.4.1 (2024-06-14) -- "Race for Your Life" 4530
kjohnson1macOS 13.6.6 Venturaarm644.4.1 (2024-06-14) -- "Race for Your Life" 4480
Click on any hostname to see more info about the system (e.g. compilers)      (*) as reported by 'uname -p', except on Windows and Mac OS X

Package 750/2300HostnameOS / ArchINSTALLBUILDCHECKBUILD BIN
FlowSOM 2.12.0  (landing page)
Sofie Van Gassen
Snapshot Date: 2024-10-16 14:00 -0400 (Wed, 16 Oct 2024)
git_url: https://git.bioconductor.org/packages/FlowSOM
git_branch: RELEASE_3_19
git_last_commit: 128641a
git_last_commit_date: 2024-04-30 10:40:56 -0400 (Tue, 30 Apr 2024)
nebbiolo1Linux (Ubuntu 22.04.3 LTS) / x86_64  OK    OK    OK  UNNEEDED, same version is already published
palomino7Windows Server 2022 Datacenter / x64  OK    OK    OK    OK  UNNEEDED, same version is already published
merida1macOS 12.7.5 Monterey / x86_64  OK    OK    OK    OK  UNNEEDED, same version is already published
kjohnson1macOS 13.6.6 Ventura / arm64  OK    OK    OK    OK  UNNEEDED, same version is already published


CHECK results for FlowSOM on nebbiolo1

To the developers/maintainers of the FlowSOM package:
- Allow up to 24 hours (and sometimes 48 hours) for your latest push to git@git.bioconductor.org:packages/FlowSOM.git to reflect on this report. See Troubleshooting Build Report for more information.
- Use the following Renviron settings to reproduce errors and warnings.
- If 'R CMD check' started to fail recently on the Linux builder(s) over a missing dependency, add the missing dependency to 'Suggests:' in your DESCRIPTION file. See Renviron.bioc for more information.

raw results


Summary

Package: FlowSOM
Version: 2.12.0
Command: /home/biocbuild/bbs-3.19-bioc/R/bin/R CMD check --install=check:FlowSOM.install-out.txt --library=/home/biocbuild/bbs-3.19-bioc/R/site-library --timings FlowSOM_2.12.0.tar.gz
StartedAt: 2024-10-17 00:31:08 -0400 (Thu, 17 Oct 2024)
EndedAt: 2024-10-17 00:40:10 -0400 (Thu, 17 Oct 2024)
EllapsedTime: 541.2 seconds
RetCode: 0
Status:   OK  
CheckDir: FlowSOM.Rcheck
Warnings: 0

Command output

##############################################################################
##############################################################################
###
### Running command:
###
###   /home/biocbuild/bbs-3.19-bioc/R/bin/R CMD check --install=check:FlowSOM.install-out.txt --library=/home/biocbuild/bbs-3.19-bioc/R/site-library --timings FlowSOM_2.12.0.tar.gz
###
##############################################################################
##############################################################################


* using log directory ‘/home/biocbuild/bbs-3.19-bioc/meat/FlowSOM.Rcheck’
* using R version 4.4.1 (2024-06-14)
* using platform: x86_64-pc-linux-gnu
* R was compiled by
    gcc (Ubuntu 11.4.0-1ubuntu1~22.04) 11.4.0
    GNU Fortran (Ubuntu 11.4.0-1ubuntu1~22.04) 11.4.0
* running under: Ubuntu 22.04.5 LTS
* using session charset: UTF-8
* checking for file ‘FlowSOM/DESCRIPTION’ ... OK
* this is package ‘FlowSOM’ version ‘2.12.0’
* package encoding: UTF-8
* checking package namespace information ... OK
* checking package dependencies ... OK
* checking if this is a source package ... OK
* checking if there is a namespace ... OK
* checking for hidden files and directories ... OK
* checking for portable file names ... OK
* checking for sufficient/correct file permissions ... OK
* checking whether package ‘FlowSOM’ can be installed ... OK
* used C compiler: ‘gcc (Ubuntu 11.4.0-1ubuntu1~22.04) 11.4.0’
* checking installed package size ... OK
* checking package directory ... OK
* checking ‘build’ directory ... OK
* checking DESCRIPTION meta-information ... OK
* checking top-level files ... OK
* checking for left-over files ... OK
* checking index information ... OK
* checking package subdirectories ... OK
* checking code files for non-ASCII characters ... OK
* checking R files for syntax errors ... OK
* checking whether the package can be loaded ... OK
* checking whether the package can be loaded with stated dependencies ... OK
* checking whether the package can be unloaded cleanly ... OK
* checking whether the namespace can be loaded with stated dependencies ... OK
* checking whether the namespace can be unloaded cleanly ... OK
* checking loading without being on the library search path ... OK
* checking whether startup messages can be suppressed ... OK
* checking dependencies in R code ... OK
* checking S3 generic/method consistency ... OK
* checking replacement functions ... OK
* checking foreign function calls ... OK
* checking R code for possible problems ... OK
* checking Rd files ... NOTE
checkRd: (-1) PlotDimRed.Rd:55: Lost braces
    55 | of the dimred default = function(dimred){dimred$Y}.}
       |                                         ^
* checking Rd metadata ... OK
* checking Rd cross-references ... OK
* checking for missing documentation entries ... OK
* checking for code/documentation mismatches ... OK
* checking Rd \usage sections ... OK
* checking Rd contents ... OK
* checking for unstated dependencies in examples ... OK
* checking line endings in C/C++/Fortran sources/headers ... OK
* checking compiled code ... NOTE
Note: information on .o files is not available
* checking files in ‘vignettes’ ... OK
* checking examples ... OK
Examples with CPU (user + system) or elapsed time > 5s
                     user system elapsed
FlowSOMmary        46.381  0.451  46.501
PlotDimRed         44.047  0.204  44.162
PlotOutliers       15.639  0.044  15.684
PlotMarker         15.556  0.048  15.606
UpdateMetaclusters 14.376  0.084  14.461
PlotStars          13.256  0.016  13.273
GroupStats         11.049  0.044  11.093
FlowSOM            10.303  0.120  10.423
PlotGroups         10.261  0.024  10.286
QueryMultiple       8.302  0.008   8.311
query_multiple      8.076  0.044   8.120
AddAnnotation       7.763  0.184   7.949
Plot2DScatters      7.247  0.013   7.232
GetFlowJoLabels     6.705  0.076   6.785
PlotManualBars      6.653  0.040   6.695
PlotNode            6.574  0.008   6.581
QueryStarPlot       6.177  0.032   6.209
PlotVariable        6.101  0.016   6.117
PlotPies            5.992  0.064   6.057
PlotNumbers         5.897  0.016   5.913
UpdateNodeSize      5.219  0.028   5.248
PlotFlowSOM         5.185  0.040   5.226
SaveClustersToFCS   5.124  0.024   5.148
CountGroups         4.987  0.123   5.111
* checking for unstated dependencies in vignettes ... OK
* checking package vignettes ... OK
* checking re-building of vignette outputs ... OK
* checking PDF version of manual ... OK
* DONE

Status: 2 NOTEs
See
  ‘/home/biocbuild/bbs-3.19-bioc/meat/FlowSOM.Rcheck/00check.log’
for details.


Installation output

FlowSOM.Rcheck/00install.out

##############################################################################
##############################################################################
###
### Running command:
###
###   /home/biocbuild/bbs-3.19-bioc/R/bin/R CMD INSTALL FlowSOM
###
##############################################################################
##############################################################################


* installing to library ‘/home/biocbuild/bbs-3.19-bioc/R/site-library’
* installing *source* package ‘FlowSOM’ ...
** using staged installation
** libs
using C compiler: ‘gcc (Ubuntu 11.4.0-1ubuntu1~22.04) 11.4.0’
gcc -I"/home/biocbuild/bbs-3.19-bioc/R/include" -DNDEBUG   -I/usr/local/include    -fpic  -g -O2  -Wall -c som.c -o som.o
gcc -shared -L/home/biocbuild/bbs-3.19-bioc/R/lib -L/usr/local/lib -o FlowSOM.so som.o -L/home/biocbuild/bbs-3.19-bioc/R/lib -lR
installing to /home/biocbuild/bbs-3.19-bioc/R/site-library/00LOCK-FlowSOM/00new/FlowSOM/libs
** R
** inst
** byte-compile and prepare package for lazy loading
** help
*** installing help indices
** building package indices
** installing vignettes
** testing if installed package can be loaded from temporary location
** checking absolute paths in shared objects and dynamic libraries
** testing if installed package can be loaded from final location
** testing if installed package keeps a record of temporary installation path
* DONE (FlowSOM)

Tests output


Example timings

FlowSOM.Rcheck/FlowSOM-Ex.timings

nameusersystemelapsed
AddAnnotation7.7630.1847.949
AggregateFlowFrames0.0600.0120.072
BuildMST1.2600.0081.269
BuildSOM1.0300.0281.058
CountGroups4.9870.1235.111
FMeasure0.0020.0000.002
FlowSOM10.303 0.12010.423
FlowSOMSubset3.8190.0323.851
FlowSOMmary46.381 0.45146.501
GetChannels0.0220.0040.027
GetClusterMFIs3.5460.0603.606
GetClusterPercentagesPositive3.5930.0043.598
GetClusters3.6690.0803.750
GetCounts3.7080.0043.713
GetFeatures4.8260.0164.843
GetFlowJoLabels6.7050.0766.785
GetMFIs3.9960.0244.020
GetMarkers0.0270.0000.027
GetMetaclusterCVs4.0040.0204.024
GetMetaclusterMFIs4.0470.0324.079
GetMetaclusterPercentagesPositive4.2540.0164.270
GetMetaclusters3.9380.0123.950
GetPercentages4.1500.0644.215
GroupStats11.049 0.04411.093
Initialize_KWSP0.0040.0000.004
Initialize_PCA0.0010.0000.001
MetaClustering2.6620.0402.702
MetaclusterCVs4.1180.0164.135
MetaclusterMFIs4.5330.0084.541
NClusters4.4500.0124.463
NMetaclusters4.7190.0834.804
NewData3.7300.0203.751
Plot2DScatters7.2470.0137.232
PlotCenters0.9790.0080.987
PlotClusters2D0.9890.0000.989
PlotDimRed44.047 0.20444.162
PlotFileScatters0.7160.0120.728
PlotFlowSOM5.1850.0405.226
PlotGroups10.261 0.02410.286
PlotLabels4.8210.0644.886
PlotManualBars6.6530.0406.695
PlotMarker15.556 0.04815.606
PlotNode6.5740.0086.581
PlotNumbers5.8970.0165.913
PlotOutliers15.639 0.04415.684
PlotOverview2D4.3700.0124.383
PlotPies5.9920.0646.057
PlotSD1.8350.0121.848
PlotStars13.256 0.01613.273
PlotVariable6.1010.0166.117
Purity0.0010.0000.001
QueryMultiple8.3020.0088.311
QueryStarPlot6.1770.0326.209
ReadInput2.9920.0323.024
SaveClustersToFCS5.1240.0245.148
TestOutliers4.3030.0084.311
UpdateMetaclusters14.376 0.08414.461
UpdateNodeSize5.2190.0285.248
get_channels0.0280.0000.028
get_markers0.0280.0000.028
metaClustering_consensus2.6060.0122.619
plotStarLegend0.3470.0000.348
print.FlowSOM4.2690.0324.301
query_multiple8.0760.0448.120