Back to Multiple platform build/check report for BioC 3.19:   simplified   long
ABC[D]EFGHIJKLMNOPQRSTUVWXYZ

This page was generated on 2024-10-18 20:37 -0400 (Fri, 18 Oct 2024).

HostnameOSArch (*)R versionInstalled pkgs
nebbiolo1Linux (Ubuntu 22.04.3 LTS)x86_644.4.1 (2024-06-14) -- "Race for Your Life" 4763
palomino7Windows Server 2022 Datacenterx644.4.1 (2024-06-14 ucrt) -- "Race for Your Life" 4500
merida1macOS 12.7.5 Montereyx86_644.4.1 (2024-06-14) -- "Race for Your Life" 4530
kjohnson1macOS 13.6.6 Venturaarm644.4.1 (2024-06-14) -- "Race for Your Life" 4480
Click on any hostname to see more info about the system (e.g. compilers)      (*) as reported by 'uname -p', except on Windows and Mac OS X

All results for package DOSE


To the developers/maintainers of the DOSE package:
- Allow up to 24 hours (and sometimes 48 hours) for your latest push to git@git.bioconductor.org:packages/DOSE.git to reflect on this report. See Troubleshooting Build Report for more information.
- Use the following Renviron settings to reproduce errors and warnings.
- If 'R CMD check' started to fail recently on the Linux builder(s) over a missing dependency, add the missing dependency to 'Suggests:' in your DESCRIPTION file. See Renviron.bioc for more information.

raw results

Package 603/2300HostnameOS / ArchINSTALLBUILDCHECKBUILD BIN
DOSE 3.30.5  (landing page)
Guangchuang Yu
Snapshot Date: 2024-10-16 14:00 -0400 (Wed, 16 Oct 2024)
git_url: https://git.bioconductor.org/packages/DOSE
git_branch: RELEASE_3_19
git_last_commit: f2882c1
git_last_commit_date: 2024-08-26 06:23:33 -0400 (Mon, 26 Aug 2024)
nebbiolo1Linux (Ubuntu 22.04.3 LTS) / x86_64  OK    OK    OK  UNNEEDED, same version is already published
palomino7Windows Server 2022 Datacenter / x64  OK    OK    OK    OK  UNNEEDED, same version is already published
merida1macOS 12.7.5 Monterey / x86_64  OK    OK    OK    OK  UNNEEDED, same version is already published
kjohnson1macOS 13.6.6 Ventura / arm64  OK    OK    OK    OK  UNNEEDED, same version is already published



Results for Bioconductor software packages that depend directly on package DOSE

QUICK STATSOS / ArchINSTALLBUILDCHECKBUILD BIN
nebbiolo1Linux (Ubuntu 22.04.3 LTS) / x86_64
0021
0021
02118
palomino7Windows Server 2022 Datacenter / x64
0021
0021
01218
0021
merida1macOS 12.7.5 Monterey / x86_64
0021
0021
10218
0021
kjohnson1macOS 13.6.6 Ventura / arm64
0021
0219
00217
0015
Package 1/21HostnameOS / ArchINSTALLBUILDCHECKBUILD BIN
bioCancer 1.32.0  (landing page)
Karim Mezhoud
git_last_commit: c9ec0e2
git_last_commit_date: 2024-04-30 10:51:18 -0400
nebbiolo1Linux (Ubuntu 22.04.3 LTS) / x86_64  OK    OK    OK  UNNEEDED, same version is already published
palomino7Windows Server 2022 Datacenter / x64  OK    OK    OK    OK  UNNEEDED, same version is already published
merida1macOS 12.7.5 Monterey / x86_64  OK    OK    OK    OK  UNNEEDED, same version is already published
kjohnson1macOS 13.6.6 Ventura / arm64  OK    OK    OK    OK  UNNEEDED, same version is already published
Package 2/21HostnameOS / ArchINSTALLBUILDCHECKBUILD BIN
clusterProfiler 4.12.6  (landing page)
Guangchuang Yu
git_last_commit: af7bbec
git_last_commit_date: 2024-08-22 03:52:57 -0400
nebbiolo1Linux (Ubuntu 22.04.3 LTS) / x86_64  OK    OK    OK  UNNEEDED, same version is already published
palomino7Windows Server 2022 Datacenter / x64  OK    OK    OK    OK  UNNEEDED, same version is already published
merida1macOS 12.7.5 Monterey / x86_64  OK    OK    OK    OK  UNNEEDED, same version is already published
kjohnson1macOS 13.6.6 Ventura / arm64  OK    OK    OK    OK  UNNEEDED, same version is already published
Package 3/21HostnameOS / ArchINSTALLBUILDCHECKBUILD BIN
debrowser 1.32.0  (landing page)
Alper Kucukural
git_last_commit: eb2c623
git_last_commit_date: 2024-04-30 10:49:26 -0400
nebbiolo1Linux (Ubuntu 22.04.3 LTS) / x86_64  OK    OK    OK  UNNEEDED, same version is already published
palomino7Windows Server 2022 Datacenter / x64  OK    OK    OK    OK  UNNEEDED, same version is already published
merida1macOS 12.7.5 Monterey / x86_64  OK    OK    OK    OK  UNNEEDED, same version is already published
kjohnson1macOS 13.6.6 Ventura / arm64  OK    ERROR  skippedskipped
Package 4/21HostnameOS / ArchINSTALLBUILDCHECKBUILD BIN
eegc 1.30.0  (landing page)
Xiaoyuan Zhou
git_last_commit: d61283d
git_last_commit_date: 2024-04-30 10:53:13 -0400
nebbiolo1Linux (Ubuntu 22.04.3 LTS) / x86_64  OK    OK    ERROR  
palomino7Windows Server 2022 Datacenter / x64  OK    OK    WARNINGS    OK  UNNEEDED, same version is already published
merida1macOS 12.7.5 Monterey / x86_64  OK    OK    WARNINGS    OK  UNNEEDED, same version is already published
kjohnson1macOS 13.6.6 Ventura / arm64  OK    OK    WARNINGS    OK  UNNEEDED, same version is already published
Package 5/21HostnameOS / ArchINSTALLBUILDCHECKBUILD BIN
enrichplot 1.24.4  (landing page)
Guangchuang Yu
git_last_commit: ae44701
git_last_commit_date: 2024-08-25 21:21:06 -0400
nebbiolo1Linux (Ubuntu 22.04.3 LTS) / x86_64  OK    OK    OK  UNNEEDED, same version is already published
palomino7Windows Server 2022 Datacenter / x64  OK    OK    OK    OK  UNNEEDED, same version is already published
merida1macOS 12.7.5 Monterey / x86_64  OK    OK    OK    OK  UNNEEDED, same version is already published
kjohnson1macOS 13.6.6 Ventura / arm64  OK    OK    OK    OK  UNNEEDED, same version is already published
Package 6/21HostnameOS / ArchINSTALLBUILDCHECKBUILD BIN
enrichViewNet 1.2.0  (landing page)
Astrid DeschĂȘnes
git_last_commit: 3d0a43f
git_last_commit_date: 2024-04-30 11:52:32 -0400
nebbiolo1Linux (Ubuntu 22.04.3 LTS) / x86_64  OK    OK    OK  UNNEEDED, same version is already published
palomino7Windows Server 2022 Datacenter / x64  OK    OK    OK    OK  UNNEEDED, same version is already published
merida1macOS 12.7.5 Monterey / x86_64  OK    OK    OK    OK  UNNEEDED, same version is already published
kjohnson1macOS 13.6.6 Ventura / arm64  OK    OK    OK    OK  UNNEEDED, same version is already published
Package 7/21HostnameOS / ArchINSTALLBUILDCHECKBUILD BIN
GDCRNATools 1.24.0  (landing page)
Ruidong Li
git_last_commit: 4b2b185
git_last_commit_date: 2024-04-30 11:03:29 -0400
nebbiolo1Linux (Ubuntu 22.04.3 LTS) / x86_64  OK    OK    OK  UNNEEDED, same version is already published
palomino7Windows Server 2022 Datacenter / x64  OK    OK    OK    OK  UNNEEDED, same version is already published
merida1macOS 12.7.5 Monterey / x86_64  OK    OK    OK    OK  UNNEEDED, same version is already published
kjohnson1macOS 13.6.6 Ventura / arm64  OK    OK    OK    OK  UNNEEDED, same version is already published
Package 8/21HostnameOS / ArchINSTALLBUILDCHECKBUILD BIN
MAGeCKFlute 2.8.0  (landing page)
Wubing Zhang
git_last_commit: cf8b1d4
git_last_commit_date: 2024-04-30 11:02:57 -0400
nebbiolo1Linux (Ubuntu 22.04.3 LTS) / x86_64  OK    OK    OK  UNNEEDED, same version is already published
palomino7Windows Server 2022 Datacenter / x64  OK    OK    OK    OK  UNNEEDED, same version is already published
merida1macOS 12.7.5 Monterey / x86_64  OK    OK    OK    OK  UNNEEDED, same version is already published
kjohnson1macOS 13.6.6 Ventura / arm64  OK    OK    OK    OK  UNNEEDED, same version is already published
Package 9/21HostnameOS / ArchINSTALLBUILDCHECKBUILD BIN
meshes 1.30.0  (landing page)
Guangchuang Yu
git_last_commit: e1e7f7c
git_last_commit_date: 2024-04-30 10:54:41 -0400
nebbiolo1Linux (Ubuntu 22.04.3 LTS) / x86_64  OK    OK    OK  UNNEEDED, same version is already published
palomino7Windows Server 2022 Datacenter / x64  OK    OK    OK    OK  UNNEEDED, same version is already published
merida1macOS 12.7.5 Monterey / x86_64  OK    OK    OK    OK  UNNEEDED, same version is already published
kjohnson1macOS 13.6.6 Ventura / arm64  OK    OK    OK    OK  UNNEEDED, same version is already published
Package 10/21HostnameOS / ArchINSTALLBUILDCHECKBUILD BIN
miRSM 2.0.2  (landing page)
Junpeng Zhang
git_last_commit: d33bbfe
git_last_commit_date: 2024-09-18 08:11:27 -0400
nebbiolo1Linux (Ubuntu 22.04.3 LTS) / x86_64  OK    OK    OK  UNNEEDED, same version is already published
palomino7Windows Server 2022 Datacenter / x64  OK    OK    OK    OK  UNNEEDED, same version is already published
merida1macOS 12.7.5 Monterey / x86_64  OK    OK    OK    OK  UNNEEDED, same version is already published
kjohnson1macOS 13.6.6 Ventura / arm64  OK    OK    OK    OK  UNNEEDED, same version is already published
Package 11/21HostnameOS / ArchINSTALLBUILDCHECKBUILD BIN
miRspongeR 2.8.1  (landing page)
Junpeng Zhang
git_last_commit: be4d00d
git_last_commit_date: 2024-08-25 02:03:34 -0400
nebbiolo1Linux (Ubuntu 22.04.3 LTS) / x86_64  OK    OK    OK  UNNEEDED, same version is already published
palomino7Windows Server 2022 Datacenter / x64  OK    OK    OK    OK  UNNEEDED, same version is already published
merida1macOS 12.7.5 Monterey / x86_64  OK    OK    OK    OK  UNNEEDED, same version is already published
kjohnson1macOS 13.6.6 Ventura / arm64  OK    OK    OK    OK  UNNEEDED, same version is already published
Package 12/21HostnameOS / ArchINSTALLBUILDCHECKBUILD BIN
Moonlight2R 1.2.0  (landing page)
Matteo Tiberti
git_last_commit: 23ea632
git_last_commit_date: 2024-04-30 11:51:36 -0400
nebbiolo1Linux (Ubuntu 22.04.3 LTS) / x86_64  OK    OK    ERROR  
palomino7Windows Server 2022 Datacenter / x64  OK    OK    ERROR    OK  
merida1macOS 12.7.5 Monterey / x86_64  OK    OK    TIMEOUT    OK  
kjohnson1macOS 13.6.6 Ventura / arm64  OK    ERROR  skippedskipped
Package 13/21HostnameOS / ArchINSTALLBUILDCHECKBUILD BIN
MoonlightR 1.30.0  (landing page)
Matteo Tiberti
git_last_commit: 6c11c45
git_last_commit_date: 2024-04-30 10:54:23 -0400
nebbiolo1Linux (Ubuntu 22.04.3 LTS) / x86_64  OK    OK    OK  UNNEEDED, same version is already published
palomino7Windows Server 2022 Datacenter / x64  OK    OK    OK    OK  UNNEEDED, same version is already published
merida1macOS 12.7.5 Monterey / x86_64  OK    OK    OK    OK  UNNEEDED, same version is already published
kjohnson1macOS 13.6.6 Ventura / arm64  OK    OK    OK    OK  UNNEEDED, same version is already published
Package 14/21HostnameOS / ArchINSTALLBUILDCHECKBUILD BIN
pareg 1.8.0  (landing page)
Kim Philipp Jablonski
git_last_commit: 8352b08
git_last_commit_date: 2024-04-30 11:41:46 -0400
nebbiolo1Linux (Ubuntu 22.04.3 LTS) / x86_64  OK    OK    OK  UNNEEDED, same version is already published
palomino7Windows Server 2022 Datacenter / x64  OK    OK    OK    OK  UNNEEDED, same version is already published
merida1macOS 12.7.5 Monterey / x86_64  OK    OK    OK    OK  UNNEEDED, same version is already published
kjohnson1macOS 13.6.6 Ventura / arm64  OK    OK    OK    OK  UNNEEDED, same version is already published
Package 15/21HostnameOS / ArchINSTALLBUILDCHECKBUILD BIN
Pigengene 1.30.0  (landing page)
Habil Zare
git_last_commit: a1faa8a
git_last_commit_date: 2024-04-30 10:51:21 -0400
nebbiolo1Linux (Ubuntu 22.04.3 LTS) / x86_64  OK    OK    OK  UNNEEDED, same version is already published
palomino7Windows Server 2022 Datacenter / x64  OK    OK    OK    OK  UNNEEDED, same version is already published
merida1macOS 12.7.5 Monterey / x86_64  OK    OK    OK    OK  UNNEEDED, same version is already published
kjohnson1macOS 13.6.6 Ventura / arm64  OK    OK    OK    OK  UNNEEDED, same version is already published
Package 16/21HostnameOS / ArchINSTALLBUILDCHECKBUILD BIN
ReactomePA 1.48.0  (landing page)
Guangchuang Yu
git_last_commit: ac50a30
git_last_commit_date: 2024-04-30 10:27:19 -0400
nebbiolo1Linux (Ubuntu 22.04.3 LTS) / x86_64  OK    OK    OK  UNNEEDED, same version is already published
palomino7Windows Server 2022 Datacenter / x64  OK    OK    OK    OK  UNNEEDED, same version is already published
merida1macOS 12.7.5 Monterey / x86_64  OK    OK    OK    OK  UNNEEDED, same version is already published
kjohnson1macOS 13.6.6 Ventura / arm64  OK    OK    OK    OK  UNNEEDED, same version is already published
Package 17/21HostnameOS / ArchINSTALLBUILDCHECKBUILD BIN
RegEnrich 1.14.0  (landing page)
Weiyang Tao
git_last_commit: d3d50a8
git_last_commit_date: 2024-04-30 11:24:44 -0400
nebbiolo1Linux (Ubuntu 22.04.3 LTS) / x86_64  OK    OK    OK  UNNEEDED, same version is already published
palomino7Windows Server 2022 Datacenter / x64  OK    OK    OK    OK  UNNEEDED, same version is already published
merida1macOS 12.7.5 Monterey / x86_64  OK    OK    OK    OK  UNNEEDED, same version is already published
kjohnson1macOS 13.6.6 Ventura / arm64  OK    OK    OK    OK  UNNEEDED, same version is already published
Package 18/21HostnameOS / ArchINSTALLBUILDCHECKBUILD BIN
scTensor 2.14.0  (landing page)
Koki Tsuyuzaki
git_last_commit: 5ee2a91
git_last_commit_date: 2024-04-30 11:11:18 -0400
nebbiolo1Linux (Ubuntu 22.04.3 LTS) / x86_64  OK    OK    WARNINGS  UNNEEDED, same version is already published
palomino7Windows Server 2022 Datacenter / x64  OK    OK    WARNINGS    OK  UNNEEDED, same version is already published
merida1macOS 12.7.5 Monterey / x86_64  OK    OK    WARNINGS    OK  UNNEEDED, same version is already published
kjohnson1macOS 13.6.6 Ventura / arm64  OK    OK    WARNINGS    NA  
Package 19/21HostnameOS / ArchINSTALLBUILDCHECKBUILD BIN
signatureSearch 1.18.0  (landing page)
Brendan Gongol
git_last_commit: 8c6cc1e
git_last_commit_date: 2024-04-30 11:19:09 -0400
nebbiolo1Linux (Ubuntu 22.04.3 LTS) / x86_64  OK    OK    OK  UNNEEDED, same version is already published
palomino7Windows Server 2022 Datacenter / x64  OK    OK    OK    OK  UNNEEDED, same version is already published
merida1macOS 12.7.5 Monterey / x86_64  OK    OK    OK    OK  UNNEEDED, same version is already published
kjohnson1macOS 13.6.6 Ventura / arm64  OK    OK    OK    NA  
Package 20/21HostnameOS / ArchINSTALLBUILDCHECKBUILD BIN
SVMDO 1.4.7  (landing page)
Mustafa Erhan Ozer
git_last_commit: 53d7b05
git_last_commit_date: 2024-08-30 17:32:42 -0400
nebbiolo1Linux (Ubuntu 22.04.3 LTS) / x86_64  OK    OK    OK  UNNEEDED, same version is already published
palomino7Windows Server 2022 Datacenter / x64  OK    OK    OK    OK  UNNEEDED, same version is already published
merida1macOS 12.7.5 Monterey / x86_64  OK    OK    OK    OK  UNNEEDED, same version is already published
kjohnson1macOS 13.6.6 Ventura / arm64  OK    OK    OK    NA  
Package 21/21HostnameOS / ArchINSTALLBUILDCHECKBUILD BIN
TDbasedUFEadv 1.4.0  (landing page)
Y-h. Taguchi
git_last_commit: 4848d05
git_last_commit_date: 2024-04-30 11:48:13 -0400
nebbiolo1Linux (Ubuntu 22.04.3 LTS) / x86_64  OK    OK    OK  UNNEEDED, same version is already published
palomino7Windows Server 2022 Datacenter / x64  OK    OK    OK    OK  UNNEEDED, same version is already published
merida1macOS 12.7.5 Monterey / x86_64  OK    OK    OK    OK  UNNEEDED, same version is already published
kjohnson1macOS 13.6.6 Ventura / arm64  OK    OK    OK    NA