Back to Multiple platform build/check report for BioC 3.19:   simplified   long
ABCDEFGHIJKLMNO[P]QRSTUVWXYZ

This page was generated on 2024-10-18 20:42 -0400 (Fri, 18 Oct 2024).

HostnameOSArch (*)R versionInstalled pkgs
nebbiolo1Linux (Ubuntu 22.04.3 LTS)x86_644.4.1 (2024-06-14) -- "Race for Your Life" 4763
palomino7Windows Server 2022 Datacenterx644.4.1 (2024-06-14 ucrt) -- "Race for Your Life" 4500
merida1macOS 12.7.5 Montereyx86_644.4.1 (2024-06-14) -- "Race for Your Life" 4530
kjohnson1macOS 13.6.6 Venturaarm644.4.1 (2024-06-14) -- "Race for Your Life" 4480
Click on any hostname to see more info about the system (e.g. compilers)      (*) as reported by 'uname -p', except on Windows and Mac OS X

Package 1568/2300HostnameOS / ArchINSTALLBUILDCHECKBUILD BIN
Pigengene 1.30.0  (landing page)
Habil Zare
Snapshot Date: 2024-10-16 14:00 -0400 (Wed, 16 Oct 2024)
git_url: https://git.bioconductor.org/packages/Pigengene
git_branch: RELEASE_3_19
git_last_commit: a1faa8a
git_last_commit_date: 2024-04-30 10:51:21 -0400 (Tue, 30 Apr 2024)
nebbiolo1Linux (Ubuntu 22.04.3 LTS) / x86_64  OK    OK    OK  UNNEEDED, same version is already published
palomino7Windows Server 2022 Datacenter / x64  OK    OK    OK    OK  UNNEEDED, same version is already published
merida1macOS 12.7.5 Monterey / x86_64  OK    OK    OK    OK  UNNEEDED, same version is already published
kjohnson1macOS 13.6.6 Ventura / arm64  OK    OK    OK    OK  UNNEEDED, same version is already published


CHECK results for Pigengene on kjohnson1

To the developers/maintainers of the Pigengene package:
- Allow up to 24 hours (and sometimes 48 hours) for your latest push to git@git.bioconductor.org:packages/Pigengene.git to reflect on this report. See Troubleshooting Build Report for more information.
- Use the following Renviron settings to reproduce errors and warnings.
- If 'R CMD check' started to fail recently on the Linux builder(s) over a missing dependency, add the missing dependency to 'Suggests:' in your DESCRIPTION file. See Renviron.bioc for more information.

raw results


Summary

Package: Pigengene
Version: 1.30.0
Command: /Library/Frameworks/R.framework/Resources/bin/R CMD check --install=check:Pigengene.install-out.txt --library=/Library/Frameworks/R.framework/Resources/library --no-vignettes --timings Pigengene_1.30.0.tar.gz
StartedAt: 2024-10-18 07:30:28 -0400 (Fri, 18 Oct 2024)
EndedAt: 2024-10-18 07:43:29 -0400 (Fri, 18 Oct 2024)
EllapsedTime: 781.0 seconds
RetCode: 0
Status:   OK  
CheckDir: Pigengene.Rcheck
Warnings: 0

Command output

##############################################################################
##############################################################################
###
### Running command:
###
###   /Library/Frameworks/R.framework/Resources/bin/R CMD check --install=check:Pigengene.install-out.txt --library=/Library/Frameworks/R.framework/Resources/library --no-vignettes --timings Pigengene_1.30.0.tar.gz
###
##############################################################################
##############################################################################


* using log directory ‘/Users/biocbuild/bbs-3.19-bioc/meat/Pigengene.Rcheck’
* using R version 4.4.1 (2024-06-14)
* using platform: aarch64-apple-darwin20
* R was compiled by
    Apple clang version 14.0.0 (clang-1400.0.29.202)
    GNU Fortran (GCC) 12.2.0
* running under: macOS Ventura 13.6.6
* using session charset: UTF-8
* using option ‘--no-vignettes’
* checking for file ‘Pigengene/DESCRIPTION’ ... OK
* checking extension type ... Package
* this is package ‘Pigengene’ version ‘1.30.0’
* checking package namespace information ... OK
* checking package dependencies ... OK
* checking if this is a source package ... OK
* checking if there is a namespace ... OK
* checking for hidden files and directories ... OK
* checking for portable file names ... OK
* checking for sufficient/correct file permissions ... OK
* checking whether package ‘Pigengene’ can be installed ... OK
* checking installed package size ... OK
* checking package directory ... OK
* checking ‘build’ directory ... OK
* checking DESCRIPTION meta-information ... OK
* checking top-level files ... OK
* checking for left-over files ... OK
* checking index information ... OK
* checking package subdirectories ... OK
* checking code files for non-ASCII characters ... OK
* checking R files for syntax errors ... OK
* checking whether the package can be loaded ... OK
* checking whether the package can be loaded with stated dependencies ... OK
* checking whether the package can be unloaded cleanly ... OK
* checking whether the namespace can be loaded with stated dependencies ... OK
* checking whether the namespace can be unloaded cleanly ... OK
* checking dependencies in R code ... NOTE
'library' or 'require' calls in package code:
  ‘AnnotationDbi’ ‘biomaRt’ ‘energy’ ‘org.Hs.eg.db’ ‘org.Mm.eg.db’
  Please use :: or requireNamespace() instead.
  See section 'Suggested packages' in the 'Writing R Extensions' manual.
* checking S3 generic/method consistency ... OK
* checking replacement functions ... OK
* checking foreign function calls ... OK
* checking R code for possible problems ... NOTE
Found the following possibly unsafe calls:
File ‘Pigengene/R/bn.calculation.R’:
  assignInNamespace("supported.clusters", fixArgs, "bnlearn")

one.step.pigengene: no visible binding for global variable
  ‘org.Hs.eg.db’
Undefined global functions or variables:
  org.Hs.eg.db
* checking Rd files ... NOTE
checkRd: (-1) draw.bn.Rd:47: Lost braces
    47 |      rename the nodes name.  See code{rename.node}.}
       |                                      ^
checkRd: (-1) eigengenes33.Rd:21-22: Lost braces
    21 |  {A 202 by 34 matrix. 
       |  ^
checkRd: (-1) eigengenes33.Rd:25: Lost braces; missing escapes or markup?
    25 |  {A 164 by 34 matrix for MDS cases with columns similar to aml.}
       |  ^
checkRd: (-1) eigengenes33.Rd:28: Lost braces; missing escapes or markup?
    28 |  {A numeric vector of length 9166 labeling members of each module. Named by Entrez ID.}
       |  ^
checkRd: (-1) pigengene-class.Rd:22-23: Lost braces in \itemize; meant \describe ?
checkRd: (-1) pigengene-class.Rd:24-26: Lost braces in \itemize; meant \describe ?
checkRd: (-1) pigengene-class.Rd:27-34: Lost braces in \itemize; meant \describe ?
checkRd: (-1) pigengene-class.Rd:35-36: Lost braces in \itemize; meant \describe ?
checkRd: (-1) pigengene-class.Rd:37-39: Lost braces in \itemize; meant \describe ?
checkRd: (-1) pigengene-class.Rd:40-42: Lost braces in \itemize; meant \describe ?
checkRd: (-1) pigengene-class.Rd:43-44: Lost braces in \itemize; meant \describe ?
checkRd: (-1) pigengene-class.Rd:45-47: Lost braces in \itemize; meant \describe ?
checkRd: (-1) pigengene-class.Rd:48-50: Lost braces in \itemize; meant \describe ?
checkRd: (-1) pigengene-class.Rd:51-52: Lost braces in \itemize; meant \describe ?
checkRd: (-1) pigengene-class.Rd:53-54: Lost braces in \itemize; meant \describe ?
checkRd: (-1) pigengene-class.Rd:55-58: Lost braces in \itemize; meant \describe ?
checkRd: (-1) pigengene-class.Rd:59-63: Lost braces in \itemize; meant \describe ?
checkRd: (-1) pigengene-class.Rd:68-71: Lost braces in \itemize; meant \describe ?
checkRd: (-1) pigengene-class.Rd:72-74: Lost braces in \itemize; meant \describe ?
* checking Rd metadata ... OK
* checking Rd cross-references ... OK
* checking for missing documentation entries ... OK
* checking for code/documentation mismatches ... OK
* checking Rd \usage sections ... OK
* checking Rd contents ... OK
* checking for unstated dependencies in examples ... OK
* checking contents of ‘data’ directory ... OK
* checking data for non-ASCII characters ... OK
* checking data for ASCII and uncompressed saves ... OK
* checking sizes of PDF files under ‘inst/doc’ ... OK
* checking files in ‘vignettes’ ... OK
* checking examples ... OK
Examples with CPU (user + system) or elapsed time > 5s
                      user system elapsed
one.step.pigengene 100.004  3.057 104.573
get.enriched.pw     90.145  7.032  99.625
Pigengene-package   91.926  3.895  98.141
module.heatmap      37.560  2.243  40.179
learn.bn            20.690  0.299  21.464
make.filter         19.401  0.427  20.060
apply.filter        17.216  0.428  17.829
combine.networks    16.679  0.120  16.923
determine.modules   16.374  0.114  16.816
wgcna.one.step      15.650  0.074  15.824
make.decision.tree  13.432  0.695  14.193
compact.tree        12.674  0.944  13.783
pigengene            8.995  0.566   9.609
gene.mapping         8.492  0.801  25.528
plot.pigengene       8.701  0.410   9.228
project.eigen        8.150  0.524   8.717
compute.pigengene    7.850  0.636   8.581
* checking for unstated dependencies in vignettes ... OK
* checking package vignettes ... OK
* checking running R code from vignettes ... SKIPPED
* checking re-building of vignette outputs ... SKIPPED
* checking PDF version of manual ... OK
* DONE

Status: 3 NOTEs
See
  ‘/Users/biocbuild/bbs-3.19-bioc/meat/Pigengene.Rcheck/00check.log’
for details.


Installation output

Pigengene.Rcheck/00install.out

##############################################################################
##############################################################################
###
### Running command:
###
###   /Library/Frameworks/R.framework/Resources/bin/R CMD INSTALL Pigengene
###
##############################################################################
##############################################################################


* installing to library ‘/Library/Frameworks/R.framework/Versions/4.4-arm64/Resources/library’
* installing *source* package ‘Pigengene’ ...
** using staged installation
** R
** data
** inst
** byte-compile and prepare package for lazy loading
** help
*** installing help indices
** building package indices
** installing vignettes
** testing if installed package can be loaded from temporary location
** testing if installed package can be loaded from final location
** testing if installed package keeps a record of temporary installation path
* DONE (Pigengene)

Tests output


Example timings

Pigengene.Rcheck/Pigengene-Ex.timings

nameusersystemelapsed
Pigengene-package91.926 3.89598.141
aml0.1570.0120.174
apply.filter17.216 0.42817.829
balance0.2610.0530.320
calculate.beta0.9350.0290.992
check.nas0.0640.0080.072
check.pigengene.input0.0640.0070.070
combine.networks16.679 0.12016.923
compact.tree12.674 0.94413.783
compute.pigengene7.8500.6368.581
dcor.matrix0.1780.0250.208
determine.modules16.374 0.11416.816
draw.bn0.0010.0000.000
eigengenes330.0950.0060.102
gene.mapping 8.492 0.80125.528
get.enriched.pw90.145 7.03299.625
get.fitted.leaf0.7060.0520.779
get.genes0.5930.0450.646
get.used.features0.6070.0420.658
learn.bn20.690 0.29921.464
make.decision.tree13.432 0.69514.193
make.filter19.401 0.42720.060
mds0.1240.0130.142
message.if000
module.heatmap37.560 2.24340.179
one.step.pigengene100.004 3.057104.573
pheatmap.type0.2140.0080.222
pigengene8.9950.5669.609
plot.pigengene8.7010.4109.228
preds.at0.7290.0470.826
project.eigen8.1500.5248.717
pvalues.manova0.0520.0070.060
save.if0.9890.0201.023
wgcna.one.step15.650 0.07415.824