| Back to Multiple platform build/check report for BioC 3.19: simplified long |
|
This page was generated on 2024-05-09 11:40:44 -0400 (Thu, 09 May 2024).
| Hostname | OS | Arch (*) | R version | Installed pkgs |
|---|---|---|---|---|
| nebbiolo1 | Linux (Ubuntu 22.04.3 LTS) | x86_64 | 4.4.0 (2024-04-24) -- "Puppy Cup" | 4748 |
| palomino3 | Windows Server 2022 Datacenter | x64 | 4.4.0 (2024-04-24 ucrt) -- "Puppy Cup" | 4484 |
| lconway | macOS 12.7.1 Monterey | x86_64 | 4.4.0 (2024-04-24) -- "Puppy Cup" | 4514 |
| kunpeng2 | Linux (openEuler 22.03 LTS-SP1) | aarch64 | 4.4.0 beta (2024-04-15 r86425) -- "Puppy Cup" | 4480 |
| Click on any hostname to see more info about the system (e.g. compilers) (*) as reported by 'uname -p', except on Windows and Mac OS X | ||||
| Package 509/2300 | Hostname | OS / Arch | INSTALL | BUILD | CHECK | BUILD BIN | ||||||||
| DAPAR 1.36.0 (landing page) Samuel Wieczorek
| nebbiolo1 | Linux (Ubuntu 22.04.3 LTS) / x86_64 | OK | OK | OK | |||||||||
| palomino3 | Windows Server 2022 Datacenter / x64 | OK | OK | OK | OK | |||||||||
| lconway | macOS 12.7.1 Monterey / x86_64 | OK | OK | OK | OK | |||||||||
| kunpeng2 | Linux (openEuler 22.03 LTS-SP1) / aarch64 | OK | OK | OK | ||||||||||
| kjohnson3 | macOS 13.6.5 Ventura / arm64 | see weekly results here | ||||||||||||
|
To the developers/maintainers of the DAPAR package: - Allow up to 24 hours (and sometimes 48 hours) for your latest push to git@git.bioconductor.org:packages/DAPAR.git to reflect on this report. See Troubleshooting Build Report for more information. - Use the following Renviron settings to reproduce errors and warnings. - If 'R CMD check' started to fail recently on the Linux builder(s) over a missing dependency, add the missing dependency to 'Suggests:' in your DESCRIPTION file. See Renviron.bioc for more information. - See Martin Grigorov's blog post for how to debug Linux ARM64 related issues on a x86_64 host. |
| Package: DAPAR |
| Version: 1.36.0 |
| Command: /home/biocbuild/R/R-beta-2024-04-15_r86425/bin/R CMD check --install=check:DAPAR.install-out.txt --library=/home/biocbuild/R/R-beta-2024-04-15_r86425/site-library --no-vignettes --timings DAPAR_1.36.0.tar.gz |
| StartedAt: 2024-05-09 06:30:50 -0000 (Thu, 09 May 2024) |
| EndedAt: 2024-05-09 06:41:14 -0000 (Thu, 09 May 2024) |
| EllapsedTime: 624.1 seconds |
| RetCode: 0 |
| Status: OK |
| CheckDir: DAPAR.Rcheck |
| Warnings: 0 |
##############################################################################
##############################################################################
###
### Running command:
###
### /home/biocbuild/R/R-beta-2024-04-15_r86425/bin/R CMD check --install=check:DAPAR.install-out.txt --library=/home/biocbuild/R/R-beta-2024-04-15_r86425/site-library --no-vignettes --timings DAPAR_1.36.0.tar.gz
###
##############################################################################
##############################################################################
* using log directory ‘/home/biocbuild/bbs-3.19-bioc/meat/DAPAR.Rcheck’
* using R version 4.4.0 beta (2024-04-15 r86425)
* using platform: aarch64-unknown-linux-gnu
* R was compiled by
gcc (GCC) 10.3.1
GNU Fortran (GCC) 10.3.1
* running under: openEuler 22.03 (LTS-SP1)
* using session charset: UTF-8
* using option ‘--no-vignettes’
* checking for file ‘DAPAR/DESCRIPTION’ ... OK
* checking extension type ... Package
* this is package ‘DAPAR’ version ‘1.36.0’
* package encoding: UTF-8
* checking package namespace information ... OK
* checking package dependencies ... OK
* checking if this is a source package ... OK
* checking if there is a namespace ... OK
* checking for hidden files and directories ... OK
* checking for portable file names ... OK
* checking for sufficient/correct file permissions ... OK
* checking whether package ‘DAPAR’ can be installed ... OK
* checking installed package size ... OK
* checking package directory ... OK
* checking DESCRIPTION meta-information ... OK
* checking top-level files ... OK
* checking for left-over files ... OK
* checking index information ... OK
* checking package subdirectories ... OK
* checking code files for non-ASCII characters ... OK
* checking R files for syntax errors ... OK
* checking whether the package can be loaded ... OK
* checking whether the package can be loaded with stated dependencies ... OK
* checking whether the package can be unloaded cleanly ... OK
* checking whether the namespace can be loaded with stated dependencies ... OK
* checking whether the namespace can be unloaded cleanly ... OK
* checking loading without being on the library search path ... OK
* checking whether startup messages can be suppressed ... OK
* checking dependencies in R code ... OK
* checking S3 generic/method consistency ... OK
* checking replacement functions ... OK
* checking foreign function calls ... OK
* checking R code for possible problems ... NOTE
Check_Dataset_Validity: no visible global function definition for
‘exprs’
OWAnova: no visible global function definition for ‘aov’
aggregateIterParallel: no visible binding for global variable ‘cond’
averageIntensities: no visible binding for global variable ‘condition’
averageIntensities: no visible binding for global variable ‘feature’
averageIntensities: no visible binding for global variable ‘intensity’
createMSnset: no visible global function definition for
‘installed.packages’
createMSnset: no visible binding for global variable ‘Prostar.loc’
createMSnset2: no visible global function definition for
‘installed.packages’
createMSnset2: no visible binding for global variable ‘Prostar.loc’
diffAnaVolcanoplot_rCharts: no visible binding for global variable ‘x’
diffAnaVolcanoplot_rCharts: no visible binding for global variable ‘y’
diffAnaVolcanoplot_rCharts: no visible binding for global variable ‘g’
display.CC.visNet: no visible binding for global variable
‘layout_nicely’
getTextForGOAnalysis: no visible binding for global variable
‘textGOParams’
getTextForGOAnalysis: no visible binding for global variable ‘input’
globalAdjPval: no visible global function definition for ‘stack’
heatmapForMissingValues: no visible binding for global variable ‘par’
limmaCompleteTest: no visible binding for global variable ‘A’
limmaCompleteTest: no visible binding for global variable ‘B’
limmaCompleteTest: no visible binding for global variable ‘P.Value’
pepa.test: no visible global function definition for ‘nodes<-’
testAnovaModels : <anonymous>: no visible global function definition
for ‘TukeyHSD’
visualizeClusters: no visible binding for global variable
‘adjusted_pvalues’
visualizeClusters: no visible binding for global variable ‘Condition’
visualizeClusters: no visible binding for global variable ‘Intensity’
visualizeClusters: no visible binding for global variable
‘FDR_threshold’
visualizeClusters: no visible binding for global variable ‘feature’
wrapperClassic1wayAnova: no visible binding for global variable
‘Pr(>F)1’
wrapperRunClustering: no visible global function definition for ‘str_c’
Undefined global functions or variables:
A B Condition FDR_threshold Intensity P.Value Pr(>F)1 Prostar.loc
TukeyHSD adjusted_pvalues aov cond condition exprs feature g input
installed.packages intensity layout_nicely nodes<- par stack str_c
textGOParams x y
Consider adding
importFrom("graphics", "par")
importFrom("stats", "TukeyHSD", "aov")
importFrom("utils", "installed.packages", "stack")
to your NAMESPACE file.
* checking Rd files ... OK
* checking Rd metadata ... OK
* checking Rd cross-references ... OK
* checking for missing documentation entries ... OK
* checking for code/documentation mismatches ... OK
* checking Rd \usage sections ... OK
* checking Rd contents ... OK
* checking for unstated dependencies in examples ... OK
* checking examples ... OK
Examples with CPU (user + system) or elapsed time > 5s
user system elapsed
wrapper.compareNormalizationD_HC 58.380 14.445 69.573
wrapper.dapar.impute.mi 20.823 0.667 21.344
barplotEnrichGO_HC 10.470 1.557 11.828
barplotGroupGO_HC 6.027 0.484 6.450
scatterplotEnrichGO_HC 5.713 0.318 5.990
group_GO 5.681 0.340 5.964
enrich_GO 5.510 0.289 5.757
checkClusterability 4.171 1.321 5.018
* checking for unstated dependencies in ‘tests’ ... OK
* checking tests ...
Running ‘testthat.R’
OK
* checking PDF version of manual ... OK
* DONE
Status: 1 NOTE
See
‘/home/biocbuild/bbs-3.19-bioc/meat/DAPAR.Rcheck/00check.log’
for details.
DAPAR.Rcheck/00install.out
############################################################################## ############################################################################## ### ### Running command: ### ### /home/biocbuild/R/R-beta-2024-04-15_r86425/bin/R CMD INSTALL DAPAR ### ############################################################################## ############################################################################## * installing to library ‘/home/biocbuild/R/R-beta-2024-04-15_r86425/site-library’ * installing *source* package ‘DAPAR’ ... ** using staged installation ** R ** inst ** byte-compile and prepare package for lazy loading ** help *** installing help indices ** building package indices ** testing if installed package can be loaded from temporary location ** testing if installed package can be loaded from final location ** testing if installed package keeps a record of temporary installation path * DONE (DAPAR)
DAPAR.Rcheck/tests/testthat.Rout
R version 4.4.0 beta (2024-04-15 r86425) -- "Puppy Cup"
Copyright (C) 2024 The R Foundation for Statistical Computing
Platform: aarch64-unknown-linux-gnu
R is free software and comes with ABSOLUTELY NO WARRANTY.
You are welcome to redistribute it under certain conditions.
Type 'license()' or 'licence()' for distribution details.
R is a collaborative project with many contributors.
Type 'contributors()' for more information and
'citation()' on how to cite R or R packages in publications.
Type 'demo()' for some demos, 'help()' for on-line help, or
'help.start()' for an HTML browser interface to help.
Type 'q()' to quit R.
> library(testthat)
> library(DAPAR)
This is the 'DAPAR' version 1.36.0.
To get started, visit
http://www.prostar-proteomics.org/
>
> test_check("DAPAR")
Iterations:
1 / 1 - Imputation MNAR OK -
Imputation MCAR in progress -
3 % - 6 % - 9 % - 12 % - 15 % - 18 % - 21 % - 24 % - 27 % - 30 % - 33 % - 36 % - 39 % - 42 % - 45 % - 48 % - 51 % - 54 % - 57 % - 60 % - 63 % - 66 % - 69 % - 72 % - 75 % - 78 % - 81 % - 84 % - 87 % - 90 % - 93 % - 96 % - 99 % -
Iterations:
1 / 1 - Imputation MNAR OK -
Imputation MCAR in progress -
3 % - 6 % - 9 % - 12 % - 15 % - 18 % - 21 % - 24 % - 27 % - 30 % - 33 % - 36 % - 39 % - 42 % - 45 % - 48 % - 51 % - 54 % - 57 % - 60 % - 63 % - 66 % - 69 % - 72 % - 75 % - 78 % - 81 % - 84 % - 87 % - 90 % - 93 % - 96 % - 99 % -
Imputation in condition 1 ...
In progress: 10 % - 20 % - 30 % - 40 % - 50 % - 60 % - 70 % - 80 % - 90 % - 100 % -
Imputation in condition 2 ...
In progress: 10 % - 20 % - 30 % - 40 % - 50 % - 60 % - 70 % - 80 % - 90 % - 100 % - [ FAIL 0 | WARN 17 | SKIP 0 | PASS 66 ]
[ FAIL 0 | WARN 17 | SKIP 0 | PASS 66 ]
>
> proc.time()
user system elapsed
40.518 2.280 42.946
DAPAR.Rcheck/DAPAR-Ex.timings
| name | user | system | elapsed | |
| AggregateMetacell | 0.448 | 0.004 | 0.456 | |
| BuildAdjacencyMatrix | 1.281 | 0.215 | 1.502 | |
| BuildColumnToProteinDataset | 0.410 | 0.008 | 0.419 | |
| BuildMetaCell | 0.704 | 0.048 | 0.755 | |
| CVDistD_HC | 3.265 | 0.215 | 3.546 | |
| Children | 0.003 | 0.003 | 0.007 | |
| CountPep | 0.337 | 0.016 | 0.354 | |
| ExtendPalette | 0.038 | 0.000 | 0.039 | |
| GOAnalysisSave | 0 | 0 | 0 | |
| GetCC | 3.603 | 0.231 | 3.849 | |
| GetColorsForConditions | 0.288 | 0.004 | 0.294 | |
| GetDetailedNbPeptides | 0.334 | 0.008 | 0.344 | |
| GetDetailedNbPeptidesUsed | 0 | 0 | 0 | |
| GetIndices_BasedOnConditions | 0.315 | 0.009 | 0.325 | |
| GetIndices_MetacellFiltering | 0.314 | 0.006 | 0.320 | |
| GetIndices_WholeLine | 0.303 | 0.012 | 0.316 | |
| GetIndices_WholeMatrix | 0.317 | 0.000 | 0.318 | |
| GetKeyId | 0.282 | 0.004 | 0.288 | |
| GetMatAdj | 0.354 | 0.007 | 0.364 | |
| GetMetacell | 0 | 0 | 0 | |
| GetMetacellTags | 0.298 | 0.015 | 0.314 | |
| GetNbPeptidesUsed | 0.304 | 0.016 | 0.321 | |
| GetNbTags | 0 | 0 | 0 | |
| GetSoftAvailables | 0.001 | 0.000 | 0.001 | |
| GetTypeofData | 0.285 | 0.000 | 0.288 | |
| Get_AllComparisons | 0.267 | 0.019 | 0.289 | |
| GlobalQuantileAlignment | 0.354 | 0.012 | 0.366 | |
| GraphPepProt | 0.305 | 0.016 | 0.322 | |
| LH0 | 0 | 0 | 0 | |
| LH0.lm | 0.000 | 0.000 | 0.001 | |
| LH1 | 0 | 0 | 0 | |
| LH1.lm | 0 | 0 | 0 | |
| LOESS | 1.709 | 0.000 | 1.713 | |
| MeanCentering | 0.306 | 0.008 | 0.315 | |
| MetaCellFiltering | 0.574 | 0.028 | 0.603 | |
| MetacellFilteringScope | 0.001 | 0.000 | 0.000 | |
| Metacell_DIA_NN | 0.562 | 0.015 | 0.578 | |
| Metacell_generic | 0.471 | 0.016 | 0.487 | |
| Metacell_maxquant | 0.525 | 0.016 | 0.543 | |
| Metacell_proline | 0.474 | 0.012 | 0.486 | |
| NumericalFiltering | 0.337 | 0.012 | 0.350 | |
| NumericalgetIndicesOfLinesToRemove | 0.297 | 0.000 | 0.297 | |
| OWAnova | 0.001 | 0.008 | 0.009 | |
| QuantileCentering | 0.280 | 0.004 | 0.285 | |
| SetCC | 2.389 | 0.275 | 2.671 | |
| SetMatAdj | 0.356 | 0.001 | 0.356 | |
| Set_POV_MEC_tags | 0.291 | 0.011 | 0.303 | |
| StringBasedFiltering | 0.336 | 0.003 | 0.341 | |
| StringBasedFiltering2 | 0.327 | 0.012 | 0.340 | |
| SumByColumns | 1.618 | 0.068 | 1.689 | |
| SymFilteringOperators | 0 | 0 | 0 | |
| UpdateMetacellAfterImputation | 0.317 | 0.004 | 0.322 | |
| aggregateIter | 0.514 | 0.016 | 0.530 | |
| aggregateIterParallel | 0 | 0 | 0 | |
| aggregateMean | 0.448 | 0.008 | 0.457 | |
| aggregateSum | 0.434 | 0.008 | 0.444 | |
| aggregateTopn | 0.381 | 0.012 | 0.394 | |
| applyAnovasOnProteins | 0.092 | 0.000 | 0.093 | |
| averageIntensities | 0.578 | 0.037 | 0.605 | |
| barplotEnrichGO_HC | 10.470 | 1.557 | 11.828 | |
| barplotGroupGO_HC | 6.027 | 0.484 | 6.450 | |
| boxPlotD_HC | 0.364 | 0.017 | 0.370 | |
| buildGraph | 1.613 | 0.176 | 1.787 | |
| check.conditions | 0.268 | 0.000 | 0.268 | |
| check.design | 0.269 | 0.000 | 0.269 | |
| checkClusterability | 4.171 | 1.321 | 5.018 | |
| classic1wayAnova | 0.000 | 0.000 | 0.001 | |
| compareNormalizationD_HC | 0.141 | 0.016 | 0.154 | |
| compute.selection.table | 0.862 | 0.091 | 0.927 | |
| compute_t_tests | 1.505 | 0.176 | 1.617 | |
| corrMatrixD_HC | 0.501 | 0.053 | 0.548 | |
| createMSnset | 2.024 | 0.064 | 2.075 | |
| createMSnset2 | 1.952 | 0.067 | 2.011 | |
| dapar_hc_ExportMenu | 0.174 | 0.028 | 0.198 | |
| dapar_hc_chart | 0.084 | 0.000 | 0.083 | |
| deleteLinesFromIndices | 0.307 | 0.035 | 0.340 | |
| densityPlotD_HC | 3.535 | 0.956 | 4.255 | |
| diffAnaComputeAdjustedPValues | 0.175 | 0.013 | 0.183 | |
| diffAnaComputeFDR | 0 | 0 | 0 | |
| diffAnaGetSignificant | 0.283 | 0.049 | 0.318 | |
| diffAnaSave | 0.269 | 0.042 | 0.297 | |
| diffAnaVolcanoplot | 0.165 | 0.008 | 0.167 | |
| diffAnaVolcanoplot_rCharts | 0.457 | 0.059 | 0.495 | |
| display.CC.visNet | 1.755 | 0.108 | 1.856 | |
| enrich_GO | 5.510 | 0.289 | 5.757 | |
| finalizeAggregation | 0 | 0 | 0 | |
| findMECBlock | 0.318 | 0.016 | 0.334 | |
| formatHSDResults | 0 | 0 | 0 | |
| formatLimmaResult | 0.139 | 0.011 | 0.150 | |
| formatPHResults | 0 | 0 | 0 | |
| formatPHTResults | 0 | 0 | 0 | |
| fudge2LRT | 0.001 | 0.000 | 0.000 | |
| get.pep.prot.cc | 1.638 | 0.156 | 1.794 | |
| getDesignLevel | 0.267 | 0.004 | 0.272 | |
| getIndicesConditions | 0.267 | 0.004 | 0.272 | |
| getIndicesOfLinesToRemove | 0.291 | 0.014 | 0.305 | |
| getListNbValuesInLines | 0.271 | 0.004 | 0.274 | |
| getNumberOf | 0.304 | 0.000 | 0.303 | |
| getNumberOfEmptyLines | 0.317 | 0.008 | 0.324 | |
| getPourcentageOfMV | 0.307 | 0.004 | 0.309 | |
| getProcessingInfo | 0.276 | 0.003 | 0.280 | |
| getProteinsStats | 0.318 | 0.004 | 0.320 | |
| getQuantile4Imp | 0.062 | 0.000 | 0.063 | |
| getTextForAggregation | 0.000 | 0.000 | 0.001 | |
| getTextForAnaDiff | 0.000 | 0.000 | 0.001 | |
| getTextForFiltering | 0.000 | 0.000 | 0.001 | |
| getTextForGOAnalysis | 0.000 | 0.000 | 0.001 | |
| getTextForHypothesisTest | 0.001 | 0.000 | 0.000 | |
| getTextForNewDataset | 0.003 | 0.000 | 0.003 | |
| getTextForNormalization | 0.000 | 0.000 | 0.001 | |
| getTextForpeptideImputation | 0.000 | 0.000 | 0.001 | |
| getTextForproteinImputation | 0.001 | 0.000 | 0.000 | |
| globalAdjPval | 0.535 | 0.053 | 0.573 | |
| group_GO | 5.681 | 0.340 | 5.964 | |
| hc_logFC_DensityPlot | 0.74 | 0.13 | 0.81 | |
| hc_mvTypePlot2 | 0.953 | 0.146 | 1.039 | |
| heatmapD | 0.695 | 0.019 | 0.712 | |
| heatmapForMissingValues | 0.155 | 0.021 | 0.172 | |
| histPValue_HC | 0.229 | 0.016 | 0.239 | |
| impute.pa2 | 0.353 | 0.012 | 0.362 | |
| inner.aggregate.iter | 0.372 | 0.008 | 0.376 | |
| inner.aggregate.topn | 0.333 | 0.016 | 0.347 | |
| inner.mean | 0.326 | 0.004 | 0.329 | |
| inner.sum | 0.393 | 0.008 | 0.400 | |
| is.subset | 0 | 0 | 0 | |
| limmaCompleteTest | 1.736 | 0.097 | 1.818 | |
| listSheets | 0 | 0 | 0 | |
| make.contrast | 0.301 | 0.000 | 0.301 | |
| make.design.1 | 0.297 | 0.003 | 0.300 | |
| make.design.2 | 0.296 | 0.004 | 0.300 | |
| make.design.3 | 0.292 | 0.007 | 0.300 | |
| make.design | 0.299 | 0.004 | 0.303 | |
| match.metacell | 0.572 | 0.023 | 0.596 | |
| metacell.def | 0.006 | 0.000 | 0.007 | |
| metacellHisto_HC | 0.367 | 0.020 | 0.388 | |
| metacellPerLinesHistoPerCondition_HC | 0.491 | 0.032 | 0.523 | |
| metacellPerLinesHisto_HC | 0.648 | 0.040 | 0.688 | |
| metacombine | 0.078 | 0.008 | 0.086 | |
| mvImage | 2.761 | 0.105 | 2.872 | |
| my_hc_ExportMenu | 0.157 | 0.044 | 0.201 | |
| my_hc_chart | 0.164 | 0.045 | 0.204 | |
| nonzero | 0.025 | 0.000 | 0.026 | |
| normalizeMethods.dapar | 0.000 | 0.000 | 0.001 | |
| pepa.test | 0.323 | 0.008 | 0.333 | |
| pkgs.require | 0.000 | 0.000 | 0.001 | |
| plotJitter | 1.801 | 0.115 | 1.920 | |
| plotJitter_rCharts | 1.689 | 0.014 | 1.707 | |
| plotPCA_Eigen | 0.376 | 0.003 | 0.381 | |
| plotPCA_Eigen_hc | 0.274 | 0.000 | 0.275 | |
| plotPCA_Ind | 0.280 | 0.008 | 0.288 | |
| plotPCA_Var | 0.273 | 0.000 | 0.273 | |
| postHocTest | 0 | 0 | 0 | |
| proportionConRev_HC | 0.059 | 0.012 | 0.068 | |
| rbindMSnset | 0.403 | 0.012 | 0.408 | |
| reIntroduceMEC | 0.340 | 0.020 | 0.356 | |
| readExcel | 0 | 0 | 0 | |
| removeLines | 0.328 | 0.004 | 0.333 | |
| samLRT | 0 | 0 | 0 | |
| saveParameters | 0.273 | 0.003 | 0.277 | |
| scatterplotEnrichGO_HC | 5.713 | 0.318 | 5.990 | |
| search.metacell.tags | 0.01 | 0.00 | 0.01 | |
| separateAdjPval | 0.185 | 0.001 | 0.181 | |
| splitAdjacencyMat | 0.333 | 0.000 | 0.331 | |
| test.design | 0.298 | 0.003 | 0.302 | |
| testAnovaModels | 0.101 | 0.004 | 0.103 | |
| thresholdpval4fdr | 0 | 0 | 0 | |
| translatedRandomBeta | 0.003 | 0.000 | 0.003 | |
| univ_AnnotDbPkg | 0.214 | 0.008 | 0.220 | |
| violinPlotD | 0.443 | 0.000 | 0.444 | |
| visualizeClusters | 1.544 | 0.164 | 1.710 | |
| vsn | 0.667 | 0.008 | 0.673 | |
| wrapper.CVDistD_HC | 2.150 | 0.519 | 2.626 | |
| wrapper.compareNormalizationD_HC | 58.380 | 14.445 | 69.573 | |
| wrapper.corrMatrixD_HC | 0.436 | 0.025 | 0.454 | |
| wrapper.dapar.impute.mi | 20.823 | 0.667 | 21.344 | |
| wrapper.heatmapD | 0.578 | 0.007 | 0.583 | |
| wrapper.impute.KNN | 0.311 | 0.020 | 0.331 | |
| wrapper.impute.detQuant | 0.378 | 0.011 | 0.390 | |
| wrapper.impute.fixedValue | 0.367 | 0.028 | 0.395 | |
| wrapper.impute.mle | 0.330 | 0.012 | 0.340 | |
| wrapper.impute.pa | 0.120 | 0.008 | 0.125 | |
| wrapper.impute.pa2 | 0.329 | 0.016 | 0.342 | |
| wrapper.impute.slsa | 0.519 | 0.057 | 0.566 | |
| wrapper.mvImage | 0.163 | 0.013 | 0.170 | |
| wrapper.normalizeD | 0.297 | 0.007 | 0.305 | |
| wrapper.pca | 0.157 | 0.013 | 0.164 | |
| wrapperCalibrationPlot | 0.200 | 0.008 | 0.202 | |
| wrapperClassic1wayAnova | 0 | 0 | 0 | |
| wrapperRunClustering | 2.803 | 0.285 | 3.011 | |
| write.excel | 0.779 | 0.088 | 0.840 | |
| writeMSnsetToCSV | 0.304 | 0.012 | 0.317 | |
| writeMSnsetToExcel | 1.099 | 0.159 | 1.203 | |