Back to Multiple platform build/check report for BioC 3.19: simplified long |
|
This page was generated on 2024-10-18 20:38 -0400 (Fri, 18 Oct 2024).
Hostname | OS | Arch (*) | R version | Installed pkgs |
---|---|---|---|---|
nebbiolo1 | Linux (Ubuntu 22.04.3 LTS) | x86_64 | 4.4.1 (2024-06-14) -- "Race for Your Life" | 4763 |
palomino7 | Windows Server 2022 Datacenter | x64 | 4.4.1 (2024-06-14 ucrt) -- "Race for Your Life" | 4500 |
merida1 | macOS 12.7.5 Monterey | x86_64 | 4.4.1 (2024-06-14) -- "Race for Your Life" | 4530 |
kjohnson1 | macOS 13.6.6 Ventura | arm64 | 4.4.1 (2024-06-14) -- "Race for Your Life" | 4480 |
Click on any hostname to see more info about the system (e.g. compilers) (*) as reported by 'uname -p', except on Windows and Mac OS X |
Package 509/2300 | Hostname | OS / Arch | INSTALL | BUILD | CHECK | BUILD BIN | ||||||||
DAPAR 1.36.3 (landing page) Samuel Wieczorek
| nebbiolo1 | Linux (Ubuntu 22.04.3 LTS) / x86_64 | OK | OK | OK | |||||||||
palomino7 | Windows Server 2022 Datacenter / x64 | OK | OK | OK | OK | |||||||||
merida1 | macOS 12.7.5 Monterey / x86_64 | OK | OK | OK | OK | |||||||||
kjohnson1 | macOS 13.6.6 Ventura / arm64 | OK | OK | OK | OK | |||||||||
To the developers/maintainers of the DAPAR package: - Allow up to 24 hours (and sometimes 48 hours) for your latest push to git@git.bioconductor.org:packages/DAPAR.git to reflect on this report. See Troubleshooting Build Report for more information. - Use the following Renviron settings to reproduce errors and warnings. - If 'R CMD check' started to fail recently on the Linux builder(s) over a missing dependency, add the missing dependency to 'Suggests:' in your DESCRIPTION file. See Renviron.bioc for more information. |
Package: DAPAR |
Version: 1.36.3 |
Command: /home/biocbuild/bbs-3.19-bioc/R/bin/R CMD check --install=check:DAPAR.install-out.txt --library=/home/biocbuild/bbs-3.19-bioc/R/site-library --timings DAPAR_1.36.3.tar.gz |
StartedAt: 2024-10-16 23:27:40 -0400 (Wed, 16 Oct 2024) |
EndedAt: 2024-10-16 23:35:56 -0400 (Wed, 16 Oct 2024) |
EllapsedTime: 495.9 seconds |
RetCode: 0 |
Status: OK |
CheckDir: DAPAR.Rcheck |
Warnings: 0 |
############################################################################## ############################################################################## ### ### Running command: ### ### /home/biocbuild/bbs-3.19-bioc/R/bin/R CMD check --install=check:DAPAR.install-out.txt --library=/home/biocbuild/bbs-3.19-bioc/R/site-library --timings DAPAR_1.36.3.tar.gz ### ############################################################################## ############################################################################## * using log directory ‘/home/biocbuild/bbs-3.19-bioc/meat/DAPAR.Rcheck’ * using R version 4.4.1 (2024-06-14) * using platform: x86_64-pc-linux-gnu * R was compiled by gcc (Ubuntu 11.4.0-1ubuntu1~22.04) 11.4.0 GNU Fortran (Ubuntu 11.4.0-1ubuntu1~22.04) 11.4.0 * running under: Ubuntu 22.04.5 LTS * using session charset: UTF-8 * checking for file ‘DAPAR/DESCRIPTION’ ... OK * checking extension type ... Package * this is package ‘DAPAR’ version ‘1.36.3’ * package encoding: UTF-8 * checking package namespace information ... OK * checking package dependencies ... NOTE Vignette dependency required without any vignettes:: ‘knitr’ * checking if this is a source package ... OK * checking if there is a namespace ... OK * checking for hidden files and directories ... OK * checking for portable file names ... OK * checking for sufficient/correct file permissions ... OK * checking whether package ‘DAPAR’ can be installed ... OK * checking installed package size ... OK * checking package directory ... OK * checking DESCRIPTION meta-information ... OK * checking top-level files ... OK * checking for left-over files ... OK * checking index information ... OK * checking package subdirectories ... OK * checking code files for non-ASCII characters ... OK * checking R files for syntax errors ... OK * checking whether the package can be loaded ... OK * checking whether the package can be loaded with stated dependencies ... OK * checking whether the package can be unloaded cleanly ... OK * checking whether the namespace can be loaded with stated dependencies ... OK * checking whether the namespace can be unloaded cleanly ... OK * checking loading without being on the library search path ... OK * checking whether startup messages can be suppressed ... OK * checking dependencies in R code ... OK * checking S3 generic/method consistency ... OK * checking replacement functions ... OK * checking foreign function calls ... OK * checking R code for possible problems ... NOTE Check_Dataset_Validity: no visible global function definition for ‘exprs’ OWAnova: no visible global function definition for ‘aov’ aggregateIterParallel: no visible binding for global variable ‘cond’ averageIntensities: no visible binding for global variable ‘condition’ averageIntensities: no visible binding for global variable ‘feature’ averageIntensities: no visible binding for global variable ‘intensity’ createMSnset: no visible global function definition for ‘installed.packages’ createMSnset: no visible binding for global variable ‘Prostar.loc’ createMSnset2: no visible global function definition for ‘installed.packages’ createMSnset2: no visible binding for global variable ‘Prostar.loc’ diffAnaVolcanoplot_rCharts: no visible binding for global variable ‘x’ diffAnaVolcanoplot_rCharts: no visible binding for global variable ‘y’ diffAnaVolcanoplot_rCharts: no visible binding for global variable ‘g’ display.CC.visNet: no visible binding for global variable ‘layout_nicely’ getTextForGOAnalysis: no visible binding for global variable ‘textGOParams’ getTextForGOAnalysis: no visible binding for global variable ‘input’ globalAdjPval: no visible global function definition for ‘stack’ heatmapForMissingValues: no visible binding for global variable ‘par’ limmaCompleteTest: no visible binding for global variable ‘A’ limmaCompleteTest: no visible binding for global variable ‘B’ limmaCompleteTest: no visible binding for global variable ‘P.Value’ pepa.test: no visible global function definition for ‘nodes<-’ testAnovaModels : <anonymous>: no visible global function definition for ‘TukeyHSD’ visualizeClusters: no visible binding for global variable ‘adjusted_pvalues’ visualizeClusters: no visible binding for global variable ‘Condition’ visualizeClusters: no visible binding for global variable ‘Intensity’ visualizeClusters: no visible binding for global variable ‘FDR_threshold’ visualizeClusters: no visible binding for global variable ‘feature’ wrapperClassic1wayAnova: no visible binding for global variable ‘Pr(>F)1’ wrapperRunClustering: no visible global function definition for ‘str_c’ Undefined global functions or variables: A B Condition FDR_threshold Intensity P.Value Pr(>F)1 Prostar.loc TukeyHSD adjusted_pvalues aov cond condition exprs feature g input installed.packages intensity layout_nicely nodes<- par stack str_c textGOParams x y Consider adding importFrom("graphics", "par") importFrom("stats", "TukeyHSD", "aov") importFrom("utils", "installed.packages", "stack") to your NAMESPACE file. * checking Rd files ... OK * checking Rd metadata ... OK * checking Rd cross-references ... OK * checking for missing documentation entries ... OK * checking for code/documentation mismatches ... OK * checking Rd \usage sections ... OK * checking Rd contents ... OK * checking for unstated dependencies in examples ... OK * checking examples ... OK Examples with CPU (user + system) or elapsed time > 5s user system elapsed wrapper.compareNormalizationD_HC 40.838 9.932 51.249 wrapper.dapar.impute.mi 14.420 0.378 14.806 barplotEnrichGO_HC 8.005 1.218 9.243 barplotGroupGO_HC 7.100 1.352 8.460 * checking for unstated dependencies in ‘tests’ ... OK * checking tests ... Running ‘testthat.R’ OK * checking PDF version of manual ... OK * DONE Status: 2 NOTEs See ‘/home/biocbuild/bbs-3.19-bioc/meat/DAPAR.Rcheck/00check.log’ for details.
DAPAR.Rcheck/00install.out
############################################################################## ############################################################################## ### ### Running command: ### ### /home/biocbuild/bbs-3.19-bioc/R/bin/R CMD INSTALL DAPAR ### ############################################################################## ############################################################################## * installing to library ‘/home/biocbuild/bbs-3.19-bioc/R/site-library’ * installing *source* package ‘DAPAR’ ... ** using staged installation ** R ** inst ** byte-compile and prepare package for lazy loading ** help *** installing help indices ** building package indices ** testing if installed package can be loaded from temporary location ** testing if installed package can be loaded from final location ** testing if installed package keeps a record of temporary installation path * DONE (DAPAR)
DAPAR.Rcheck/tests/testthat.Rout
R version 4.4.1 (2024-06-14) -- "Race for Your Life" Copyright (C) 2024 The R Foundation for Statistical Computing Platform: x86_64-pc-linux-gnu R is free software and comes with ABSOLUTELY NO WARRANTY. You are welcome to redistribute it under certain conditions. Type 'license()' or 'licence()' for distribution details. R is a collaborative project with many contributors. Type 'contributors()' for more information and 'citation()' on how to cite R or R packages in publications. Type 'demo()' for some demos, 'help()' for on-line help, or 'help.start()' for an HTML browser interface to help. Type 'q()' to quit R. > library(testthat) > library(DAPAR) This is the 'DAPAR' version 1.36.3. To get started, visit http://www.prostar-proteomics.org/ > > test_check("DAPAR") Iterations: 1 / 1 - Imputation MNAR OK - Imputation MCAR in progress - 3 % - 6 % - 9 % - 12 % - 15 % - 18 % - 21 % - 24 % - 27 % - 30 % - 33 % - 36 % - 39 % - 42 % - 45 % - 48 % - 51 % - 54 % - 57 % - 60 % - 63 % - 66 % - 69 % - 72 % - 75 % - 78 % - 81 % - 84 % - 87 % - 90 % - 93 % - 96 % - 99 % - Iterations: 1 / 1 - Imputation MNAR OK - Imputation MCAR in progress - 3 % - 6 % - 9 % - 12 % - 15 % - 18 % - 21 % - 24 % - 27 % - 30 % - 33 % - 36 % - 39 % - 42 % - 45 % - 48 % - 51 % - 54 % - 57 % - 60 % - 63 % - 66 % - 69 % - 72 % - 75 % - 78 % - 81 % - 84 % - 87 % - 90 % - 93 % - 96 % - 99 % - Imputation in condition 1 ... In progress: 10 % - 20 % - 30 % - 40 % - 50 % - 60 % - 70 % - 80 % - 90 % - 100 % - Imputation in condition 2 ... In progress: 10 % - 20 % - 30 % - 40 % - 50 % - 60 % - 70 % - 80 % - 90 % - 100 % - [ FAIL 0 | WARN 17 | SKIP 0 | PASS 66 ] [ FAIL 0 | WARN 17 | SKIP 0 | PASS 66 ] > > proc.time() user system elapsed 31.774 1.728 33.584
DAPAR.Rcheck/DAPAR-Ex.timings
name | user | system | elapsed | |
AggregateMetacell | 0.544 | 0.033 | 0.577 | |
BuildAdjacencyMatrix | 0.472 | 0.040 | 0.512 | |
BuildColumnToProteinDataset | 0.531 | 0.044 | 0.576 | |
BuildMetaCell | 0.536 | 0.039 | 0.577 | |
CVDistD_HC | 2.204 | 0.384 | 2.604 | |
Children | 0.005 | 0.000 | 0.005 | |
CountPep | 0.487 | 0.020 | 0.508 | |
ExtendPalette | 0.032 | 0.000 | 0.031 | |
GOAnalysisSave | 0.001 | 0.000 | 0.000 | |
GetCC | 2.873 | 0.204 | 3.077 | |
GetColorsForConditions | 0.448 | 0.020 | 0.468 | |
GetDetailedNbPeptides | 0.451 | 0.027 | 0.479 | |
GetDetailedNbPeptidesUsed | 0 | 0 | 0 | |
GetIndices_BasedOnConditions | 0.477 | 0.012 | 0.489 | |
GetIndices_MetacellFiltering | 0.486 | 0.008 | 0.495 | |
GetIndices_WholeLine | 0.467 | 0.012 | 0.478 | |
GetIndices_WholeMatrix | 0.461 | 0.019 | 0.481 | |
GetKeyId | 0.438 | 0.024 | 0.463 | |
GetMatAdj | 0.495 | 0.016 | 0.511 | |
GetMetacell | 0 | 0 | 0 | |
GetMetacellTags | 0.462 | 0.019 | 0.481 | |
GetNbPeptidesUsed | 0.462 | 0.020 | 0.483 | |
GetNbTags | 0 | 0 | 0 | |
GetSoftAvailables | 0 | 0 | 0 | |
GetTypeofData | 0.449 | 0.016 | 0.465 | |
Get_AllComparisons | 0.254 | 0.016 | 0.271 | |
GlobalQuantileAlignment | 0.499 | 0.024 | 0.523 | |
GraphPepProt | 0.485 | 0.010 | 0.495 | |
LH0 | 0 | 0 | 0 | |
LH0.lm | 0 | 0 | 0 | |
LH1 | 0 | 0 | 0 | |
LH1.lm | 0.001 | 0.000 | 0.000 | |
LOESS | 1.162 | 0.024 | 1.186 | |
MeanCentering | 0.475 | 0.012 | 0.486 | |
MetaCellFiltering | 0.637 | 0.016 | 0.653 | |
MetacellFilteringScope | 0 | 0 | 0 | |
Metacell_DIA_NN | 0.545 | 0.012 | 0.558 | |
Metacell_generic | 0.402 | 0.016 | 0.417 | |
Metacell_maxquant | 0.443 | 0.016 | 0.460 | |
Metacell_proline | 0.434 | 0.008 | 0.443 | |
NumericalFiltering | 0.458 | 0.032 | 0.490 | |
NumericalgetIndicesOfLinesToRemove | 0.440 | 0.016 | 0.457 | |
OWAnova | 0.008 | 0.000 | 0.008 | |
QuantileCentering | 0.443 | 0.004 | 0.448 | |
SetCC | 2.597 | 0.132 | 2.730 | |
SetMatAdj | 0.464 | 0.016 | 0.480 | |
Set_POV_MEC_tags | 0.436 | 0.016 | 0.451 | |
StringBasedFiltering | 0.477 | 0.024 | 0.501 | |
StringBasedFiltering2 | 0.472 | 0.012 | 0.484 | |
SumByColumns | 1.268 | 0.108 | 1.376 | |
SymFilteringOperators | 0 | 0 | 0 | |
UpdateMetacellAfterImputation | 0.463 | 0.011 | 0.474 | |
aggregateIter | 0.591 | 0.008 | 0.599 | |
aggregateIterParallel | 0.001 | 0.000 | 0.001 | |
aggregateMean | 0.509 | 0.016 | 0.525 | |
aggregateSum | 0.515 | 0.024 | 0.539 | |
aggregateTopn | 0.496 | 0.016 | 0.512 | |
applyAnovasOnProteins | 0.131 | 0.004 | 0.135 | |
averageIntensities | 0.515 | 0.092 | 0.608 | |
barplotEnrichGO_HC | 8.005 | 1.218 | 9.243 | |
barplotGroupGO_HC | 7.100 | 1.352 | 8.460 | |
boxPlotD_HC | 0.290 | 0.089 | 0.380 | |
buildGraph | 2.535 | 0.505 | 3.040 | |
check.conditions | 0.438 | 0.019 | 0.458 | |
check.design | 0.450 | 0.016 | 0.466 | |
checkClusterability | 2.827 | 1.057 | 3.934 | |
classic1wayAnova | 0 | 0 | 0 | |
compareNormalizationD_HC | 0.194 | 0.015 | 0.210 | |
compute.selection.table | 0.771 | 0.094 | 0.868 | |
compute_t_tests | 1.218 | 0.121 | 1.342 | |
corrMatrixD_HC | 0.603 | 0.040 | 0.643 | |
createMSnset | 1.956 | 0.160 | 2.118 | |
createMSnset2 | 1.990 | 0.083 | 2.074 | |
dapar_hc_ExportMenu | 0.127 | 0.060 | 0.188 | |
dapar_hc_chart | 0.055 | 0.016 | 0.071 | |
deleteLinesFromIndices | 0.497 | 0.031 | 0.529 | |
densityPlotD_HC | 2.470 | 0.677 | 3.167 | |
diffAnaComputeAdjustedPValues | 0.184 | 0.019 | 0.204 | |
diffAnaComputeFDR | 0 | 0 | 0 | |
diffAnaGetSignificant | 0.253 | 0.041 | 0.294 | |
diffAnaSave | 0.246 | 0.028 | 0.276 | |
diffAnaVolcanoplot | 0.179 | 0.016 | 0.196 | |
diffAnaVolcanoplot_rCharts | 0.381 | 0.033 | 0.415 | |
display.CC.visNet | 2.034 | 0.260 | 2.296 | |
enrich_GO | 4.327 | 0.353 | 4.684 | |
finalizeAggregation | 0 | 0 | 0 | |
findMECBlock | 0.477 | 0.012 | 0.489 | |
formatHSDResults | 0.000 | 0.000 | 0.001 | |
formatLimmaResult | 0.174 | 0.012 | 0.187 | |
formatPHResults | 0 | 0 | 0 | |
formatPHTResults | 0.001 | 0.000 | 0.001 | |
fudge2LRT | 0 | 0 | 0 | |
get.pep.prot.cc | 1.879 | 0.007 | 1.886 | |
getDesignLevel | 0.421 | 0.019 | 0.440 | |
getIndicesConditions | 0.421 | 0.013 | 0.432 | |
getIndicesOfLinesToRemove | 0.440 | 0.015 | 0.455 | |
getListNbValuesInLines | 0.435 | 0.004 | 0.439 | |
getNumberOf | 0.441 | 0.027 | 0.468 | |
getNumberOfEmptyLines | 0.438 | 0.021 | 0.458 | |
getPourcentageOfMV | 0.460 | 0.007 | 0.467 | |
getProcessingInfo | 0.418 | 0.016 | 0.434 | |
getProteinsStats | 0.442 | 0.024 | 0.466 | |
getQuantile4Imp | 0.121 | 0.000 | 0.121 | |
getTextForAggregation | 0.000 | 0.001 | 0.001 | |
getTextForAnaDiff | 0.000 | 0.001 | 0.001 | |
getTextForFiltering | 0.000 | 0.000 | 0.001 | |
getTextForGOAnalysis | 0.000 | 0.001 | 0.001 | |
getTextForHypothesisTest | 0.000 | 0.000 | 0.001 | |
getTextForNewDataset | 0.002 | 0.000 | 0.003 | |
getTextForNormalization | 0.000 | 0.000 | 0.001 | |
getTextForpeptideImputation | 0.000 | 0.000 | 0.001 | |
getTextForproteinImputation | 0.000 | 0.000 | 0.001 | |
globalAdjPval | 0.412 | 0.016 | 0.429 | |
group_GO | 4.443 | 0.302 | 4.750 | |
hc_logFC_DensityPlot | 0.585 | 0.146 | 0.735 | |
hc_mvTypePlot2 | 0.778 | 0.172 | 0.953 | |
heatmapD | 0.748 | 0.045 | 0.792 | |
heatmapForMissingValues | 0.203 | 0.012 | 0.215 | |
histPValue_HC | 0.236 | 0.028 | 0.265 | |
impute.pa2 | 0.505 | 0.009 | 0.514 | |
inner.aggregate.iter | 0.481 | 0.039 | 0.520 | |
inner.aggregate.topn | 0.555 | 0.028 | 0.583 | |
inner.mean | 0.492 | 0.012 | 0.504 | |
inner.sum | 0.460 | 0.028 | 0.488 | |
is.subset | 0 | 0 | 0 | |
limmaCompleteTest | 1.260 | 0.063 | 1.323 | |
listSheets | 0.000 | 0.000 | 0.001 | |
make.contrast | 0.455 | 0.012 | 0.468 | |
make.design.1 | 0.465 | 0.005 | 0.469 | |
make.design.2 | 0.439 | 0.028 | 0.467 | |
make.design.3 | 0.448 | 0.016 | 0.464 | |
make.design | 2.104 | 0.140 | 2.244 | |
match.metacell | 0.472 | 0.010 | 0.482 | |
metacell.def | 0.005 | 0.001 | 0.006 | |
metacellHisto_HC | 0.512 | 0.016 | 0.527 | |
metacellPerLinesHistoPerCondition_HC | 0.683 | 0.028 | 0.712 | |
metacellPerLinesHisto_HC | 0.696 | 0.073 | 0.770 | |
metacombine | 0.052 | 0.000 | 0.052 | |
mvImage | 1.945 | 0.061 | 2.009 | |
my_hc_ExportMenu | 0.111 | 0.032 | 0.144 | |
my_hc_chart | 0.120 | 0.024 | 0.144 | |
nonzero | 0.028 | 0.000 | 0.028 | |
normalizeMethods.dapar | 0.000 | 0.000 | 0.001 | |
pepa.test | 0.451 | 0.005 | 0.458 | |
pkgs.require | 0 | 0 | 0 | |
plotJitter | 1.938 | 0.100 | 2.038 | |
plotJitter_rCharts | 1.810 | 0.063 | 1.874 | |
plotPCA_Eigen | 0.495 | 0.024 | 0.518 | |
plotPCA_Eigen_hc | 0.431 | 0.012 | 0.443 | |
plotPCA_Ind | 0.424 | 0.020 | 0.443 | |
plotPCA_Var | 0.430 | 0.008 | 0.437 | |
postHocTest | 0 | 0 | 0 | |
proportionConRev_HC | 0.038 | 0.012 | 0.049 | |
rbindMSnset | 0.505 | 0.024 | 0.529 | |
reIntroduceMEC | 0.476 | 0.020 | 0.496 | |
readExcel | 0 | 0 | 0 | |
removeLines | 0.474 | 0.024 | 0.497 | |
samLRT | 0 | 0 | 0 | |
saveParameters | 0.433 | 0.012 | 0.444 | |
scatterplotEnrichGO_HC | 4.589 | 0.205 | 4.801 | |
search.metacell.tags | 0.004 | 0.003 | 0.007 | |
separateAdjPval | 0.200 | 0.013 | 0.213 | |
splitAdjacencyMat | 0.482 | 0.028 | 0.511 | |
test.design | 0.465 | 0.008 | 0.473 | |
testAnovaModels | 0.148 | 0.008 | 0.157 | |
thresholdpval4fdr | 0 | 0 | 0 | |
translatedRandomBeta | 0.000 | 0.008 | 0.009 | |
univ_AnnotDbPkg | 0.209 | 0.048 | 0.257 | |
violinPlotD | 0.417 | 0.012 | 0.429 | |
visualizeClusters | 1.173 | 0.073 | 1.247 | |
vsn | 0.922 | 0.024 | 0.946 | |
wrapper.CVDistD_HC | 1.598 | 0.507 | 2.122 | |
wrapper.compareNormalizationD_HC | 40.838 | 9.932 | 51.249 | |
wrapper.corrMatrixD_HC | 0.515 | 0.027 | 0.543 | |
wrapper.dapar.impute.mi | 14.420 | 0.378 | 14.806 | |
wrapper.heatmapD | 0.659 | 0.028 | 0.687 | |
wrapper.impute.KNN | 0.457 | 0.016 | 0.474 | |
wrapper.impute.detQuant | 0.477 | 0.027 | 0.503 | |
wrapper.impute.fixedValue | 0.486 | 0.020 | 0.506 | |
wrapper.impute.mle | 0.450 | 0.023 | 0.474 | |
wrapper.impute.pa | 0.190 | 0.008 | 0.198 | |
wrapper.impute.pa2 | 0.465 | 0.008 | 0.473 | |
wrapper.impute.slsa | 0.580 | 0.011 | 0.592 | |
wrapper.mvImage | 0.157 | 0.020 | 0.177 | |
wrapper.normalizeD | 0.441 | 0.004 | 0.445 | |
wrapper.pca | 0.158 | 0.023 | 0.182 | |
wrapperCalibrationPlot | 0.203 | 0.013 | 0.217 | |
wrapperClassic1wayAnova | 0.000 | 0.000 | 0.001 | |
wrapperRunClustering | 1.850 | 0.171 | 2.024 | |
write.excel | 0.818 | 0.059 | 0.977 | |
writeMSnsetToCSV | 0.452 | 0.016 | 0.469 | |
writeMSnsetToExcel | 0.876 | 0.126 | 1.005 | |