| Back to First build/check report with an "external build node" |
This page was generated on 2023-06-01 18:17:20 -0400 (Thu, 01 Jun 2023).
| Hostname | OS | Arch (*) | R version | Installed pkgs |
|---|---|---|---|---|
| xps15 | Linux (Ubuntu 23.04) | x86_64 | 4.3.0 Patched (2023-05-23 r84466) -- "Already Tomorrow" | 544 |
| Click on any hostname to see more info about the system (e.g. compilers) (*) as reported by 'uname -p', except on Windows and Mac OS X | ||||
|
To the developers/maintainers of the vsn package: Use the following Renviron settings to reproduce errors and warnings. Note: If "R CMD check" recently failed on the Linux builder over a missing dependency, add the missing dependency to "Suggests" in your DESCRIPTION file. See the Renviron.bioc for details. |
| Package 88/91 | Hostname | OS / Arch | INSTALL | BUILD | CHECK | BUILD BIN | |||||||
| vsn 3.69.0 (landing page) Wolfgang Huber
| xps15 | Linux (Ubuntu 23.04) / x86_64 | OK | ERROR | skipped | ||||||||
| Package: vsn |
| Version: 3.69.0 |
| Command: /home/hpages/bbs-3.18-bioc/R/bin/R CMD INSTALL vsn |
| StartedAt: 2023-06-01 12:22:11 -0700 (Thu, 01 Jun 2023) |
| EndedAt: 2023-06-01 12:22:23 -0700 (Thu, 01 Jun 2023) |
| EllapsedTime: 12.1 seconds |
| RetCode: 0 |
| Status: OK |
############################################################################## ############################################################################## ### ### Running command: ### ### /home/hpages/bbs-3.18-bioc/R/bin/R CMD INSTALL vsn ### ############################################################################## ############################################################################## * installing to library ‘/home/hpages/bbs-3.18-bioc-testing/Rlibs’ * installing *source* package ‘vsn’ ... ** using staged installation ** libs using C compiler: ‘gcc (Ubuntu 12.2.0-17ubuntu1) 12.2.0’ gcc -I"/home/hpages/bbs-3.18-bioc/R/include" -DNDEBUG -I/usr/local/include -fpic -g -O2 -Wall -c init.c -o init.o gcc -I"/home/hpages/bbs-3.18-bioc/R/include" -DNDEBUG -I/usr/local/include -fpic -g -O2 -Wall -c vsn.c -o vsn.o gcc -I"/home/hpages/bbs-3.18-bioc/R/include" -DNDEBUG -I/usr/local/include -fpic -g -O2 -Wall -c vsn2.c -o vsn2.o gcc -shared -L/usr/local/lib -o vsn.so init.o vsn.o vsn2.o installing to /home/hpages/bbs-3.18-bioc-testing/Rlibs/00LOCK-vsn/00new/vsn/libs ** R ** data ** inst ** byte-compile and prepare package for lazy loading ** help *** installing help indices ** building package indices ** installing vignettes ** testing if installed package can be loaded from temporary location ** checking absolute paths in shared objects and dynamic libraries ** testing if installed package can be loaded from final location ** testing if installed package keeps a record of temporary installation path * DONE (vsn)