| Back to BiocCheck report for a small subset of BioC 3.18 packages |
This page was generated on 2023-10-24 11:15:02 -0400 (Tue, 24 Oct 2023).
| Hostname | OS | Arch (*) | R version | Installed pkgs |
|---|---|---|---|---|
| nebbiolo2 | Linux (Ubuntu 22.04.2 LTS) | x86_64 | 4.3.1 (2023-06-16) -- "Beagle Scouts" | 4818 |
| Click on any hostname to see more info about the system (e.g. compilers) (*) as reported by 'uname -p', except on Windows and Mac OS X | ||||
| Package 82/92 | Hostname | OS / Arch | BIOCCHECK | |||||||
| sparseMatrixStats 1.13.4 (landing page) Constantin Ahlmann-Eltze
| nebbiolo2 | Linux (Ubuntu 22.04.2 LTS) / x86_64 | WARNINGS | |||||||
|
To the developers/maintainers of the sparseMatrixStats package: - Use the following Renviron settings to reproduce errors and warnings. - If 'R CMD check' started to fail recently on the Linux builder(s) over a missing dependency, add the missing dependency to 'Suggests:' in your DESCRIPTION file. See Renviron.bioc for more information. |
| Package: sparseMatrixStats |
| Version: 1.13.4 |
| Command: /home/biocbuild/bbs-3.18-bioc/R/bin/Rscript -e "BiocCheck::BiocCheck('sparseMatrixStats_1.13.4.tar.gz')" |
| StartedAt: 2023-10-24 10:48:29 -0400 (Tue, 24 Oct 2023) |
| EndedAt: 2023-10-24 10:49:16 -0400 (Tue, 24 Oct 2023) |
| EllapsedTime: 47.1 seconds |
| RetCode: None |
| Status: WARNINGS |
| Warnings: 2 |
##############################################################################
##############################################################################
###
### Running command:
###
### /home/biocbuild/bbs-3.18-bioc/R/bin/Rscript -e "BiocCheck::BiocCheck('sparseMatrixStats_1.13.4.tar.gz')"
###
##############################################################################
##############################################################################
─ BiocCheckVersion: 1.39.0
─ BiocVersion: 3.18
─ Package: sparseMatrixStats
─ PackageVersion: 1.13.4
─ sourceDir: /tmp/RtmpNuP1G3/file395c625a1f5fee/sparseMatrixStats
─ installDir: /tmp/RtmpNuP1G3/file395c622ee7d7f2
─ BiocCheckDir: /home/biocbuild/bbs-3.18-bioc-testing/meat/sparseMatrixStats.BiocCheck
─ platform: unix
─ isTarBall: TRUE
* Installing package...
* Checking for deprecated package usage...
* Checking for remote package usage...
* Checking for 'LazyData: true' usage...
* Checking version number...
* Checking for version number mismatch...
* Checking version number validity...
* Checking R version dependency...
* Checking package size...
* Checking individual file sizes...
* Checking biocViews...
* Checking that biocViews are present...
* Checking package type based on biocViews...
Software
* Checking for non-trivial biocViews...
* Checking that biocViews come from the same category...
* Checking biocViews validity...
* Checking for recommended biocViews...
* Checking build system compatibility...
* Checking for blank lines in DESCRIPTION...
* Checking if DESCRIPTION is well formatted...
* Checking for proper Description: field...
* Checking for whitespace in DESCRIPTION field names...
* Checking that Package field matches directory/tarball name...
* Checking for Version field...
* Checking for valid maintainer...
* Checking License: for restrictive use...
* Checking for recommeded fields in DESCRIPTION...
* Checking for pinned package versions...
* Checking DESCRIPTION/NAMESPACE consistency...
* WARNING: Import stats in DESCRIPTION as well as NAMESPACE.
* Checking .Rbuildignore...
* Checking for stray BiocCheck output folders...
* Checking vignette directory...
* Checking package installation calls in R code...
* Checking for library/require of sparseMatrixStats...
* Checking coding practice...
* NOTE: Avoid redundant 'stop' and 'warn*' in signal conditions
* Checking parsed R code in R directory, examples, vignettes...
* NOTE: Avoid '<<-' if possible (found 1 times)
* Checking function lengths...
* Checking man page documentation...
* WARNING: Empty or missing \value sections found in man pages.
* Checking package NEWS...
* Checking unit tests...
* Checking skip_on_bioc() in tests...
* Checking formatting of DESCRIPTION, NAMESPACE, man pages, R source,
and vignette source...
* NOTE: Consider shorter lines; 263 lines (6%) are > 80 characters
long.
* NOTE: Consider multiples of 4 spaces for line indents; 967 lines
(21%) are not.
See https://contributions.bioconductor.org/r-code.html
See styler package: https://cran.r-project.org/package=styler as
described in the BiocCheck vignette.
* Checking if package already exists in CRAN...
* Checking for bioc-devel mailing list subscription...
* NOTE: Cannot determine whether maintainer is subscribed to the
Bioc-Devel mailing list (requires admin credentials). Subscribe
here: https://stat.ethz.ch/mailman/listinfo/bioc-devel
* Checking for support site registration...
Maintainer is registered at support site.
Package name is in support site watched tags.
─ BiocCheck results ──
0 ERRORS | 2 WARNINGS | 5 NOTES
See the sparseMatrixStats.BiocCheck folder and run
browseVignettes(package = 'BiocCheck')
for details.