| Back to BiocCheck report for a small subset of BioC 3.18 packages |
This page was generated on 2023-10-24 11:15:02 -0400 (Tue, 24 Oct 2023).
| Hostname | OS | Arch (*) | R version | Installed pkgs |
|---|---|---|---|---|
| nebbiolo2 | Linux (Ubuntu 22.04.2 LTS) | x86_64 | 4.3.1 (2023-06-16) -- "Beagle Scouts" | 4818 |
| Click on any hostname to see more info about the system (e.g. compilers) (*) as reported by 'uname -p', except on Windows and Mac OS X | ||||
| Package 50/92 | Hostname | OS / Arch | BIOCCHECK | |||||||
| impute 1.77.0 (landing page) Balasubramanian Narasimhan
| nebbiolo2 | Linux (Ubuntu 22.04.2 LTS) / x86_64 | ERROR | |||||||
|
To the developers/maintainers of the impute package: - Use the following Renviron settings to reproduce errors and warnings. - If 'R CMD check' started to fail recently on the Linux builder(s) over a missing dependency, add the missing dependency to 'Suggests:' in your DESCRIPTION file. See Renviron.bioc for more information. |
| Package: impute |
| Version: 1.77.0 |
| Command: /home/biocbuild/bbs-3.18-bioc/R/bin/Rscript -e "BiocCheck::BiocCheck('impute_1.77.0.tar.gz')" |
| StartedAt: 2023-10-24 10:47:17 -0400 (Tue, 24 Oct 2023) |
| EndedAt: 2023-10-24 10:47:27 -0400 (Tue, 24 Oct 2023) |
| EllapsedTime: 10.4 seconds |
| RetCode: None |
| Status: ERROR |
| Warnings: 2 |
##############################################################################
##############################################################################
###
### Running command:
###
### /home/biocbuild/bbs-3.18-bioc/R/bin/Rscript -e "BiocCheck::BiocCheck('impute_1.77.0.tar.gz')"
###
##############################################################################
##############################################################################
─ BiocCheckVersion: 1.39.0
─ BiocVersion: 3.18
─ Package: impute
─ PackageVersion: 1.77.0
─ sourceDir: /tmp/Rtmp4gEoRm/file38d0fb48e868f5/impute
─ installDir: /tmp/Rtmp4gEoRm/file38d0fb43c0ac81
─ BiocCheckDir: /home/biocbuild/bbs-3.18-bioc-testing/meat/impute.BiocCheck
─ platform: unix
─ isTarBall: TRUE
* Installing package...
* Checking for deprecated package usage...
* Checking for remote package usage...
* Checking for 'LazyData: true' usage...
* Checking version number...
* Checking for version number mismatch...
* Checking version number validity...
* Checking R version dependency...
* NOTE: Update R version dependency from 2.10 to 4.3.0.
* Checking package size...
* Checking individual file sizes...
* Checking biocViews...
* Checking that biocViews are present...
* Checking package type based on biocViews...
Software
* Checking for non-trivial biocViews...
* Checking that biocViews come from the same category...
* Checking biocViews validity...
* Checking for recommended biocViews...
* NOTE: Consider adding these automatically suggested biocViews:
GeneExpression, GO, Clustering
Search 'biocViews' at https://contributions.bioconductor.org
* Checking build system compatibility...
* Checking for blank lines in DESCRIPTION...
* Checking if DESCRIPTION is well formatted...
* Checking for proper Description: field...
* WARNING: Description field in the DESCRIPTION file is too concise
* Checking for whitespace in DESCRIPTION field names...
* Checking that Package field matches directory/tarball name...
* Checking for Version field...
* Checking for valid maintainer...
* ERROR: Remove Maintainer field. Use Authors@R [cre] designation.
* Checking License: for restrictive use...
* Checking for recommeded fields in DESCRIPTION...
* NOTE: Provide 'URL', 'BugReports' field(s) in DESCRIPTION
* Checking for pinned package versions...
* Checking DESCRIPTION/NAMESPACE consistency...
* Checking .Rbuildignore...
* Checking for stray BiocCheck output folders...
* Checking vignette directory...
* ERROR: No 'vignettes' directory.
* Checking package installation calls in R code...
* Checking for library/require of impute...
* Checking coding practice...
* NOTE: Avoid 1:...; use seq_len() or seq_along()
* NOTE: Avoid 'cat' and 'print' outside of 'show' methods
* NOTE: Avoid using '=' for assignment and use '<-' instead
* NOTE: Avoid the use of 'paste' in condition signals
* WARNING: Remove set.seed usage (found 1 times)
* Checking parsed R code in R directory, examples, vignettes...
* Checking function lengths...
* Checking man page documentation...
* Checking package NEWS...
* NOTE: Consider adding a NEWS file, so your package news will be
included in Bioconductor release announcements.
* Checking unit tests...
* NOTE: Consider adding unit tests. We strongly encourage them. See
https://contributions.bioconductor.org/tests.html
* Checking skip_on_bioc() in tests...
* Checking formatting of DESCRIPTION, NAMESPACE, man pages, R source,
and vignette source...
* NOTE: Consider shorter lines; 9 lines (3%) are > 80 characters
long.
* NOTE: Consider multiples of 4 spaces for line indents; 183 lines
(54%) are not.
See https://contributions.bioconductor.org/r-code.html
See styler package: https://cran.r-project.org/package=styler as
described in the BiocCheck vignette.
* Checking if package already exists in CRAN...
* Checking for bioc-devel mailing list subscription...
* NOTE: Cannot determine whether maintainer is subscribed to the
Bioc-Devel mailing list (requires admin credentials). Subscribe
here: https://stat.ethz.ch/mailman/listinfo/bioc-devel
* Checking for support site registration...
Maintainer is registered at support site.
Package name is in support site watched tags.
─ BiocCheck results ──
2 ERRORS | 2 WARNINGS | 12 NOTES
See the impute.BiocCheck folder and run
browseVignettes(package = 'BiocCheck')
for details.