Back to BiocCheck report for a small subset of BioC 3.18 packages

This page was generated on 2023-10-24 11:15:02 -0400 (Tue, 24 Oct 2023).

HostnameOSArch (*)R versionInstalled pkgs
nebbiolo2Linux (Ubuntu 22.04.2 LTS)x86_644.3.1 (2023-06-16) -- "Beagle Scouts" 4818
Click on any hostname to see more info about the system (e.g. compilers)      (*) as reported by 'uname -p', except on Windows and Mac OS X

Package 74/92HostnameOS / ArchBIOCCHECK
RProtoBufLib 2.13.1  (landing page)
Mike Jiang
Snapshot Date: 2023-10-24 10:00:01 -0400 (Tue, 24 Oct 2023)
git_url: https://git.bioconductor.org/packages/RProtoBufLib
git_branch: devel
git_last_commit: e3138e7
git_last_commit_date: 2023-07-10 14:48:54 -0400 (Mon, 10 Jul 2023)
nebbiolo2Linux (Ubuntu 22.04.2 LTS) / x86_64  ERROR  

BIOCCHECK results for RProtoBufLib on nebbiolo2


To the developers/maintainers of the RProtoBufLib package:
- Use the following Renviron settings to reproduce errors and warnings.
- If 'R CMD check' started to fail recently on the Linux builder(s) over a missing dependency, add the missing dependency to 'Suggests:' in your DESCRIPTION file. See Renviron.bioc for more information.

raw results


Summary

Package: RProtoBufLib
Version: 2.13.1
Command: /home/biocbuild/bbs-3.18-bioc/R/bin/Rscript -e "BiocCheck::BiocCheck('RProtoBufLib_2.13.1.tar.gz')"
StartedAt: 2023-10-24 10:48:03 -0400 (Tue, 24 Oct 2023)
EndedAt: 2023-10-24 10:52:38 -0400 (Tue, 24 Oct 2023)
EllapsedTime: 274.8 seconds
RetCode: None
Status:   ERROR  
Warnings: 2

Command output

##############################################################################
##############################################################################
###
### Running command:
###
###   /home/biocbuild/bbs-3.18-bioc/R/bin/Rscript -e "BiocCheck::BiocCheck('RProtoBufLib_2.13.1.tar.gz')"
###
##############################################################################
##############################################################################


─ BiocCheckVersion: 1.39.0
─ BiocVersion: 3.18
─ Package: RProtoBufLib
─ PackageVersion: 2.13.1
─ sourceDir: /tmp/Rtmpjm3f8q/file38f9fd3a2a918e/RProtoBufLib
─ installDir: /tmp/Rtmpjm3f8q/file38f9fd5fcebbe1
─ BiocCheckDir: /home/biocbuild/bbs-3.18-bioc-testing/meat/RProtoBufLib.BiocCheck
─ platform: unix
─ isTarBall: TRUE

* Installing package...
* Checking for deprecated package usage...
* Checking for remote package usage...
* Checking for 'LazyData: true' usage...
* Checking version number...
* Checking for version number mismatch...
* Checking version number validity...
* Checking R version dependency...
* Checking package size...
* Checking individual file sizes...
* Checking biocViews...
* Checking that biocViews are present...
* Checking package type based on biocViews...
    Software
* Checking for non-trivial biocViews...
* Checking that biocViews come from the same category...
* Checking biocViews validity...
* Checking for recommended biocViews...
    * NOTE: Consider adding these automatically suggested biocViews:
      DataImport
Search 'biocViews' at https://contributions.bioconductor.org
* Checking build system compatibility...
* Checking for blank lines in DESCRIPTION...
* Checking if DESCRIPTION is well formatted...
* Checking for proper Description: field...
    * NOTE: The Description field in the DESCRIPTION is made up by less
      than 3 sentences. Please consider expanding this field, and
      structure it as a full paragraph
* Checking for whitespace in DESCRIPTION field names...
* Checking that Package field matches directory/tarball name...
* Checking for Version field...
* Checking for valid maintainer...
    * ERROR: Remove Maintainer field. Use Authors@R [cre] designation.
* Checking License: for restrictive use...
* Checking for recommeded fields in DESCRIPTION...
    * NOTE: Provide 'URL', 'BugReports' field(s) in DESCRIPTION
* Checking for pinned package versions...
* Checking DESCRIPTION/NAMESPACE consistency...
* Checking .Rbuildignore...
* Checking for stray BiocCheck output folders...
* Checking vignette directory...
    * WARNING: Evaluate more vignette chunks.
        2 out of 3 code chunks = 66% unevaluated
        2 non-exec code chunk(s) (e.g., '```r')
    * NOTE: 'sessionInfo' not found in vignette(s)
* Checking package installation calls in R code...
* Checking for library/require of RProtoBufLib...
* Checking coding practice...
    * NOTE: Avoid 'cat' and 'print' outside of 'show' methods
    * NOTE: Avoid using '=' for assignment and use '<-' instead
    * NOTE: Avoid the use of 'paste' in condition signals
* Checking parsed R code in R directory, examples, vignettes...
    * NOTE: Avoid '<<-' if possible (found 2 times)
* Checking function lengths...
* Checking man page documentation...
    * WARNING: Empty or missing \value sections found in man pages.
Warning: .onUnload failed in unloadNamespace() for 'RProtoBufLib', details:
  call: dll[["path"]]
  error: subscript out of bounds
    * ERROR: At least 80% of man pages documenting exported objects
      must have runnable examples.
* Checking package NEWS...
    * NOTE: More than 1 NEWS file found. See ?news for recognition
      ordering.
* Checking unit tests...
    * NOTE: Consider adding unit tests. We strongly encourage them. See
      https://contributions.bioconductor.org/tests.html
* Checking skip_on_bioc() in tests...
* Checking formatting of DESCRIPTION, NAMESPACE, man pages, R source,
  and vignette source...
    * NOTE: Consider shorter lines; 10 lines (5%) are > 80 characters
      long.
    * NOTE: Consider 4 spaces instead of tabs; 6 lines (3%) contain
      tabs.
    * NOTE: Consider multiples of 4 spaces for line indents; 77 lines
      (38%) are not.
    See https://contributions.bioconductor.org/r-code.html
    See styler package: https://cran.r-project.org/package=styler as
      described in the BiocCheck vignette.
* Checking if package already exists in CRAN...
* Checking for bioc-devel mailing list subscription...
    * NOTE: Cannot determine whether maintainer is subscribed to the
      Bioc-Devel mailing list (requires admin credentials). Subscribe
      here: https://stat.ethz.ch/mailman/listinfo/bioc-devel
* Checking for support site registration...
    * ERROR: Maintainer must register at the support site; visit
      https://support.bioconductor.org/accounts/signup/

─ BiocCheck results ──
3 ERRORS | 2 WARNINGS | 14 NOTES

See the RProtoBufLib.BiocCheck folder and run
    browseVignettes(package = 'BiocCheck')
for details.