| Back to BiocCheck report for a small subset of BioC 3.18 packages |
This page was generated on 2023-10-24 11:15:02 -0400 (Tue, 24 Oct 2023).
| Hostname | OS | Arch (*) | R version | Installed pkgs |
|---|---|---|---|---|
| nebbiolo2 | Linux (Ubuntu 22.04.2 LTS) | x86_64 | 4.3.1 (2023-06-16) -- "Beagle Scouts" | 4818 |
| Click on any hostname to see more info about the system (e.g. compilers) (*) as reported by 'uname -p', except on Windows and Mac OS X | ||||
| Package 62/92 | Hostname | OS / Arch | BIOCCHECK | |||||||
| OrganismDbi 1.45.0 (landing page) Bioconductor Package Maintainer
| nebbiolo2 | Linux (Ubuntu 22.04.2 LTS) / x86_64 | ERROR | |||||||
|
To the developers/maintainers of the OrganismDbi package: - Use the following Renviron settings to reproduce errors and warnings. - If 'R CMD check' started to fail recently on the Linux builder(s) over a missing dependency, add the missing dependency to 'Suggests:' in your DESCRIPTION file. See Renviron.bioc for more information. |
| Package: OrganismDbi |
| Version: 1.45.0 |
| Command: /home/biocbuild/bbs-3.18-bioc/R/bin/Rscript -e "BiocCheck::BiocCheck('OrganismDbi_1.45.0.tar.gz')" |
| StartedAt: 2023-10-24 10:47:44 -0400 (Tue, 24 Oct 2023) |
| EndedAt: 2023-10-24 10:48:40 -0400 (Tue, 24 Oct 2023) |
| EllapsedTime: 56.7 seconds |
| RetCode: None |
| Status: ERROR |
| Warnings: 4 |
##############################################################################
##############################################################################
###
### Running command:
###
### /home/biocbuild/bbs-3.18-bioc/R/bin/Rscript -e "BiocCheck::BiocCheck('OrganismDbi_1.45.0.tar.gz')"
###
##############################################################################
##############################################################################
─ BiocCheckVersion: 1.39.0
─ BiocVersion: 3.18
─ Package: OrganismDbi
─ PackageVersion: 1.45.0
─ sourceDir: /tmp/RtmpzSqULT/file38e28617261d2f/OrganismDbi
─ installDir: /tmp/RtmpzSqULT/file38e28666b8b0a
─ BiocCheckDir: /home/biocbuild/bbs-3.18-bioc-testing/meat/OrganismDbi.BiocCheck
─ platform: unix
─ isTarBall: TRUE
* Installing package...
* Checking for deprecated package usage...
* Checking for remote package usage...
* Checking for 'LazyData: true' usage...
* Checking version number...
* Checking for version number mismatch...
* Checking version number validity...
* Checking R version dependency...
* NOTE: Update R version dependency from 2.14.0 to 4.3.0.
* Checking package size...
* Checking individual file sizes...
* Checking biocViews...
* Checking that biocViews are present...
* Checking package type based on biocViews...
Software
* Checking for non-trivial biocViews...
* Checking that biocViews come from the same category...
* Checking biocViews validity...
* Checking for recommended biocViews...
* NOTE: Consider adding these automatically suggested biocViews:
Sequencing, Alignment
Search 'biocViews' at https://contributions.bioconductor.org
* Checking build system compatibility...
* Checking for blank lines in DESCRIPTION...
* Checking if DESCRIPTION is well formatted...
* Checking for proper Description: field...
* NOTE: The Description field in the DESCRIPTION is made up by less
than 3 sentences. Please consider expanding this field, and
structure it as a full paragraph
* Checking for whitespace in DESCRIPTION field names...
* Checking that Package field matches directory/tarball name...
* Checking for Version field...
* Checking for valid maintainer...
* NOTE: Consider adding the maintainer's ORCID iD in 'Authors@R'
with 'comment=c(ORCID="...")'
* Checking License: for restrictive use...
* Checking for recommeded fields in DESCRIPTION...
* NOTE: Provide 'URL', 'BugReports' field(s) in DESCRIPTION
* Checking for pinned package versions...
* Checking DESCRIPTION/NAMESPACE consistency...
* WARNING: Import utils in DESCRIPTION as well as NAMESPACE.
* Checking .Rbuildignore...
* Checking for stray BiocCheck output folders...
* Checking vignette directory...
* NOTE: 'sessionInfo' not found in vignette(s)
* Checking package installation calls in R code...
* Checking for library/require of OrganismDbi...
* WARNING: Avoid the use of 'library' or 'require' in R code
* Checking coding practice...
* NOTE: Avoid sapply(); use vapply()
* NOTE: Avoid 1:...; use seq_len() or seq_along()
* NOTE: Avoid 'cat' and 'print' outside of 'show' methods
* NOTE: Avoid using '=' for assignment and use '<-' instead
* WARNING: Avoid class membership checks with class() / is() and ==
/ !=; Use is(x, 'class') for S4 classes
* Checking parsed R code in R directory, examples, vignettes...
* NOTE: Avoid 'suppressWarnings'/'*Messages' if possible (found 2
times)
* Checking function lengths...
* NOTE: The recommended function length is 50 lines or less. There
are 4 functions greater than 50 lines.
* Checking man page documentation...
* WARNING: Empty or missing \value sections found in man pages.
* ERROR: At least 80% of man pages documenting exported objects
must have runnable examples.
* NOTE: Usage of dontrun{} / donttest{} tags found in man page
examples. 29% of man pages use at least one of these tags.
* NOTE: Use donttest{} instead of dontrun{}.
* Checking package NEWS...
* Checking unit tests...
* Checking skip_on_bioc() in tests...
* Checking formatting of DESCRIPTION, NAMESPACE, man pages, R source,
and vignette source...
* NOTE: Consider shorter lines; 67 lines (2%) are > 80 characters
long.
* NOTE: Consider 4 spaces instead of tabs; 18 lines (0%) contain
tabs.
* NOTE: Consider multiples of 4 spaces for line indents; 728 lines
(20%) are not.
See https://contributions.bioconductor.org/r-code.html
See styler package: https://cran.r-project.org/package=styler as
described in the BiocCheck vignette.
* Checking if package already exists in CRAN...
* Checking for bioc-devel mailing list subscription...
* NOTE: Cannot determine whether maintainer is subscribed to the
Bioc-Devel mailing list (requires admin credentials). Subscribe
here: https://stat.ethz.ch/mailman/listinfo/bioc-devel
* Checking for support site registration...
Maintainer email is ok.
─ BiocCheck results ──
1 ERRORS | 4 WARNINGS | 18 NOTES
See the OrganismDbi.BiocCheck folder and run
browseVignettes(package = 'BiocCheck')
for details.