Back to First build/check report with an "external build node"

This page was generated on 2023-06-01 18:17:19 -0400 (Thu, 01 Jun 2023).

HostnameOSArch (*)R versionInstalled pkgs
xps15Linux (Ubuntu 23.04)x86_644.3.0 Patched (2023-05-23 r84466) -- "Already Tomorrow" 544
Click on any hostname to see more info about the system (e.g. compilers)      (*) as reported by 'uname -p', except on Windows and Mac OS X

INSTALL results for DelayedArray on xps15


To the developers/maintainers of the DelayedArray package:
Use the following Renviron settings to reproduce errors and warnings.

Note: If "R CMD check" recently failed on the Linux builder over a missing dependency, add the missing dependency to "Suggests" in your DESCRIPTION file. See the Renviron.bioc for details.

raw results

Package 26/91HostnameOS / ArchINSTALLBUILDCHECKBUILD BIN
DelayedArray 0.27.4  (landing page)
Hervé Pagès
Snapshot Date: 2023-06-01 15:10:15 -0400 (Thu, 01 Jun 2023)
git_url: https://git.bioconductor.org/packages/DelayedArray
git_branch: devel
git_last_commit: b7734e3
git_last_commit_date: 2023-05-22 21:02:57 -0400 (Mon, 22 May 2023)
xps15Linux (Ubuntu 23.04) / x86_64  OK    ERROR  skipped

Summary

Package: DelayedArray
Version: 0.27.4
Command: /home/hpages/bbs-3.18-bioc/R/bin/R CMD INSTALL DelayedArray
StartedAt: 2023-06-01 12:22:02 -0700 (Thu, 01 Jun 2023)
EndedAt: 2023-06-01 12:22:36 -0700 (Thu, 01 Jun 2023)
EllapsedTime: 34.2 seconds
RetCode: 0
Status:   OK  

Command output

##############################################################################
##############################################################################
###
### Running command:
###
###   /home/hpages/bbs-3.18-bioc/R/bin/R CMD INSTALL DelayedArray
###
##############################################################################
##############################################################################


* installing to library ‘/home/hpages/bbs-3.18-bioc-testing/Rlibs’
* installing *source* package ‘DelayedArray’ ...
** using staged installation
** libs
using C compiler: ‘gcc (Ubuntu 12.2.0-17ubuntu1) 12.2.0’
gcc -I"/home/hpages/bbs-3.18-bioc/R/include" -DNDEBUG  -I'/home/hpages/bbs-3.18-bioc-testing/Rlibs/S4Vectors/include' -I/usr/local/include    -fpic  -g -O2  -Wall -c R_init_DelayedArray.c -o R_init_DelayedArray.o
gcc -I"/home/hpages/bbs-3.18-bioc/R/include" -DNDEBUG  -I'/home/hpages/bbs-3.18-bioc-testing/Rlibs/S4Vectors/include' -I/usr/local/include    -fpic  -g -O2  -Wall -c S4Vectors_stubs.c -o S4Vectors_stubs.o
gcc -I"/home/hpages/bbs-3.18-bioc/R/include" -DNDEBUG  -I'/home/hpages/bbs-3.18-bioc-testing/Rlibs/S4Vectors/include' -I/usr/local/include    -fpic  -g -O2  -Wall -c compress_atomic_vector.c -o compress_atomic_vector.o
gcc -shared -L/usr/local/lib -o DelayedArray.so R_init_DelayedArray.o S4Vectors_stubs.o compress_atomic_vector.o
installing to /home/hpages/bbs-3.18-bioc-testing/Rlibs/00LOCK-DelayedArray/00new/DelayedArray/libs
** R
** inst
** byte-compile and prepare package for lazy loading
Creating a new generic function for ‘apply’ in package ‘DelayedArray’
Creating a new generic function for ‘sweep’ in package ‘DelayedArray’
Creating a new generic function for ‘scale’ in package ‘DelayedArray’
Creating a generic function for ‘dnorm’ from package ‘stats’ in package ‘DelayedArray’
Creating a generic function for ‘pnorm’ from package ‘stats’ in package ‘DelayedArray’
Creating a generic function for ‘qnorm’ from package ‘stats’ in package ‘DelayedArray’
Creating a generic function for ‘dbinom’ from package ‘stats’ in package ‘DelayedArray’
Creating a generic function for ‘pbinom’ from package ‘stats’ in package ‘DelayedArray’
Creating a generic function for ‘qbinom’ from package ‘stats’ in package ‘DelayedArray’
Creating a generic function for ‘dpois’ from package ‘stats’ in package ‘DelayedArray’
Creating a generic function for ‘ppois’ from package ‘stats’ in package ‘DelayedArray’
Creating a generic function for ‘qpois’ from package ‘stats’ in package ‘DelayedArray’
Creating a generic function for ‘dlogis’ from package ‘stats’ in package ‘DelayedArray’
Creating a generic function for ‘plogis’ from package ‘stats’ in package ‘DelayedArray’
Creating a generic function for ‘qlogis’ from package ‘stats’ in package ‘DelayedArray’
** help
*** installing help indices
** building package indices
** installing vignettes
** testing if installed package can be loaded from temporary location
** checking absolute paths in shared objects and dynamic libraries
** testing if installed package can be loaded from final location
** testing if installed package keeps a record of temporary installation path
* DONE (DelayedArray)