Back to BiocCheck report for a small subset of BioC 3.18 packages |
This page was generated on 2023-10-24 11:15:02 -0400 (Tue, 24 Oct 2023).
Hostname | OS | Arch (*) | R version | Installed pkgs |
---|---|---|---|---|
nebbiolo2 | Linux (Ubuntu 22.04.2 LTS) | x86_64 | 4.3.1 (2023-06-16) -- "Beagle Scouts" | 4818 |
Click on any hostname to see more info about the system (e.g. compilers) (*) as reported by 'uname -p', except on Windows and Mac OS X |
Package 31/92 | Hostname | OS / Arch | BIOCCHECK | |||||||
DEXSeq 1.49.0 (landing page) Alejandro Reyes
| nebbiolo2 | Linux (Ubuntu 22.04.2 LTS) / x86_64 | ERROR | |||||||
To the developers/maintainers of the DEXSeq package: - Use the following Renviron settings to reproduce errors and warnings. - If 'R CMD check' started to fail recently on the Linux builder(s) over a missing dependency, add the missing dependency to 'Suggests:' in your DESCRIPTION file. See Renviron.bioc for more information. |
Package: DEXSeq |
Version: 1.49.0 |
Command: /home/biocbuild/bbs-3.18-bioc/R/bin/Rscript -e "BiocCheck::BiocCheck('DEXSeq_1.49.0.tar.gz')" |
StartedAt: 2023-10-24 10:46:20 -0400 (Tue, 24 Oct 2023) |
EndedAt: 2023-10-24 10:47:19 -0400 (Tue, 24 Oct 2023) |
EllapsedTime: 59.2 seconds |
RetCode: None |
Status: ERROR |
Warnings: 3 |
############################################################################## ############################################################################## ### ### Running command: ### ### /home/biocbuild/bbs-3.18-bioc/R/bin/Rscript -e "BiocCheck::BiocCheck('DEXSeq_1.49.0.tar.gz')" ### ############################################################################## ############################################################################## ─ BiocCheckVersion: 1.39.0 ─ BiocVersion: 3.18 ─ Package: DEXSeq ─ PackageVersion: 1.49.0 ─ sourceDir: /tmp/RtmpQjtts2/file38aec3797814b3/DEXSeq ─ installDir: /tmp/RtmpQjtts2/file38aec367d4799a ─ BiocCheckDir: /home/biocbuild/bbs-3.18-bioc-testing/meat/DEXSeq.BiocCheck ─ platform: unix ─ isTarBall: TRUE * Installing package... * Checking for deprecated package usage... * Checking for remote package usage... * Checking for 'LazyData: true' usage... * Checking version number... * Checking for version number mismatch... * Checking version number validity... * Checking R version dependency... * Checking package size... * Checking individual file sizes... * Checking biocViews... * Checking that biocViews are present... * Checking package type based on biocViews... Software * Checking for non-trivial biocViews... * Checking that biocViews come from the same category... * Checking biocViews validity... * Checking for recommended biocViews... * NOTE: Consider adding these automatically suggested biocViews: Coverage, Normalization Search 'biocViews' at https://contributions.bioconductor.org * Checking build system compatibility... * Checking for blank lines in DESCRIPTION... * Checking if DESCRIPTION is well formatted... * Checking for proper Description: field... * Checking for whitespace in DESCRIPTION field names... * Checking that Package field matches directory/tarball name... * Checking for Version field... * Checking for valid maintainer... * ERROR: Remove Maintainer field. Use Authors@R [cre] designation. * Checking License: for restrictive use... * NOTE: License 'GPL (>= 3)' unknown; licenses cannot restrict use * Checking for recommeded fields in DESCRIPTION... * NOTE: Provide 'BugReports' field(s) in DESCRIPTION * Checking for pinned package versions... * Checking DESCRIPTION/NAMESPACE consistency... * WARNING: Import grDevices, graphics, stats, utils in DESCRIPTION as well as NAMESPACE. * Checking .Rbuildignore... * Checking for stray BiocCheck output folders... * Checking vignette directory... * Checking package installation calls in R code... * Checking for library/require of DEXSeq... * Checking coding practice... * NOTE: Avoid sapply(); use vapply() * NOTE: Avoid 1:...; use seq_len() or seq_along() * NOTE: Avoid 'cat' and 'print' outside of 'show' methods * NOTE: Avoid using '=' for assignment and use '<-' instead * NOTE: Avoid redundant 'stop' and 'warn*' in signal conditions * WARNING: Avoid class membership checks with class() / is() and == / !=; Use is(x, 'class') for S4 classes * Checking parsed R code in R directory, examples, vignettes... * NOTE: Avoid 'suppressWarnings'/'*Messages' if possible (found 1 times) * Checking function lengths... * NOTE: The recommended function length is 50 lines or less. There are 9 functions greater than 50 lines. * Checking man page documentation... * WARNING: Empty or missing \value sections found in man pages. * ERROR: At least 80% of man pages documenting exported objects must have runnable examples. * NOTE: Usage of dontrun{} / donttest{} tags found in man page examples. 29% of man pages use at least one of these tags. * NOTE: Use donttest{} instead of dontrun{}. * Checking package NEWS... * Checking unit tests... * Checking skip_on_bioc() in tests... * Checking formatting of DESCRIPTION, NAMESPACE, man pages, R source, and vignette source... * NOTE: Add content to the empty file R/deprecatedFunctions.R * NOTE: Consider shorter lines; 398 lines (11%) are > 80 characters long. * NOTE: Consider 4 spaces instead of tabs; 8 lines (0%) contain tabs. * NOTE: Consider multiples of 4 spaces for line indents; 1275 lines (35%) are not. See https://contributions.bioconductor.org/r-code.html See styler package: https://cran.r-project.org/package=styler as described in the BiocCheck vignette. * Checking if package already exists in CRAN... * Checking for bioc-devel mailing list subscription... * NOTE: Cannot determine whether maintainer is subscribed to the Bioc-Devel mailing list (requires admin credentials). Subscribe here: https://stat.ethz.ch/mailman/listinfo/bioc-devel * Checking for support site registration... Maintainer is registered at support site. Package name is in support site watched tags. ─ BiocCheck results ── 2 ERRORS | 3 WARNINGS | 17 NOTES See the DEXSeq.BiocCheck folder and run browseVignettes(package = 'BiocCheck') for details.