| Back to BiocCheck report for a small subset of BioC 3.18 packages |
This page was generated on 2023-10-24 11:15:02 -0400 (Tue, 24 Oct 2023).
| Hostname | OS | Arch (*) | R version | Installed pkgs |
|---|---|---|---|---|
| nebbiolo2 | Linux (Ubuntu 22.04.2 LTS) | x86_64 | 4.3.1 (2023-06-16) -- "Beagle Scouts" | 4818 |
| Click on any hostname to see more info about the system (e.g. compilers) (*) as reported by 'uname -p', except on Windows and Mac OS X | ||||
| Package 13/92 | Hostname | OS / Arch | BIOCCHECK | |||||||
| Biobase 2.63.0 (landing page) Bioconductor Package Maintainer
| nebbiolo2 | Linux (Ubuntu 22.04.2 LTS) / x86_64 | ERROR | |||||||
|
To the developers/maintainers of the Biobase package: - Use the following Renviron settings to reproduce errors and warnings. - If 'R CMD check' started to fail recently on the Linux builder(s) over a missing dependency, add the missing dependency to 'Suggests:' in your DESCRIPTION file. See Renviron.bioc for more information. |
| Package: Biobase |
| Version: 2.63.0 |
| Command: /home/biocbuild/bbs-3.18-bioc/R/bin/Rscript -e "BiocCheck::BiocCheck('Biobase_2.63.0.tar.gz')" |
| StartedAt: 2023-10-24 10:46:02 -0400 (Tue, 24 Oct 2023) |
| EndedAt: 2023-10-24 10:46:39 -0400 (Tue, 24 Oct 2023) |
| EllapsedTime: 36.7 seconds |
| RetCode: None |
| Status: ERROR |
| Warnings: 4 |
##############################################################################
##############################################################################
###
### Running command:
###
### /home/biocbuild/bbs-3.18-bioc/R/bin/Rscript -e "BiocCheck::BiocCheck('Biobase_2.63.0.tar.gz')"
###
##############################################################################
##############################################################################
─ BiocCheckVersion: 1.39.0
─ BiocVersion: 3.18
─ Package: Biobase
─ PackageVersion: 2.63.0
─ sourceDir: /tmp/RtmpVyPuM0/file3896a52bdb49a5/Biobase
─ installDir: /tmp/RtmpVyPuM0/file3896a57093e7e6
─ BiocCheckDir: /home/biocbuild/bbs-3.18-bioc-testing/meat/Biobase.BiocCheck
─ platform: unix
─ isTarBall: TRUE
* Installing package...
* Checking for deprecated package usage...
* Checking for remote package usage...
* Checking for 'LazyData: true' usage...
* Checking version number...
* Checking for version number mismatch...
* Checking version number validity...
* Checking R version dependency...
* NOTE: Update R version dependency from 2.10 to 4.3.0.
* Checking package size...
* Checking individual file sizes...
* Checking biocViews...
* Checking that biocViews are present...
* Checking package type based on biocViews...
Software
* Checking for non-trivial biocViews...
* Checking that biocViews come from the same category...
* Checking biocViews validity...
* Checking for recommended biocViews...
* Checking build system compatibility...
* Checking for blank lines in DESCRIPTION...
* Checking if DESCRIPTION is well formatted...
* Checking for proper Description: field...
* WARNING: Description field in the DESCRIPTION file is too concise
* Checking for whitespace in DESCRIPTION field names...
* Checking that Package field matches directory/tarball name...
* Checking for Version field...
* Checking for valid maintainer...
* NOTE: Consider adding the maintainer's ORCID iD in 'Authors@R'
with 'comment=c(ORCID="...")'
* Checking License: for restrictive use...
* Checking for recommeded fields in DESCRIPTION...
* Checking for pinned package versions...
* Checking DESCRIPTION/NAMESPACE consistency...
* Checking .Rbuildignore...
* Checking for stray BiocCheck output folders...
* Checking vignette directory...
* WARNING: Avoid T/F variables; If logical, use TRUE/FALSE
* Checking package installation calls in R code...
* Checking for library/require of Biobase...
* Checking coding practice...
* NOTE: Avoid sapply(); use vapply()
* NOTE: Avoid 1:...; use seq_len() or seq_along()
* NOTE: Avoid 'cat' and 'print' outside of 'show' methods
* NOTE: Avoid using '=' for assignment and use '<-' instead
* NOTE: Avoid the use of 'paste' in condition signals
* NOTE: Avoid redundant 'stop' and 'warn*' in signal conditions
* WARNING: Avoid class membership checks with class() / is() and ==
/ !=; Use is(x, 'class') for S4 classes
* Checking parsed R code in R directory, examples, vignettes...
Found @ in man/class.Versioned.Rd
* NOTE: Use accessors; don't access S4 class slots via '@' in
examples/vignettes.
* Checking function lengths...
* NOTE: The recommended function length is 50 lines or less. There
are 5 functions greater than 50 lines.
* Checking man page documentation...
* WARNING: Empty or missing \value sections found in man pages.
* ERROR: At least 80% of man pages documenting exported objects
must have runnable examples.
* NOTE: Usage of dontrun{} / donttest{} tags found in man page
examples. 4% of man pages use at least one of these tags.
* NOTE: Use donttest{} instead of dontrun{}.
* Checking package NEWS...
* Checking unit tests...
* Checking skip_on_bioc() in tests...
* Checking formatting of DESCRIPTION, NAMESPACE, man pages, R source,
and vignette source...
* NOTE: Consider shorter lines; 349 lines (4%) are > 80 characters
long.
* NOTE: Consider 4 spaces instead of tabs; 64 lines (1%) contain
tabs.
* NOTE: Consider multiples of 4 spaces for line indents; 3266 lines
(34%) are not.
See https://contributions.bioconductor.org/r-code.html
See styler package: https://cran.r-project.org/package=styler as
described in the BiocCheck vignette.
* Checking if package already exists in CRAN...
* Checking for bioc-devel mailing list subscription...
* NOTE: Cannot determine whether maintainer is subscribed to the
Bioc-Devel mailing list (requires admin credentials). Subscribe
here: https://stat.ethz.ch/mailman/listinfo/bioc-devel
* Checking for support site registration...
Maintainer email is ok.
─ BiocCheck results ──
1 ERRORS | 4 WARNINGS | 16 NOTES
See the Biobase.BiocCheck folder and run
browseVignettes(package = 'BiocCheck')
for details.