| Back to BiocCheck report for a small subset of BioC 3.18 packages |
This page was generated on 2023-10-24 11:15:02 -0400 (Tue, 24 Oct 2023).
| Hostname | OS | Arch (*) | R version | Installed pkgs |
|---|---|---|---|---|
| nebbiolo2 | Linux (Ubuntu 22.04.2 LTS) | x86_64 | 4.3.1 (2023-06-16) -- "Beagle Scouts" | 4818 |
| Click on any hostname to see more info about the system (e.g. compilers) (*) as reported by 'uname -p', except on Windows and Mac OS X | ||||
| Package 25/92 | Hostname | OS / Arch | BIOCCHECK | |||||||
| BSgenome 1.71.0 (landing page) Hervé Pagès
| nebbiolo2 | Linux (Ubuntu 22.04.2 LTS) / x86_64 | ERROR | |||||||
|
To the developers/maintainers of the BSgenome package: - Use the following Renviron settings to reproduce errors and warnings. - If 'R CMD check' started to fail recently on the Linux builder(s) over a missing dependency, add the missing dependency to 'Suggests:' in your DESCRIPTION file. See Renviron.bioc for more information. |
| Package: BSgenome |
| Version: 1.71.0 |
| Command: /home/biocbuild/bbs-3.18-bioc/R/bin/Rscript -e "BiocCheck::BiocCheck('BSgenome_1.71.0.tar.gz')" |
| StartedAt: 2023-10-24 10:46:02 -0400 (Tue, 24 Oct 2023) |
| EndedAt: 2023-10-24 10:47:11 -0400 (Tue, 24 Oct 2023) |
| EllapsedTime: 69.6 seconds |
| RetCode: None |
| Status: ERROR |
| Warnings: 5 |
##############################################################################
##############################################################################
###
### Running command:
###
### /home/biocbuild/bbs-3.18-bioc/R/bin/Rscript -e "BiocCheck::BiocCheck('BSgenome_1.71.0.tar.gz')"
###
##############################################################################
##############################################################################
─ BiocCheckVersion: 1.39.0
─ BiocVersion: 3.18
─ Package: BSgenome
─ PackageVersion: 1.71.0
─ sourceDir: /tmp/RtmpnQkfBZ/file38972cf946a48/BSgenome
─ installDir: /tmp/RtmpnQkfBZ/file38972c139a657e
─ BiocCheckDir: /home/biocbuild/bbs-3.18-bioc-testing/meat/BSgenome.BiocCheck
─ platform: unix
─ isTarBall: TRUE
* Installing package...
* Checking for deprecated package usage...
* Checking for remote package usage...
* Checking for 'LazyData: true' usage...
* Checking version number...
* Checking for version number mismatch...
* Checking version number validity...
* Checking R version dependency...
* NOTE: Update R version dependency from 2.8.0 to 4.3.0.
* Checking package size...
* ERROR: Package tarball exceeds the Bioconductor size requirement.
* Checking individual file sizes...
* WARNING: Package files exceed the 5MB size limit.
* WARNING: Data files exceed the 5MB size limit.
* Checking biocViews...
* Checking that biocViews are present...
* Checking package type based on biocViews...
Software
* Checking for non-trivial biocViews...
* Checking that biocViews come from the same category...
* Checking biocViews validity...
* Checking for recommended biocViews...
* NOTE: Consider adding these automatically suggested biocViews:
Sequencing, GenomeAssembly, Alignment, DataImport
Search 'biocViews' at https://contributions.bioconductor.org
* Checking build system compatibility...
* Checking for blank lines in DESCRIPTION...
* Checking if DESCRIPTION is well formatted...
* Checking for proper Description: field...
* WARNING: Description field in the DESCRIPTION file is too concise
* Checking for whitespace in DESCRIPTION field names...
* Checking that Package field matches directory/tarball name...
* Checking for Version field...
* Checking for valid maintainer...
* NOTE: Consider adding the maintainer's ORCID iD in 'Authors@R'
with 'comment=c(ORCID="...")'
* Checking License: for restrictive use...
* Checking for recommeded fields in DESCRIPTION...
* Checking for pinned package versions...
* Checking DESCRIPTION/NAMESPACE consistency...
* Checking .Rbuildignore...
* Checking for stray BiocCheck output folders...
* Checking vignette directory...
* Checking package installation calls in R code...
* Checking for library/require of BSgenome...
* WARNING: Avoid the use of 'library' or 'require' in R code
* Checking coding practice...
* NOTE: Avoid sapply(); use vapply()
* NOTE: Avoid 1:...; use seq_len() or seq_along()
* NOTE: Avoid 'cat' and 'print' outside of 'show' methods
* NOTE: Avoid the use of 'paste' in condition signals
* NOTE: Avoid redundant 'stop' and 'warn*' in signal conditions
* Checking parsed R code in R directory, examples, vignettes...
Found @ in man/bsapply.Rd
Found @ in man/getSeq-methods.Rd
* NOTE: Use accessors; don't access S4 class slots via '@' in
examples/vignettes.
* NOTE: Avoid '<<-' if possible (found 4 times)
* NOTE: Avoid 'suppressWarnings'/'*Messages' if possible (found 7
times)
* Checking function lengths...
* NOTE: The recommended function length is 50 lines or less. There
are 18 functions greater than 50 lines.
* Checking man page documentation...
* WARNING: Empty or missing \value sections found in man pages.
* NOTE: Usage of dontrun{} / donttest{} tags found in man page
examples. 17% of man pages use at least one of these tags.
* NOTE: Use donttest{} instead of dontrun{}.
* Checking package NEWS...
* Checking unit tests...
* NOTE: Consider adding unit tests. We strongly encourage them. See
https://contributions.bioconductor.org/tests.html
* Checking skip_on_bioc() in tests...
* Checking formatting of DESCRIPTION, NAMESPACE, man pages, R source,
and vignette source...
* NOTE: Consider shorter lines; 65 lines (1%) are > 80 characters
long.
* NOTE: Consider 4 spaces instead of tabs; 1 lines (0%) contain
tabs.
* NOTE: Consider multiples of 4 spaces for line indents; 1688 lines
(15%) are not.
See https://contributions.bioconductor.org/r-code.html
See styler package: https://cran.r-project.org/package=styler as
described in the BiocCheck vignette.
* Checking if package already exists in CRAN...
* Checking for bioc-devel mailing list subscription...
* NOTE: Cannot determine whether maintainer is subscribed to the
Bioc-Devel mailing list (requires admin credentials). Subscribe
here: https://stat.ethz.ch/mailman/listinfo/bioc-devel
* Checking for support site registration...
Maintainer is registered at support site.
* ERROR: Maintainer must add package name to Watched Tags on the
support site; Edit your Support Site User Profile to add Watched
Tags.
─ BiocCheck results ──
2 ERRORS | 5 WARNINGS | 19 NOTES
See the BSgenome.BiocCheck folder and run
browseVignettes(package = 'BiocCheck')
for details.