| Back to Mac ARM64 build report for BioC 3.18 |
|
This page was generated on 2024-04-18 11:31:58 -0400 (Thu, 18 Apr 2024).
| Hostname | OS | Arch (*) | R version | Installed pkgs |
|---|---|---|---|---|
| kjohnson1 | macOS 13.6.1 Ventura | arm64 | 4.3.3 (2024-02-29) -- "Angel Food Cake" | 4388 |
| Click on any hostname to see more info about the system (e.g. compilers) (*) as reported by 'uname -p', except on Windows and Mac OS X | ||||
|
To the developers/maintainers of the edgeR package: - Use the following Renviron settings to reproduce errors and warnings. - If 'R CMD check' started to fail recently on the Linux builder(s) over a missing dependency, add the missing dependency to 'Suggests:' in your DESCRIPTION file. See Renviron.bioc for more information. |
| Package 625/2266 | Hostname | OS / Arch | INSTALL | BUILD | CHECK | BUILD BIN | ||||||||
| edgeR 4.0.16 (landing page) Yunshun Chen
| kjohnson1 | macOS 13.6.1 Ventura / arm64 | OK | OK | OK | OK | ||||||||
| QUICK STATS | OS / Arch | INSTALL | BUILD | CHECK | BUILD BIN | |||||||||||||||||
| kjohnson1 | macOS 13.6.1 Ventura / arm64 |
|
|
|
| |||||||||||||||||
| Package 1/119 | Hostname | OS / Arch | INSTALL | BUILD | CHECK | BUILD BIN | ||||||||||||||||
| affycoretools 1.74.0 (landing page) James W. MacDonald
| kjohnson1 | macOS 13.6.1 Ventura / arm64 | OK | OK | OK | OK | ||||||||||||||||
| Package 2/119 | Hostname | OS / Arch | INSTALL | BUILD | CHECK | BUILD BIN | ||||||||||||||||
| anota2seq 1.24.0 (landing page) Christian Oertlin
| kjohnson1 | macOS 13.6.1 Ventura / arm64 | OK | OK | OK | OK | ||||||||||||||||
| Package 3/119 | Hostname | OS / Arch | INSTALL | BUILD | CHECK | BUILD BIN | ||||||||||||||||
| ASpli 2.12.0 (landing page) Ariel Chernomoretz
| kjohnson1 | macOS 13.6.1 Ventura / arm64 | OK | OK | WARNINGS | OK | ||||||||||||||||
| Package 4/119 | Hostname | OS / Arch | INSTALL | BUILD | CHECK | BUILD BIN | ||||||||||||||||
| ATACseqQC 1.26.0 (landing page) Jianhong Ou
| kjohnson1 | macOS 13.6.1 Ventura / arm64 | OK | OK | OK | OK | ||||||||||||||||
| Package 5/119 | Hostname | OS / Arch | INSTALL | BUILD | CHECK | BUILD BIN | ||||||||||||||||
| autonomics 1.10.2 (landing page) Aditya Bhagwat
| kjohnson1 | macOS 13.6.1 Ventura / arm64 | OK | ERROR | skipped | skipped | ||||||||||||||||
| Package 6/119 | Hostname | OS / Arch | INSTALL | BUILD | CHECK | BUILD BIN | ||||||||||||||||
| AWFisher 1.16.0 (landing page) Zhiguang Huo
| kjohnson1 | macOS 13.6.1 Ventura / arm64 | OK | OK | OK | OK | ||||||||||||||||
| Package 7/119 | Hostname | OS / Arch | INSTALL | BUILD | CHECK | BUILD BIN | ||||||||||||||||
| baySeq 2.36.2 (landing page) Samuel Granjeaud
| kjohnson1 | macOS 13.6.1 Ventura / arm64 | OK | OK | OK | OK | ||||||||||||||||
| Package 8/119 | Hostname | OS / Arch | INSTALL | BUILD | CHECK | BUILD BIN | ||||||||||||||||
| beer 1.6.0 (landing page) Athena Chen
| kjohnson1 | macOS 13.6.1 Ventura / arm64 | OK | OK | OK | OK | ||||||||||||||||
| Package 9/119 | Hostname | OS / Arch | INSTALL | BUILD | CHECK | BUILD BIN | ||||||||||||||||
| benchdamic 1.8.2 (landing page) Matteo Calgaro
| kjohnson1 | macOS 13.6.1 Ventura / arm64 | OK | OK | OK | OK | ||||||||||||||||
| Package 10/119 | Hostname | OS / Arch | INSTALL | BUILD | CHECK | BUILD BIN | ||||||||||||||||
| BioQC 1.30.0 (landing page) Jitao David Zhang
| kjohnson1 | macOS 13.6.1 Ventura / arm64 | OK | OK | OK | OK | ||||||||||||||||
| Package 11/119 | Hostname | OS / Arch | INSTALL | BUILD | CHECK | BUILD BIN | ||||||||||||||||
| censcyt 1.10.0 (landing page) Reto Gerber
| kjohnson1 | macOS 13.6.1 Ventura / arm64 | OK | OK | OK | OK | ||||||||||||||||
| Package 12/119 | Hostname | OS / Arch | INSTALL | BUILD | CHECK | BUILD BIN | ||||||||||||||||
| ChromSCape 1.12.0 (landing page) Pacome Prompsy
| kjohnson1 | macOS 13.6.1 Ventura / arm64 | OK | OK | ERROR | OK | ||||||||||||||||
| Package 13/119 | Hostname | OS / Arch | INSTALL | BUILD | CHECK | BUILD BIN | ||||||||||||||||
| circRNAprofiler 1.16.0 (landing page) Simona Aufiero
| kjohnson1 | macOS 13.6.1 Ventura / arm64 | OK | OK | OK | OK | ||||||||||||||||
| Package 14/119 | Hostname | OS / Arch | INSTALL | BUILD | CHECK | BUILD BIN | ||||||||||||||||
| clusterExperiment 2.22.0 (landing page) Elizabeth Purdom
| kjohnson1 | macOS 13.6.1 Ventura / arm64 | OK | OK | WARNINGS | OK | ||||||||||||||||
| Package 15/119 | Hostname | OS / Arch | INSTALL | BUILD | CHECK | BUILD BIN | ||||||||||||||||
| CNVRanger 1.18.1 (landing page) Ludwig Geistlinger
| kjohnson1 | macOS 13.6.1 Ventura / arm64 | OK | OK | OK | OK | ||||||||||||||||
| Package 16/119 | Hostname | OS / Arch | INSTALL | BUILD | CHECK | BUILD BIN | ||||||||||||||||
| compcodeR 1.38.0 (landing page) Charlotte Soneson
| kjohnson1 | macOS 13.6.1 Ventura / arm64 | OK | OK | OK | OK | ||||||||||||||||
| Package 17/119 | Hostname | OS / Arch | INSTALL | BUILD | CHECK | BUILD BIN | ||||||||||||||||
| consensusDE 1.20.0 (landing page) Ashley J. Waardenberg
| kjohnson1 | macOS 13.6.1 Ventura / arm64 | OK | OK | OK | OK | ||||||||||||||||
| Package 18/119 | Hostname | OS / Arch | INSTALL | BUILD | CHECK | BUILD BIN | ||||||||||||||||
| coseq 1.26.0 (landing page) Andrea Rau
| kjohnson1 | macOS 13.6.1 Ventura / arm64 | OK | OK | OK | OK | ||||||||||||||||
| Package 19/119 | Hostname | OS / Arch | INSTALL | BUILD | CHECK | BUILD BIN | ||||||||||||||||
| countsimQC 1.20.0 (landing page) Charlotte Soneson
| kjohnson1 | macOS 13.6.1 Ventura / arm64 | OK | OK | OK | OK | ||||||||||||||||
| Package 20/119 | Hostname | OS / Arch | INSTALL | BUILD | CHECK | BUILD BIN | ||||||||||||||||
| crossmeta 1.28.0 (landing page) Alex Pickering
| kjohnson1 | macOS 13.6.1 Ventura / arm64 | OK | OK | OK | OK | ||||||||||||||||
| Package 21/119 | Hostname | OS / Arch | INSTALL | BUILD | CHECK | BUILD BIN | ||||||||||||||||
| csaw 1.36.1 (landing page) Aaron Lun
| kjohnson1 | macOS 13.6.1 Ventura / arm64 | OK | OK | WARNINGS | OK | ||||||||||||||||
| Package 22/119 | Hostname | OS / Arch | INSTALL | BUILD | CHECK | BUILD BIN | ||||||||||||||||
| DaMiRseq 2.14.0 (landing page) Mattia Chiesa
| kjohnson1 | macOS 13.6.1 Ventura / arm64 | OK | OK | OK | OK | ||||||||||||||||
| Package 23/119 | Hostname | OS / Arch | INSTALL | BUILD | CHECK | BUILD BIN | ||||||||||||||||
| dce 1.10.0 (landing page) Kim Philipp Jablonski
| kjohnson1 | macOS 13.6.1 Ventura / arm64 | OK | OK | OK | OK | ||||||||||||||||
| Package 24/119 | Hostname | OS / Arch | INSTALL | BUILD | CHECK | BUILD BIN | ||||||||||||||||
| debrowser 1.30.2 (landing page) Alper Kucukural
| kjohnson1 | macOS 13.6.1 Ventura / arm64 | OK | ERROR | skipped | skipped | ||||||||||||||||
| Package 25/119 | Hostname | OS / Arch | INSTALL | BUILD | CHECK | BUILD BIN | ||||||||||||||||
| DEFormats 1.30.0 (landing page) Andrzej Oleś
| kjohnson1 | macOS 13.6.1 Ventura / arm64 | OK | OK | OK | OK | ||||||||||||||||
| Package 26/119 | Hostname | OS / Arch | INSTALL | BUILD | CHECK | BUILD BIN | ||||||||||||||||
| DEGreport 1.38.5 (landing page) Lorena Pantano
| kjohnson1 | macOS 13.6.1 Ventura / arm64 | OK | OK | OK | OK | ||||||||||||||||
| Package 27/119 | Hostname | OS / Arch | INSTALL | BUILD | CHECK | BUILD BIN | ||||||||||||||||
| DESpace 1.2.1 (landing page) Peiying Cai
| kjohnson1 | macOS 13.6.1 Ventura / arm64 | OK | OK | OK | OK | ||||||||||||||||
| Package 28/119 | Hostname | OS / Arch | INSTALL | BUILD | CHECK | BUILD BIN | ||||||||||||||||
| DEsubs 1.28.0 (landing page) Aristidis G. Vrahatis
| kjohnson1 | macOS 13.6.1 Ventura / arm64 | OK | OK | WARNINGS | OK | ||||||||||||||||
| Package 29/119 | Hostname | OS / Arch | INSTALL | BUILD | CHECK | BUILD BIN | ||||||||||||||||
| diffcyt 1.22.1 (landing page) Lukas M. Weber
| kjohnson1 | macOS 13.6.1 Ventura / arm64 | OK | OK | OK | OK | ||||||||||||||||
| Package 30/119 | Hostname | OS / Arch | INSTALL | BUILD | CHECK | BUILD BIN | ||||||||||||||||
| diffHic 1.34.0 (landing page) Aaron Lun
| kjohnson1 | macOS 13.6.1 Ventura / arm64 | OK | OK | WARNINGS | OK | ||||||||||||||||
| Package 31/119 | Hostname | OS / Arch | INSTALL | BUILD | CHECK | BUILD BIN | ||||||||||||||||
| diffUTR 1.10.0 (landing page) Pierre-Luc Germain
| kjohnson1 | macOS 13.6.1 Ventura / arm64 | OK | OK | OK | OK | ||||||||||||||||
| Package 32/119 | Hostname | OS / Arch | INSTALL | BUILD | CHECK | BUILD BIN | ||||||||||||||||
| DMRcate 2.16.1 (landing page) Tim Peters
| kjohnson1 | macOS 13.6.1 Ventura / arm64 | OK | OK | OK | OK | ||||||||||||||||
| Package 33/119 | Hostname | OS / Arch | INSTALL | BUILD | CHECK | BUILD BIN | ||||||||||||||||
| doseR 1.18.0 (landing page) ake.vastermark
| kjohnson1 | macOS 13.6.1 Ventura / arm64 | OK | OK | OK | OK | ||||||||||||||||
| Package 34/119 | Hostname | OS / Arch | INSTALL | BUILD | CHECK | BUILD BIN | ||||||||||||||||
| dreamlet 1.0.3 (landing page) Gabriel Hoffman
| kjohnson1 | macOS 13.6.1 Ventura / arm64 | OK | OK | OK | OK | ||||||||||||||||
| Package 35/119 | Hostname | OS / Arch | INSTALL | BUILD | CHECK | BUILD BIN | ||||||||||||||||
| DRIMSeq 1.30.0 (landing page) Malgorzata Nowicka
| kjohnson1 | macOS 13.6.1 Ventura / arm64 | OK | OK | WARNINGS | OK | ||||||||||||||||
| Package 36/119 | Hostname | OS / Arch | INSTALL | BUILD | CHECK | BUILD BIN | ||||||||||||||||
| DropletUtils 1.22.0 (landing page) Jonathan Griffiths
| kjohnson1 | macOS 13.6.1 Ventura / arm64 | OK | OK | WARNINGS | OK | ||||||||||||||||
| Package 37/119 | Hostname | OS / Arch | INSTALL | BUILD | CHECK | BUILD BIN | ||||||||||||||||
| easyRNASeq 2.38.0 (landing page) Nicolas Delhomme
| kjohnson1 | macOS 13.6.1 Ventura / arm64 | OK | OK | OK | OK | ||||||||||||||||
| Package 38/119 | Hostname | OS / Arch | INSTALL | BUILD | CHECK | BUILD BIN | ||||||||||||||||
| eegc 1.28.0 (landing page) Xiaoyuan Zhou
| kjohnson1 | macOS 13.6.1 Ventura / arm64 | OK | OK | WARNINGS | OK | ||||||||||||||||
| Package 39/119 | Hostname | OS / Arch | INSTALL | BUILD | CHECK | BUILD BIN | ||||||||||||||||
| EGSEA 1.30.1 (landing page) Monther Alhamdoosh
| kjohnson1 | macOS 13.6.1 Ventura / arm64 | OK | OK | OK | OK | ||||||||||||||||
| Package 40/119 | Hostname | OS / Arch | INSTALL | BUILD | CHECK | BUILD BIN | ||||||||||||||||
| eisaR 1.14.1 (landing page) Michael Stadler
| kjohnson1 | macOS 13.6.1 Ventura / arm64 | OK | OK | OK | OK | ||||||||||||||||
| Package 41/119 | Hostname | OS / Arch | INSTALL | BUILD | CHECK | BUILD BIN | ||||||||||||||||
| EnrichmentBrowser 2.32.0 (landing page) Ludwig Geistlinger
| kjohnson1 | macOS 13.6.1 Ventura / arm64 | OK | OK | OK | OK | ||||||||||||||||
| Package 42/119 | Hostname | OS / Arch | INSTALL | BUILD | CHECK | BUILD BIN | ||||||||||||||||
| erccdashboard 1.36.0 (landing page) Sarah Munro
| kjohnson1 | macOS 13.6.1 Ventura / arm64 | OK | OK | OK | OK | ||||||||||||||||
| Package 43/119 | Hostname | OS / Arch | INSTALL | BUILD | CHECK | BUILD BIN | ||||||||||||||||
| ERSSA 1.20.0 (landing page) Zixuan Shao
| kjohnson1 | macOS 13.6.1 Ventura / arm64 | OK | OK | OK | OK | ||||||||||||||||
| Package 44/119 | Hostname | OS / Arch | INSTALL | BUILD | CHECK | BUILD BIN | ||||||||||||||||
| extraChIPs 1.6.1 (landing page) Stephen Pederson
| kjohnson1 | macOS 13.6.1 Ventura / arm64 | OK | OK | OK | OK | ||||||||||||||||
| Package 45/119 | Hostname | OS / Arch | INSTALL | BUILD | CHECK | BUILD BIN | ||||||||||||||||
| GDCRNATools 1.22.0 (landing page) Ruidong Li
| kjohnson1 | macOS 13.6.1 Ventura / arm64 | OK | OK | OK | OK | ||||||||||||||||
| Package 46/119 | Hostname | OS / Arch | INSTALL | BUILD | CHECK | BUILD BIN | ||||||||||||||||
| GenomicPlot 1.0.8 (landing page) Shuye Pu
| kjohnson1 | macOS 13.6.1 Ventura / arm64 | OK | OK | OK | OK | ||||||||||||||||
| Package 47/119 | Hostname | OS / Arch | INSTALL | BUILD | CHECK | BUILD BIN | ||||||||||||||||
| GEOexplorer 1.8.0 (landing page) Guy Hunt
| kjohnson1 | macOS 13.6.1 Ventura / arm64 | OK | OK | WARNINGS | OK | ||||||||||||||||
| Package 48/119 | Hostname | OS / Arch | INSTALL | BUILD | CHECK | BUILD BIN | ||||||||||||||||
| gg4way 1.0.2 (landing page) Benjamin I Laufer
| kjohnson1 | macOS 13.6.1 Ventura / arm64 | OK | OK | OK | OK | ||||||||||||||||
| Package 49/119 | Hostname | OS / Arch | INSTALL | BUILD | CHECK | BUILD BIN | ||||||||||||||||
| Glimma 2.12.0 (landing page) Shian Su
| kjohnson1 | macOS 13.6.1 Ventura / arm64 | OK | OK | OK | OK | ||||||||||||||||
| Package 50/119 | Hostname | OS / Arch | INSTALL | BUILD | CHECK | BUILD BIN | ||||||||||||||||
| GSEABenchmarkeR 1.22.0 (landing page) Ludwig Geistlinger
| kjohnson1 | macOS 13.6.1 Ventura / arm64 | OK | OK | OK | OK | ||||||||||||||||
| Package 51/119 | Hostname | OS / Arch | INSTALL | BUILD | CHECK | BUILD BIN | ||||||||||||||||
| hermes 1.6.1 (landing page) Daniel Sabanés Bové
| kjohnson1 | macOS 13.6.1 Ventura / arm64 | OK | OK | OK | OK | ||||||||||||||||
| Package 52/119 | Hostname | OS / Arch | INSTALL | BUILD | CHECK | BUILD BIN | ||||||||||||||||
| HTSFilter 1.42.0 (landing page) Andrea Rau
| kjohnson1 | macOS 13.6.1 Ventura / arm64 | OK | OK | OK | OK | ||||||||||||||||
| Package 53/119 | Hostname | OS / Arch | INSTALL | BUILD | CHECK | BUILD BIN | ||||||||||||||||
| icetea 1.20.0 (landing page) Vivek Bhardwaj
| kjohnson1 | macOS 13.6.1 Ventura / arm64 | OK | OK | WARNINGS | OK | ||||||||||||||||
| Package 54/119 | Hostname | OS / Arch | INSTALL | BUILD | CHECK | BUILD BIN | ||||||||||||||||
| infercnv 1.18.1 (landing page) Christophe Georgescu
| kjohnson1 | macOS 13.6.1 Ventura / arm64 | OK | OK | OK | OK | ||||||||||||||||
| Package 55/119 | Hostname | OS / Arch | INSTALL | BUILD | CHECK | BUILD BIN | ||||||||||||||||
| IntEREst 1.26.0 (landing page) Ali Oghabian
| kjohnson1 | macOS 13.6.1 Ventura / arm64 | OK | OK | OK | OK | ||||||||||||||||
| Package 56/119 | Hostname | OS / Arch | INSTALL | BUILD | CHECK | BUILD BIN | ||||||||||||||||
| iSEEde 1.0.0 (landing page) Kevin Rue-Albrecht
| kjohnson1 | macOS 13.6.1 Ventura / arm64 | OK | OK | OK | OK | ||||||||||||||||
| Package 57/119 | Hostname | OS / Arch | INSTALL | BUILD | CHECK | BUILD BIN | ||||||||||||||||
| IsoformSwitchAnalyzeR 2.2.0 (landing page) Kristoffer Vitting-Seerup
| kjohnson1 | macOS 13.6.1 Ventura / arm64 | OK | OK | OK | OK | ||||||||||||||||
| Package 58/119 | Hostname | OS / Arch | INSTALL | BUILD | CHECK | BUILD BIN | ||||||||||||||||
| KnowSeq 1.16.0 (landing page) Daniel Castillo-Secilla
| kjohnson1 | macOS 13.6.1 Ventura / arm64 | OK | OK | OK | OK | ||||||||||||||||
| Package 59/119 | Hostname | OS / Arch | INSTALL | BUILD | CHECK | BUILD BIN | ||||||||||||||||
| Maaslin2 1.16.0 (landing page) Lauren McIver
| kjohnson1 | macOS 13.6.1 Ventura / arm64 | OK | OK | OK | OK | ||||||||||||||||
| Package 60/119 | Hostname | OS / Arch | INSTALL | BUILD | CHECK | BUILD BIN | ||||||||||||||||
| mastR 1.2.3 (landing page) Jinjin Chen
| kjohnson1 | macOS 13.6.1 Ventura / arm64 | OK | OK | OK | OK | ||||||||||||||||
| Package 61/119 | Hostname | OS / Arch | INSTALL | BUILD | CHECK | BUILD BIN | ||||||||||||||||
| MEB 1.16.0 (landing page) Jiadi Zhu
| kjohnson1 | macOS 13.6.1 Ventura / arm64 | OK | OK | OK | OK | ||||||||||||||||
| Package 62/119 | Hostname | OS / Arch | INSTALL | BUILD | CHECK | BUILD BIN | ||||||||||||||||
| MEDIPS 1.54.0 (landing page) Lukas Chavez
| kjohnson1 | macOS 13.6.1 Ventura / arm64 | OK | OK | OK | OK | ||||||||||||||||
| Package 63/119 | Hostname | OS / Arch | INSTALL | BUILD | CHECK | BUILD BIN | ||||||||||||||||
| metaseqR2 1.14.0 (landing page) Panagiotis Moulos
| kjohnson1 | macOS 13.6.1 Ventura / arm64 | OK | OK | OK | OK | ||||||||||||||||
| Package 64/119 | Hostname | OS / Arch | INSTALL | BUILD | CHECK | BUILD BIN | ||||||||||||||||
| methylMnM 1.40.0 (landing page) Yan Zhou
| kjohnson1 | macOS 13.6.1 Ventura / arm64 | OK | OK | OK | OK | ||||||||||||||||
| Package 65/119 | Hostname | OS / Arch | INSTALL | BUILD | CHECK | BUILD BIN | ||||||||||||||||
| microbiomeMarker 1.8.0 (landing page) Yang Cao
| kjohnson1 | macOS 13.6.1 Ventura / arm64 | OK | OK | OK | OK | ||||||||||||||||
| Package 66/119 | Hostname | OS / Arch | INSTALL | BUILD | CHECK | BUILD BIN | ||||||||||||||||
| miloR 1.10.0 (landing page) Mike Morgan
| kjohnson1 | macOS 13.6.1 Ventura / arm64 | OK | ERROR | skipped | skipped | ||||||||||||||||
| Package 67/119 | Hostname | OS / Arch | INSTALL | BUILD | CHECK | BUILD BIN | ||||||||||||||||
| MLSeq 2.20.0 (landing page) Gokmen Zararsiz
| kjohnson1 | macOS 13.6.1 Ventura / arm64 | OK | OK | OK | OK | ||||||||||||||||
| Package 68/119 | Hostname | OS / Arch | INSTALL | BUILD | CHECK | BUILD BIN | ||||||||||||||||
| moanin 1.10.0 (landing page) Nelle Varoquaux
| kjohnson1 | macOS 13.6.1 Ventura / arm64 | OK | OK | OK | OK | ||||||||||||||||
| Package 69/119 | Hostname | OS / Arch | INSTALL | BUILD | CHECK | BUILD BIN | ||||||||||||||||
| Motif2Site 1.6.0 (landing page) Peyman Zarrineh
| kjohnson1 | macOS 13.6.1 Ventura / arm64 | OK | OK | OK | OK | ||||||||||||||||
| Package 70/119 | Hostname | OS / Arch | INSTALL | BUILD | CHECK | BUILD BIN | ||||||||||||||||
| msgbsR 1.26.0 (landing page) Benjamin Mayne
| kjohnson1 | macOS 13.6.1 Ventura / arm64 | OK | OK | OK | OK | ||||||||||||||||
| Package 71/119 | Hostname | OS / Arch | INSTALL | BUILD | CHECK | BUILD BIN | ||||||||||||||||
| msmsTests 1.40.0 (landing page) Josep Gregori i Font
| kjohnson1 | macOS 13.6.1 Ventura / arm64 | OK | OK | OK | OK | ||||||||||||||||
| Package 72/119 | Hostname | OS / Arch | INSTALL | BUILD | CHECK | BUILD BIN | ||||||||||||||||
| multiHiCcompare 1.20.0 (landing page) Mikhail Dozmorov
| kjohnson1 | macOS 13.6.1 Ventura / arm64 | OK | OK | OK | OK | ||||||||||||||||
| Package 73/119 | Hostname | OS / Arch | INSTALL | BUILD | CHECK | BUILD BIN | ||||||||||||||||
| muscat 1.16.0 (landing page) Helena L. Crowell
| kjohnson1 | macOS 13.6.1 Ventura / arm64 | OK | ERROR | skipped | skipped | ||||||||||||||||
| Package 74/119 | Hostname | OS / Arch | INSTALL | BUILD | CHECK | BUILD BIN | ||||||||||||||||
| octad 1.4.0 (landing page) E. Chekalin
| kjohnson1 | macOS 13.6.1 Ventura / arm64 | OK | OK | OK | OK | ||||||||||||||||
| Package 75/119 | Hostname | OS / Arch | INSTALL | BUILD | CHECK | BUILD BIN | ||||||||||||||||
| PathoStat 1.28.0 (landing page) Solaiappan Manimaran
| kjohnson1 | macOS 13.6.1 Ventura / arm64 | OK | OK | OK | OK | ||||||||||||||||
| Package 76/119 | Hostname | OS / Arch | INSTALL | BUILD | CHECK | BUILD BIN | ||||||||||||||||
| phantasus 1.22.2 (landing page) Alexey Sergushichev
| kjohnson1 | macOS 13.6.1 Ventura / arm64 | OK | OK | ERROR | OK | ||||||||||||||||
| Package 77/119 | Hostname | OS / Arch | INSTALL | BUILD | CHECK | BUILD BIN | ||||||||||||||||
| PhIPData 1.10.0 (landing page) Athena Chen
| kjohnson1 | macOS 13.6.1 Ventura / arm64 | OK | OK | OK | OK | ||||||||||||||||
| Package 78/119 | Hostname | OS / Arch | INSTALL | BUILD | CHECK | BUILD BIN | ||||||||||||||||
| ppcseq 1.10.0 (landing page) Stefano Mangiola
| kjohnson1 | macOS 13.6.1 Ventura / arm64 | OK | OK | OK | OK | ||||||||||||||||
| Package 79/119 | Hostname | OS / Arch | INSTALL | BUILD | CHECK | BUILD BIN | ||||||||||||||||
| PROPER 1.34.0 (landing page) Hao Wu
| kjohnson1 | macOS 13.6.1 Ventura / arm64 | OK | OK | WARNINGS | OK | ||||||||||||||||
| Package 80/119 | Hostname | OS / Arch | INSTALL | BUILD | CHECK | BUILD BIN | ||||||||||||||||
| psichomics 1.28.1 (landing page) Nuno Saraiva-Agostinho
| kjohnson1 | macOS 13.6.1 Ventura / arm64 | OK | OK | OK | OK | ||||||||||||||||
| Package 81/119 | Hostname | OS / Arch | INSTALL | BUILD | CHECK | BUILD BIN | ||||||||||||||||
| RCM 1.18.0 (landing page) Stijn Hawinkel
| kjohnson1 | macOS 13.6.1 Ventura / arm64 | OK | OK | OK | OK | ||||||||||||||||
| Package 82/119 | Hostname | OS / Arch | INSTALL | BUILD | CHECK | BUILD BIN | ||||||||||||||||
| regsplice 1.28.1 (landing page) Lukas M. Weber
| kjohnson1 | macOS 13.6.1 Ventura / arm64 | OK | OK | OK | OK | ||||||||||||||||
| Package 83/119 | Hostname | OS / Arch | INSTALL | BUILD | CHECK | BUILD BIN | ||||||||||||||||
| Repitools 1.48.0 (landing page) Mark Robinson
| kjohnson1 | macOS 13.6.1 Ventura / arm64 | OK | OK | WARNINGS | OK | ||||||||||||||||
| Package 84/119 | Hostname | OS / Arch | INSTALL | BUILD | CHECK | BUILD BIN | ||||||||||||||||
| ReportingTools 2.42.3 (landing page) Jason A. Hackney
| kjohnson1 | macOS 13.6.1 Ventura / arm64 | OK | OK | OK | OK | ||||||||||||||||
| Package 85/119 | Hostname | OS / Arch | INSTALL | BUILD | CHECK | BUILD BIN | ||||||||||||||||
| RNAseqCovarImpute 1.0.2 (landing page) Brennan Baker
| kjohnson1 | macOS 13.6.1 Ventura / arm64 | OK | OK | OK | OK | ||||||||||||||||
| Package 86/119 | Hostname | OS / Arch | INSTALL | BUILD | CHECK | BUILD BIN | ||||||||||||||||
| RnaSeqSampleSize 2.12.0 (landing page) Shilin Zhao Developer
| kjohnson1 | macOS 13.6.1 Ventura / arm64 | OK | OK | OK | OK | ||||||||||||||||
| Package 87/119 | Hostname | OS / Arch | INSTALL | BUILD | CHECK | BUILD BIN | ||||||||||||||||
| ROSeq 1.14.0 (landing page) Krishan Gupta
| kjohnson1 | macOS 13.6.1 Ventura / arm64 | OK | OK | WARNINGS | OK | ||||||||||||||||
| Package 88/119 | Hostname | OS / Arch | INSTALL | BUILD | CHECK | BUILD BIN | ||||||||||||||||
| RUVSeq 1.36.0 (landing page) Davide Risso
| kjohnson1 | macOS 13.6.1 Ventura / arm64 | OK | OK | OK | OK | ||||||||||||||||
| Package 89/119 | Hostname | OS / Arch | INSTALL | BUILD | CHECK | BUILD BIN | ||||||||||||||||
| Rvisdiff 1.0.0 (landing page) David Barrios
| kjohnson1 | macOS 13.6.1 Ventura / arm64 | OK | OK | OK | OK | ||||||||||||||||
| Package 90/119 | Hostname | OS / Arch | INSTALL | BUILD | CHECK | BUILD BIN | ||||||||||||||||
| scCB2 1.12.0 (landing page) Zijian Ni
| kjohnson1 | macOS 13.6.1 Ventura / arm64 | OK | OK | OK | OK | ||||||||||||||||
| Package 91/119 | Hostname | OS / Arch | INSTALL | BUILD | CHECK | BUILD BIN | ||||||||||||||||
| scde 2.30.0 (landing page) Evan Biederstedt
| kjohnson1 | macOS 13.6.1 Ventura / arm64 | OK | OK | WARNINGS | OK | ||||||||||||||||
| Package 92/119 | Hostname | OS / Arch | INSTALL | BUILD | CHECK | BUILD BIN | ||||||||||||||||
| scone 1.26.0 (landing page) Davide Risso
| kjohnson1 | macOS 13.6.1 Ventura / arm64 | OK | OK | OK | OK | ||||||||||||||||
| Package 93/119 | Hostname | OS / Arch | INSTALL | BUILD | CHECK | BUILD BIN | ||||||||||||||||
| scran 1.30.2 (landing page) Aaron Lun
| kjohnson1 | macOS 13.6.1 Ventura / arm64 | OK | ERROR | skipped | skipped | ||||||||||||||||
| Package 94/119 | Hostname | OS / Arch | INSTALL | BUILD | CHECK | BUILD BIN | ||||||||||||||||
| ScreenR 1.4.0 (landing page) Emanuel Michele Soda
| kjohnson1 | macOS 13.6.1 Ventura / arm64 | OK | OK | OK | OK | ||||||||||||||||
| Package 95/119 | Hostname | OS / Arch | INSTALL | BUILD | CHECK | BUILD BIN | ||||||||||||||||
| SEtools 1.16.0 (landing page) Pierre-Luc Germain
| kjohnson1 | macOS 13.6.1 Ventura / arm64 | OK | OK | OK | OK | ||||||||||||||||
| Package 96/119 | Hostname | OS / Arch | INSTALL | BUILD | CHECK | BUILD BIN | ||||||||||||||||
| SIMD 1.20.0 (landing page) Jiadi Zhu
| kjohnson1 | macOS 13.6.1 Ventura / arm64 | OK | OK | OK | OK | ||||||||||||||||
| Package 97/119 | Hostname | OS / Arch | INSTALL | BUILD | CHECK | BUILD BIN | ||||||||||||||||
| SingleCellSignalR 1.14.0 (landing page) Jacques Colinge Developer
| kjohnson1 | macOS 13.6.1 Ventura / arm64 | OK | OK | WARNINGS | OK | ||||||||||||||||
| Package 98/119 | Hostname | OS / Arch | INSTALL | BUILD | CHECK | BUILD BIN | ||||||||||||||||
| singscore 1.22.0 (landing page) Malvika Kharbanda
| kjohnson1 | macOS 13.6.1 Ventura / arm64 | OK | OK | OK | OK | ||||||||||||||||
| Package 99/119 | Hostname | OS / Arch | INSTALL | BUILD | CHECK | BUILD BIN | ||||||||||||||||
| sparrow 1.8.0 (landing page) Steve Lianoglou
| kjohnson1 | macOS 13.6.1 Ventura / arm64 | OK | OK | OK | OK | ||||||||||||||||
| Package 100/119 | Hostname | OS / Arch | INSTALL | BUILD | CHECK | BUILD BIN | ||||||||||||||||
| spatialHeatmap 2.8.5 (landing page) Jianhai Zhang
| kjohnson1 | macOS 13.6.1 Ventura / arm64 | OK | ERROR | skipped | skipped | ||||||||||||||||
| Package 101/119 | Hostname | OS / Arch | INSTALL | BUILD | CHECK | BUILD BIN | ||||||||||||||||
| speckle 1.2.0 (landing page) Belinda Phipson
| kjohnson1 | macOS 13.6.1 Ventura / arm64 | OK | OK | OK | OK | ||||||||||||||||
| Package 102/119 | Hostname | OS / Arch | INSTALL | BUILD | CHECK | BUILD BIN | ||||||||||||||||
| splatter 1.26.0 (landing page) Luke Zappia
| kjohnson1 | macOS 13.6.1 Ventura / arm64 | OK | OK | OK | OK | ||||||||||||||||
| Package 103/119 | Hostname | OS / Arch | INSTALL | BUILD | CHECK | BUILD BIN | ||||||||||||||||
| SPsimSeq 1.12.0 (landing page) Joris Meys
| kjohnson1 | macOS 13.6.1 Ventura / arm64 | OK | OK | OK | OK | ||||||||||||||||
| Package 104/119 | Hostname | OS / Arch | INSTALL | BUILD | CHECK | BUILD BIN | ||||||||||||||||
| srnadiff 1.22.2 (landing page) Zytnicki Matthias
| kjohnson1 | macOS 13.6.1 Ventura / arm64 | OK | OK | WARNINGS | OK | ||||||||||||||||
| Package 105/119 | Hostname | OS / Arch | INSTALL | BUILD | CHECK | BUILD BIN | ||||||||||||||||
| sSNAPPY 1.6.2 (landing page) Wenjun Liu
| kjohnson1 | macOS 13.6.1 Ventura / arm64 | OK | OK | OK | OK | ||||||||||||||||
| Package 106/119 | Hostname | OS / Arch | INSTALL | BUILD | CHECK | BUILD BIN | ||||||||||||||||
| standR 1.6.0 (landing page) Ning Liu
| kjohnson1 | macOS 13.6.1 Ventura / arm64 | OK | OK | OK | OK | ||||||||||||||||
| Package 107/119 | Hostname | OS / Arch | INSTALL | BUILD | CHECK | BUILD BIN | ||||||||||||||||
| STATegRa 1.38.0 (landing page) David Gomez-Cabrero
| kjohnson1 | macOS 13.6.1 Ventura / arm64 | OK | OK | OK | OK | ||||||||||||||||
| Package 108/119 | Hostname | OS / Arch | INSTALL | BUILD | CHECK | BUILD BIN | ||||||||||||||||
| sva 3.50.0 (landing page) Jeffrey T. Leek
| kjohnson1 | macOS 13.6.1 Ventura / arm64 | OK | OK | OK | NA | ||||||||||||||||
| Package 109/119 | Hostname | OS / Arch | INSTALL | BUILD | CHECK | BUILD BIN | ||||||||||||||||
| TBSignatureProfiler 1.14.0 (landing page) Aubrey R. Odom
| kjohnson1 | macOS 13.6.1 Ventura / arm64 | OK | OK | OK | NA | ||||||||||||||||
| Package 110/119 | Hostname | OS / Arch | INSTALL | BUILD | CHECK | BUILD BIN | ||||||||||||||||
| TCC 1.42.0 (landing page) Jianqiang Sun
| kjohnson1 | macOS 13.6.1 Ventura / arm64 | OK | OK | OK | NA | ||||||||||||||||
| Package 111/119 | Hostname | OS / Arch | INSTALL | BUILD | CHECK | BUILD BIN | ||||||||||||||||
| TCseq 1.26.0 (landing page) Mengjun Wu
| kjohnson1 | macOS 13.6.1 Ventura / arm64 | OK | OK | WARNINGS | NA | ||||||||||||||||
| Package 112/119 | Hostname | OS / Arch | INSTALL | BUILD | CHECK | BUILD BIN | ||||||||||||||||
| tradeSeq 1.16.0 (landing page) Hector Roux de Bezieux
| kjohnson1 | macOS 13.6.1 Ventura / arm64 | OK | OK | OK | NA | ||||||||||||||||
| Package 113/119 | Hostname | OS / Arch | INSTALL | BUILD | CHECK | BUILD BIN | ||||||||||||||||
| tRanslatome 1.40.0 (landing page) Toma Tebaldi
| kjohnson1 | macOS 13.6.1 Ventura / arm64 | OK | OK | OK | NA | ||||||||||||||||
| Package 114/119 | Hostname | OS / Arch | INSTALL | BUILD | CHECK | BUILD BIN | ||||||||||||||||
| treekoR 1.10.0 (landing page) Adam Chan
| kjohnson1 | macOS 13.6.1 Ventura / arm64 | OK | OK | OK | NA | ||||||||||||||||
| Package 115/119 | Hostname | OS / Arch | INSTALL | BUILD | CHECK | BUILD BIN | ||||||||||||||||
| tweeDEseq 1.48.0 (landing page) Dolors Pelegri-Siso
| kjohnson1 | macOS 13.6.1 Ventura / arm64 | OK | OK | WARNINGS | NA | ||||||||||||||||
| Package 116/119 | Hostname | OS / Arch | INSTALL | BUILD | CHECK | BUILD BIN | ||||||||||||||||
| vidger 1.22.0 (landing page) Brandon Monier
| kjohnson1 | macOS 13.6.1 Ventura / arm64 | OK | OK | OK | NA | ||||||||||||||||
| Package 117/119 | Hostname | OS / Arch | INSTALL | BUILD | CHECK | BUILD BIN | ||||||||||||||||
| xcore 1.6.0 (landing page) Maciej Migdał
| kjohnson1 | macOS 13.6.1 Ventura / arm64 | OK | OK | OK | NA | ||||||||||||||||
| Package 118/119 | Hostname | OS / Arch | INSTALL | BUILD | CHECK | BUILD BIN | ||||||||||||||||
| yarn 1.28.0 (landing page) Joseph N Paulson
| kjohnson1 | macOS 13.6.1 Ventura / arm64 | OK | OK | OK | NA | ||||||||||||||||
| Package 119/119 | Hostname | OS / Arch | INSTALL | BUILD | CHECK | BUILD BIN | ||||||||||||||||
| zinbwave 1.24.0 (landing page) Davide Risso
| kjohnson1 | macOS 13.6.1 Ventura / arm64 | OK | OK | OK | NA | ||||||||||||||||