Back to Mac ARM64 build report for BioC 3.18 |
|
This page was generated on 2024-04-18 11:32:06 -0400 (Thu, 18 Apr 2024).
Hostname | OS | Arch (*) | R version | Installed pkgs |
---|---|---|---|---|
kjohnson1 | macOS 13.6.1 Ventura | arm64 | 4.3.3 (2024-02-29) -- "Angel Food Cake" | 4388 |
Click on any hostname to see more info about the system (e.g. compilers) (*) as reported by 'uname -p', except on Windows and Mac OS X |
Package 153/2266 | Hostname | OS / Arch | INSTALL | BUILD | CHECK | BUILD BIN | ||||||||
benchdamic 1.8.2 (landing page) Matteo Calgaro
| kjohnson1 | macOS 13.6.1 Ventura / arm64 | OK | OK | OK | OK | ||||||||
To the developers/maintainers of the benchdamic package: - Use the following Renviron settings to reproduce errors and warnings. - If 'R CMD check' started to fail recently on the Linux builder(s) over a missing dependency, add the missing dependency to 'Suggests:' in your DESCRIPTION file. See Renviron.bioc for more information. |
Package: benchdamic |
Version: 1.8.2 |
Command: /Library/Frameworks/R.framework/Resources/bin/R CMD check --install=check:benchdamic.install-out.txt --library=/Library/Frameworks/R.framework/Resources/library --no-vignettes --timings benchdamic_1.8.2.tar.gz |
StartedAt: 2024-04-17 06:42:35 -0400 (Wed, 17 Apr 2024) |
EndedAt: 2024-04-17 06:57:33 -0400 (Wed, 17 Apr 2024) |
EllapsedTime: 898.3 seconds |
RetCode: 0 |
Status: OK |
CheckDir: benchdamic.Rcheck |
Warnings: 0 |
############################################################################## ############################################################################## ### ### Running command: ### ### /Library/Frameworks/R.framework/Resources/bin/R CMD check --install=check:benchdamic.install-out.txt --library=/Library/Frameworks/R.framework/Resources/library --no-vignettes --timings benchdamic_1.8.2.tar.gz ### ############################################################################## ############################################################################## * using log directory ‘/Users/biocbuild/bbs-3.18-bioc-mac-arm64/meat/benchdamic.Rcheck’ * using R version 4.3.3 (2024-02-29) * using platform: aarch64-apple-darwin20 (64-bit) * R was compiled by Apple clang version 14.0.0 (clang-1400.0.29.202) GNU Fortran (GCC) 12.2.0 * running under: macOS Ventura 13.6.1 * using session charset: UTF-8 * using option ‘--no-vignettes’ * checking for file ‘benchdamic/DESCRIPTION’ ... OK * checking extension type ... Package * this is package ‘benchdamic’ version ‘1.8.2’ * package encoding: UTF-8 * checking package namespace information ... OK * checking package dependencies ... OK * checking if this is a source package ... OK * checking if there is a namespace ... OK * checking for hidden files and directories ... OK * checking for portable file names ... OK * checking for sufficient/correct file permissions ... OK * checking whether package ‘benchdamic’ can be installed ... OK * checking installed package size ... OK * checking package directory ... OK * checking ‘build’ directory ... OK * checking DESCRIPTION meta-information ... OK * checking top-level files ... OK * checking for left-over files ... OK * checking index information ... OK * checking package subdirectories ... OK * checking R files for non-ASCII characters ... OK * checking R files for syntax errors ... OK * checking whether the package can be loaded ... OK * checking whether the package can be loaded with stated dependencies ... OK * checking whether the package can be unloaded cleanly ... OK * checking whether the namespace can be loaded with stated dependencies ... OK * checking whether the namespace can be unloaded cleanly ... OK * checking dependencies in R code ... OK * checking S3 generic/method consistency ... OK * checking replacement functions ... OK * checking foreign function calls ... OK * checking R code for possible problems ... OK * checking Rd files ... OK * checking Rd metadata ... OK * checking Rd cross-references ... OK * checking for missing documentation entries ... OK * checking for code/documentation mismatches ... OK * checking Rd \usage sections ... OK * checking Rd contents ... OK * checking for unstated dependencies in examples ... OK * checking contents of ‘data’ directory ... OK * checking data for non-ASCII characters ... OK * checking LazyData ... OK * checking data for ASCII and uncompressed saves ... OK * checking files in ‘vignettes’ ... OK * checking examples ... OK Examples with CPU (user + system) or elapsed time > 5s user system elapsed DA_ALDEx2 6.304 0.691 7.107 areaCAT 5.933 0.091 6.129 * checking for unstated dependencies in ‘tests’ ... OK * checking tests ... Running ‘testthat.R’ OK * checking for unstated dependencies in vignettes ... OK * checking package vignettes in ‘inst/doc’ ... OK * checking running R code from vignettes ... SKIPPED * checking re-building of vignette outputs ... SKIPPED * checking PDF version of manual ... OK * DONE Status: OK
benchdamic.Rcheck/00install.out
############################################################################## ############################################################################## ### ### Running command: ### ### /Library/Frameworks/R.framework/Resources/bin/R CMD INSTALL benchdamic ### ############################################################################## ############################################################################## * installing to library ‘/Library/Frameworks/R.framework/Versions/4.3-arm64/Resources/library’ * installing *source* package ‘benchdamic’ ... ** using staged installation ** R ** data *** moving datasets to lazyload DB ** inst ** byte-compile and prepare package for lazy loading ** help *** installing help indices ** building package indices ** installing vignettes ** testing if installed package can be loaded from temporary location ** testing if installed package can be loaded from final location ** testing if installed package keeps a record of temporary installation path * DONE (benchdamic)
benchdamic.Rcheck/tests/testthat.Rout
R version 4.3.3 (2024-02-29) -- "Angel Food Cake" Copyright (C) 2024 The R Foundation for Statistical Computing Platform: aarch64-apple-darwin20 (64-bit) R is free software and comes with ABSOLUTELY NO WARRANTY. You are welcome to redistribute it under certain conditions. Type 'license()' or 'licence()' for distribution details. R is a collaborative project with many contributors. Type 'contributors()' for more information and 'citation()' on how to cite R or R packages in publications. Type 'demo()' for some demos, 'help()' for on-line help, or 'help.start()' for an HTML browser interface to help. Type 'q()' to quit R. > library(testthat) > library(benchdamic) > > test_check("benchdamic") |------------(25%)----------(50%)----------(75%)----------| |------------(25%)----------(50%)----------(75%)----------| |------------(25%)----------(50%)----------(75%)----------| |------------(25%)----------(50%)----------(75%)----------| |------------(25%)----------(50%)----------(75%)----------| [ FAIL 0 | WARN 0 | SKIP 1 | PASS 310 ] ══ Skipped tests (1) ═══════════════════════════════════════════════════════════ • empty test (1): 'test_DA_paired.R:3:1' [ FAIL 0 | WARN 0 | SKIP 1 | PASS 310 ] > > proc.time() user system elapsed 177.828 3.596 234.236
benchdamic.Rcheck/benchdamic-Ex.timings
name | user | system | elapsed | |
CAT | 0.007 | 0.000 | 0.008 | |
DA_ALDEx2 | 6.304 | 0.691 | 7.107 | |
DA_ANCOM | 3.827 | 0.038 | 3.932 | |
DA_DESeq2 | 3.035 | 0.030 | 3.123 | |
DA_MAST | 1.468 | 0.032 | 1.540 | |
DA_Maaslin2 | 0.296 | 0.041 | 0.375 | |
DA_NOISeq | 2.043 | 0.016 | 2.103 | |
DA_Seurat | 3.605 | 0.045 | 3.716 | |
DA_ZicoSeq | 0.658 | 0.019 | 0.687 | |
DA_basic | 0.024 | 0.002 | 0.025 | |
DA_dearseq | 0.073 | 0.007 | 0.081 | |
DA_edgeR | 0.302 | 0.016 | 0.325 | |
DA_limma | 0.090 | 0.004 | 0.096 | |
DA_linda | 0.036 | 0.003 | 0.040 | |
DA_metagenomeSeq | 0.285 | 0.015 | 0.305 | |
DA_mixMC | 0.473 | 0.033 | 0.532 | |
RMSE | 0.001 | 0.001 | 0.001 | |
addKnowledge | 0.203 | 0.006 | 0.211 | |
areaCAT | 5.933 | 0.091 | 6.129 | |
checkNormalization | 0.001 | 0.000 | 0.000 | |
createColors | 0.007 | 0.000 | 0.007 | |
createConcordance | 4.544 | 0.101 | 4.722 | |
createEnrichment | 0.248 | 0.007 | 0.258 | |
createMocks | 0.003 | 0.002 | 0.004 | |
createPositives | 0.824 | 0.018 | 0.850 | |
createSplits | 0.030 | 0.003 | 0.034 | |
createTIEC | 2.612 | 0.047 | 2.713 | |
enrichmentTest | 0.115 | 0.004 | 0.121 | |
extractDA | 0.167 | 0.004 | 0.172 | |
extractStatistics | 0.165 | 0.005 | 0.171 | |
fitDM | 0.031 | 0.001 | 0.034 | |
fitHURDLE | 0.799 | 0.007 | 0.817 | |
fitModels | 2.478 | 0.048 | 2.550 | |
fitNB | 0.043 | 0.000 | 0.045 | |
fitZIG | 0.051 | 0.000 | 0.052 | |
fitZINB | 0.413 | 0.004 | 0.425 | |
getDA | 0.078 | 0.009 | 0.088 | |
getPositives | 0.078 | 0.004 | 0.083 | |
getStatistics | 0.071 | 0.006 | 0.079 | |
get_counts_metadata | 0.179 | 0.003 | 0.183 | |
iterative_ordering | 0.011 | 0.002 | 0.013 | |
meanDifferences | 0.003 | 0.001 | 0.003 | |
norm_CSS | 0.065 | 0.001 | 0.067 | |
norm_DESeq2 | 0.517 | 0.005 | 0.524 | |
norm_TSS | 0.031 | 0.000 | 0.033 | |
norm_edgeR | 0.036 | 0.001 | 0.037 | |
plotConcordance | 4.665 | 0.071 | 4.773 | |
plotContingency | 1.085 | 0.017 | 1.115 | |
plotEnrichment | 0.999 | 0.012 | 1.026 | |
plotFDR | 2.164 | 0.033 | 2.232 | |
plotFPR | 2.275 | 0.032 | 2.342 | |
plotKS | 1.975 | 0.033 | 2.073 | |
plotLogP | 1.917 | 0.045 | 2.126 | |
plotMD | 3.526 | 0.044 | 3.742 | |
plotMutualFindings | 1.072 | 0.017 | 1.131 | |
plotPositives | 0.705 | 0.011 | 0.749 | |
plotQQ | 2.102 | 0.034 | 2.199 | |
plotRMSE | 2.843 | 0.026 | 2.908 | |
prepareObserved | 0.002 | 0.000 | 0.002 | |
runDA | 0.572 | 0.004 | 0.589 | |
runMocks | 0.707 | 0.015 | 0.735 | |
runNormalizations | 0.489 | 0.003 | 0.504 | |
runSplits | 3.627 | 0.064 | 3.745 | |
setNormalizations | 0.000 | 0.000 | 0.001 | |
set_ALDEx2 | 0.006 | 0.000 | 0.006 | |
set_ANCOM | 0.008 | 0.001 | 0.010 | |
set_DESeq2 | 0.008 | 0.001 | 0.009 | |
set_MAST | 0.003 | 0.000 | 0.004 | |
set_Maaslin2 | 0.004 | 0.000 | 0.004 | |
set_NOISeq | 0.004 | 0.001 | 0.006 | |
set_Seurat | 0.008 | 0.001 | 0.009 | |
set_ZicoSeq | 0.007 | 0.000 | 0.007 | |
set_basic | 0.002 | 0.000 | 0.003 | |
set_dearseq | 0.002 | 0.001 | 0.003 | |
set_edgeR | 0.011 | 0.000 | 0.012 | |
set_limma | 0.007 | 0.000 | 0.008 | |
set_linda | 0.005 | 0.001 | 0.006 | |
set_metagenomeSeq | 0.005 | 0.000 | 0.005 | |
set_mixMC | 0.003 | 0.000 | 0.002 | |
weights_ZINB | 0.399 | 0.003 | 0.406 | |